BEGIN:VCALENDAR
VERSION:2.0
PRODID:-//Earth Artisan &amp; Outfitter - ECPv6.0.11//NONSGML v1.0//EN
CALSCALE:GREGORIAN
METHOD:PUBLISH
X-WR-CALNAME:Earth Artisan &amp; Outfitter
X-ORIGINAL-URL:https://earthartout.com
X-WR-CALDESC:Events for Earth Artisan &amp; Outfitter
REFRESH-INTERVAL;VALUE=DURATION:PT1H
X-Robots-Tag:noindex
X-PUBLISHED-TTL:PT1H
BEGIN:VTIMEZONE
TZID:America/New_York
BEGIN:DAYLIGHT
TZOFFSETFROM:-0500
TZOFFSETTO:-0400
TZNAME:EDT
DTSTART:20230312T070000
END:DAYLIGHT
BEGIN:STANDARD
TZOFFSETFROM:-0400
TZOFFSETTO:-0500
TZNAME:EST
DTSTART:20231105T060000
END:STANDARD
END:VTIMEZONE
BEGIN:VEVENT
DTSTART;VALUE=DATE:20230428
DTEND;VALUE=DATE:20230429
DTSTAMP:20260420T123503
CREATED:20230313T170811Z
LAST-MODIFIED:20230313T172501Z
UID:2132-1682640000-1682726399@earthartout.com
SUMMARY:Arbor Day
DESCRIPTION:Did you know Pennsylvania’s state tree is the Eastern Hemlock? Go find one and hug it! Say thank you to all the trees for their life sustaining ways: clean air\, shade\, shelter\, habitat\, erosion control and so much more! Learn more about trees and Arbor Day at arborday.org. Have questions about trees? Ask Earth Artisan & Outfitters resident ISA Certified Arborist Kenny Miller. This weekend: gather tree guides\, journals\, and sustainably harvested tree branch colored pencils at Earth to document your new relationship with nature! SALE on all remaining Arbor Day & Tree In A Box planting kits! Stay tuned for details on Earth Artisan & Outfitters Arbor Day Tree Sale on our social media pages!
URL:https://earthartout.com/event/arbor-day-2/
LOCATION:PA
CATEGORIES:Calendar Event
END:VEVENT
BEGIN:VEVENT
DTSTART;TZID=America/New_York:20230428T110000
DTEND;TZID=America/New_York:20230428T160000
DTSTAMP:20260420T123503
CREATED:20230313T172633Z
LAST-MODIFIED:20230323T143508Z
UID:2143-1682679600-1682697600@earthartout.com
SUMMARY:Arbor Day Celebration
DESCRIPTION:Arbor Day is a nationally recognized day to celebrate the trees. Did you know Pennsylvania’s state tree is the Eastern Hemlock? Go find one and hug it! Say thank you to all the trees for their life sustaining ways: clean air\, shade\, shelter\, habitat\, erosion control and so much more! Learn more about trees and Arbor Day at arborday.org. This weekend: gather tree guides\, journals\, and sustainably harvested tree branch pencils at Earth to document your new relationship with nature!
URL:https://earthartout.com/event/celebrate-the-trees-3/
LOCATION:Earth Artisan & Outfitter\, 37 W. Chapel Ave.\, Carlisle\, PA\, 17013\, United States
CATEGORIES:Earthy Activity
END:VEVENT
END:VCALENDAR