BEGIN:VCALENDAR
VERSION:2.0
PRODID:-//Earth Artisan &amp; Outfitter - ECPv6.0.11//NONSGML v1.0//EN
CALSCALE:GREGORIAN
METHOD:PUBLISH
X-ORIGINAL-URL:https://earthartout.com
X-WR-CALDESC:Events for Earth Artisan &amp; Outfitter
REFRESH-INTERVAL;VALUE=DURATION:PT1H
X-Robots-Tag:noindex
X-PUBLISHED-TTL:PT1H
BEGIN:VTIMEZONE
TZID:America/New_York
BEGIN:DAYLIGHT
TZOFFSETFROM:-0500
TZOFFSETTO:-0400
TZNAME:EDT
DTSTART:20230312T070000
END:DAYLIGHT
BEGIN:STANDARD
TZOFFSETFROM:-0400
TZOFFSETTO:-0500
TZNAME:EST
DTSTART:20231105T060000
END:STANDARD
END:VTIMEZONE
BEGIN:VEVENT
DTSTART;VALUE=DATE:20230501
DTEND;VALUE=DATE:20230502
DTSTAMP:20260420T123822
CREATED:20230313T173327Z
LAST-MODIFIED:20230313T173327Z
UID:2148-1682899200-1682985599@earthartout.com
SUMMARY:May Day
DESCRIPTION:A beautiful time to celebrate the season with dancing and singing through the flowers\, star gazing and giving thanks for the bounty growing beneath your feet and the possibilities soaring overhead.
URL:https://earthartout.com/event/may-day-2/
LOCATION:PA
CATEGORIES:Calendar Event
END:VEVENT
END:VCALENDAR