BEGIN:VCALENDAR
VERSION:2.0
PRODID:-//Earth Artisan &amp; Outfitter - ECPv6.0.11//NONSGML v1.0//EN
CALSCALE:GREGORIAN
METHOD:PUBLISH
X-ORIGINAL-URL:https://earthartout.com
X-WR-CALDESC:Events for Earth Artisan &amp; Outfitter
REFRESH-INTERVAL;VALUE=DURATION:PT1H
X-Robots-Tag:noindex
X-PUBLISHED-TTL:PT1H
BEGIN:VTIMEZONE
TZID:America/New_York
BEGIN:DAYLIGHT
TZOFFSETFROM:-0500
TZOFFSETTO:-0400
TZNAME:EDT
DTSTART:20230312T070000
END:DAYLIGHT
BEGIN:STANDARD
TZOFFSETFROM:-0400
TZOFFSETTO:-0500
TZNAME:EST
DTSTART:20231105T060000
END:STANDARD
END:VTIMEZONE
BEGIN:VEVENT
DTSTART;VALUE=DATE:20230521
DTEND;VALUE=DATE:20230522
DTSTAMP:20260420T140322
CREATED:20230313T173839Z
LAST-MODIFIED:20230313T173839Z
UID:2156-1684627200-1684713599@earthartout.com
SUMMARY:Congrats to Dickinson College Grads
DESCRIPTION:
URL:https://earthartout.com/event/congrats-to-dickinson-college-grads/
LOCATION:PA
CATEGORIES:Calendar Event
END:VEVENT
BEGIN:VEVENT
DTSTART;TZID=America/New_York:20230521T110000
DTEND;TZID=America/New_York:20230521T160000
DTSTAMP:20260420T140322
CREATED:20230313T174036Z
LAST-MODIFIED:20230323T143546Z
UID:2160-1684666800-1684684800@earthartout.com
SUMMARY:Oh The Places You Will Go
DESCRIPTION:Student appreciation days! New adventures are on the horizon\, gather art\, goods & gear at Earth then hit the trail! Show your student id and get 10% off in-store purchases\, some exclusions apply. Best wishes to all!
URL:https://earthartout.com/event/oh-the-places-you-will-go-4/
LOCATION:Earth Artisan & Outfitter\, 37 W. Chapel Ave.\, Carlisle\, PA\, 17013\, United States
CATEGORIES:Earthy Activity
END:VEVENT
END:VCALENDAR