BEGIN:VCALENDAR
VERSION:2.0
PRODID:-//Earth Artisan &amp; Outfitter - ECPv6.0.11//NONSGML v1.0//EN
CALSCALE:GREGORIAN
METHOD:PUBLISH
X-WR-CALNAME:Earth Artisan &amp; Outfitter
X-ORIGINAL-URL:https://earthartout.com
X-WR-CALDESC:Events for Earth Artisan &amp; Outfitter
REFRESH-INTERVAL;VALUE=DURATION:PT1H
X-Robots-Tag:noindex
X-PUBLISHED-TTL:PT1H
BEGIN:VTIMEZONE
TZID:America/New_York
BEGIN:DAYLIGHT
TZOFFSETFROM:-0500
TZOFFSETTO:-0400
TZNAME:EDT
DTSTART:20230312T070000
END:DAYLIGHT
BEGIN:STANDARD
TZOFFSETFROM:-0400
TZOFFSETTO:-0500
TZNAME:EST
DTSTART:20231105T060000
END:STANDARD
END:VTIMEZONE
BEGIN:VEVENT
DTSTART;VALUE=DATE:20230610
DTEND;VALUE=DATE:20230611
DTSTAMP:20260420T153009
CREATED:20230313T175201Z
LAST-MODIFIED:20230323T143705Z
UID:2178-1686355200-1686441599@earthartout.com
SUMMARY:Dude's Day!
DESCRIPTION:We know it’s a tad early but they’re well worth it! In honor of Father’s Day coming up on June 18\, we officially declare June 10 Dude’s Day! Celebrate the inspiring fellas in your life with specials in the shop on our earth-based art\, goods & gear! This will also be your last chance to stock up for summer adventure while you’re here\, as Earth will be closing for the season\, reopening in September!
URL:https://earthartout.com/event/dudes-day-last-day-shop-is-open/
LOCATION:Earth Artisan & Outfitter\, 37 W. Chapel Ave.\, Carlisle\, PA\, 17013\, United States
CATEGORIES:Earthy Activity
END:VEVENT
BEGIN:VEVENT
DTSTART;TZID=America/New_York:20230610T110000
DTEND;TZID=America/New_York:20230610T160000
DTSTAMP:20260420T153009
CREATED:20230313T175026Z
LAST-MODIFIED:20230315T180545Z
UID:2176-1686394800-1686412800@earthartout.com
SUMMARY:Get Ready for Summer Sale!
DESCRIPTION:We’re rounding out Spring and getting ready for Summer adventures with a sweet SALE in the shop on your favorite goods & gear for mindful living & adventuring! Don’t forget\, we close for the season June 11\, with only hours by chance and pre-scheduled provision pickups to follow\, so stock up now on supplies now to carry you through til we meet again in September!
URL:https://earthartout.com/event/get-ready-for-summer-sale-4/
LOCATION:Earth Artisan & Outfitter\, 37 W. Chapel Ave.\, Carlisle\, PA\, 17013\, United States
CATEGORIES:In-Store Sale
END:VEVENT
END:VCALENDAR