BEGIN:VCALENDAR
VERSION:2.0
PRODID:-//Earth Artisan &amp; Outfitter - ECPv6.0.11//NONSGML v1.0//EN
CALSCALE:GREGORIAN
METHOD:PUBLISH
X-WR-CALNAME:Earth Artisan &amp; Outfitter
X-ORIGINAL-URL:https://earthartout.com
X-WR-CALDESC:Events for Earth Artisan &amp; Outfitter
REFRESH-INTERVAL;VALUE=DURATION:PT1H
X-Robots-Tag:noindex
X-PUBLISHED-TTL:PT1H
BEGIN:VTIMEZONE
TZID:America/New_York
BEGIN:DAYLIGHT
TZOFFSETFROM:-0500
TZOFFSETTO:-0400
TZNAME:EDT
DTSTART:20230312T070000
END:DAYLIGHT
BEGIN:STANDARD
TZOFFSETFROM:-0400
TZOFFSETTO:-0500
TZNAME:EST
DTSTART:20231105T060000
END:STANDARD
END:VTIMEZONE
BEGIN:VEVENT
DTSTART;VALUE=DATE:20230611
DTEND;VALUE=DATE:20230909
DTSTAMP:20260420T153009
CREATED:20230313T175507Z
LAST-MODIFIED:20230315T180719Z
UID:2181-1686441600-1694217599@earthartout.com
SUMMARY:Summer Break
DESCRIPTION:The shop will only be open by chance and pre-scheduled appointments for provision pickups until September 8. Please reach out if you need something! Until we meet again\, Happy Trails!
URL:https://earthartout.com/event/summer-break-2/
LOCATION:PA
CATEGORIES:Hours Change
END:VEVENT
BEGIN:VEVENT
DTSTART;VALUE=DATE:20230620
DTEND;VALUE=DATE:20230621
DTSTAMP:20260420T153009
CREATED:20230313T175929Z
LAST-MODIFIED:20230315T180828Z
UID:2185-1687219200-1687305599@earthartout.com
SUMMARY:West Virginia Day
DESCRIPTION:In honor of the second state we call home & the location of the Earth Outpost\, we say thank you to the wild & wonderful state of West Virginia! There is outdoor recreation aplenty in this beautiful state and we look forward to seeing you on the trail!
URL:https://earthartout.com/event/west-virginia-day/
LOCATION:PA
CATEGORIES:Earthy Activity
END:VEVENT
BEGIN:VEVENT
DTSTART;VALUE=DATE:20230620
DTEND;VALUE=DATE:20230621
DTSTAMP:20260420T153009
CREATED:20240416T155328Z
LAST-MODIFIED:20240416T155435Z
UID:2404-1687219200-1687305599@earthartout.com
SUMMARY:Summer Solstice
DESCRIPTION:Celebrate the official first day of summer with time outside enjoying nature! Build a campfire\, sing\, dance\, walk barefoot in the garden or on the beach\, do whatever makes your soul sing to celebrate the season on the longest day of the year!
URL:https://earthartout.com/event/summer-solstice-3/
LOCATION:PA
CATEGORIES:Earthy Activity
END:VEVENT
END:VCALENDAR