BEGIN:VCALENDAR
VERSION:2.0
PRODID:-//Earth Artisan &amp; Outfitter - ECPv6.0.11//NONSGML v1.0//EN
CALSCALE:GREGORIAN
METHOD:PUBLISH
X-WR-CALNAME:Earth Artisan &amp; Outfitter
X-ORIGINAL-URL:https://earthartout.com
X-WR-CALDESC:Events for Earth Artisan &amp; Outfitter
REFRESH-INTERVAL;VALUE=DURATION:PT1H
X-Robots-Tag:noindex
X-PUBLISHED-TTL:PT1H
BEGIN:VTIMEZONE
TZID:America/New_York
BEGIN:DAYLIGHT
TZOFFSETFROM:-0500
TZOFFSETTO:-0400
TZNAME:EDT
DTSTART:20210314T070000
END:DAYLIGHT
BEGIN:STANDARD
TZOFFSETFROM:-0400
TZOFFSETTO:-0500
TZNAME:EST
DTSTART:20211107T060000
END:STANDARD
BEGIN:DAYLIGHT
TZOFFSETFROM:-0500
TZOFFSETTO:-0400
TZNAME:EDT
DTSTART:20220313T070000
END:DAYLIGHT
BEGIN:STANDARD
TZOFFSETFROM:-0400
TZOFFSETTO:-0500
TZNAME:EST
DTSTART:20221106T060000
END:STANDARD
END:VTIMEZONE
BEGIN:VEVENT
DTSTART;TZID=America/New_York:20221210T110000
DTEND;TZID=America/New_York:20221210T160000
DTSTAMP:20260421T114424
CREATED:20220321T140849Z
LAST-MODIFIED:20220321T140849Z
UID:2031-1670670000-1670688000@earthartout.com
SUMMARY:Extended Holiday Hours
DESCRIPTION:Earth is open Thursday\, Friday & Saturday 11-4\, other times by appointment. This is the perfect opportunity to Shop Small for all of your holiday gifts at Earth\, we have something for every earthy elf on your list! And don’t forget to start filling out your Earth Wish List while you’re here! Stay tuned for details and updates on our social media pages! Happy Holiday Adventuring!
URL:https://earthartout.com/event/extended-holiday-hours-3/
LOCATION:Earth Artisan & Outfitter\, 37 W. Chapel Ave.\, Carlisle\, PA\, 17013\, United States
CATEGORIES:In-Store Sale
END:VEVENT
BEGIN:VEVENT
DTSTART;TZID=America/New_York:20221209T110000
DTEND;TZID=America/New_York:20221209T160000
DTSTAMP:20260421T114424
CREATED:20220321T140659Z
LAST-MODIFIED:20220321T140659Z
UID:2029-1670583600-1670601600@earthartout.com
SUMMARY:Extended Holiday Hours
DESCRIPTION:Earth is open Thursday\, Friday & Saturday 11-4\, other times by appointment. This is the perfect opportunity to Shop Small for all of your holiday gifts at Earth\, we have something for every earthy elf on your list! And don’t forget to start filling out your Earth Wish List while you’re here! Stay tuned for details and updates on our social media pages! Happy Holiday Adventuring!
URL:https://earthartout.com/event/extended-holiday-hours-2/
LOCATION:Earth Artisan & Outfitter\, 37 W. Chapel Ave.\, Carlisle\, PA\, 17013\, United States
CATEGORIES:In-Store Sale
END:VEVENT
BEGIN:VEVENT
DTSTART;TZID=America/New_York:20221208T110000
DTEND;TZID=America/New_York:20221208T160000
DTSTAMP:20260421T114424
CREATED:20220321T140622Z
LAST-MODIFIED:20220321T140756Z
UID:2027-1670497200-1670515200@earthartout.com
SUMMARY:Extended Holiday Hours
DESCRIPTION:Earth is open Thursday\, Friday & Saturday 11-4\, other times by appointment. This is the perfect opportunity to Shop Small for all of your holiday gifts at Earth\, we have something for every earthy elf on your list! And don’t forget to start filling out your Earth Wish List while you’re here! Stay tuned for details and updates on our social media pages! Happy Holiday Adventuring!
URL:https://earthartout.com/event/extended-holiday-hours/
LOCATION:Earth Artisan & Outfitter\, 37 W. Chapel Ave.\, Carlisle\, PA\, 17013\, United States
CATEGORIES:In-Store Sale
END:VEVENT
BEGIN:VEVENT
DTSTART;TZID=America/New_York:20221203T110000
DTEND;TZID=America/New_York:20221203T160000
DTSTAMP:20260421T114424
CREATED:20220321T140348Z
LAST-MODIFIED:20220321T140348Z
UID:2023-1670065200-1670083200@earthartout.com
SUMMARY:Holiday Open House
DESCRIPTION:Earth is open Thursday\, Friday & Saturday 11-4\, other times by appointment. The tree is up\, earthy decorations abound! This is the perfect opportunity to Shop Small for all of your holiday gifts at Earth Artisan & Outfitter\, we have something for every earthy elf on your list! And don’t forget to start filling out your Earth Wish List while you’re here! Stay tuned for details and updates on our social media pages! Happy Holiday Adventuring!
URL:https://earthartout.com/event/holiday-open-house-4/
LOCATION:Earth Artisan & Outfitter\, 37 W. Chapel Ave.\, Carlisle\, PA\, 17013\, United States
CATEGORIES:In-Store Sale
END:VEVENT
BEGIN:VEVENT
DTSTART;TZID=America/New_York:20221202T110000
DTEND;TZID=America/New_York:20221202T160000
DTSTAMP:20260421T114424
CREATED:20220321T140255Z
LAST-MODIFIED:20220321T140255Z
UID:2021-1669978800-1669996800@earthartout.com
SUMMARY:Holiday Open House
DESCRIPTION:Earth is open Thursday\, Friday & Saturday 11-4\, other times by appointment. The tree is up\, earthy decorations abound! This is the perfect opportunity to Shop Small for all of your holiday gifts at Earth Artisan & Outfitter\, we have something for every earthy elf on your list! And don’t forget to start filling out your Earth Wish List while you’re here! Stay tuned for details and updates on our social media pages! Happy Holiday Adventuring!
URL:https://earthartout.com/event/holiday-open-house-3/
LOCATION:Earth Artisan & Outfitter\, 37 W. Chapel Ave.\, Carlisle\, PA\, 17013\, United States
CATEGORIES:In-Store Sale
END:VEVENT
BEGIN:VEVENT
DTSTART;TZID=America/New_York:20221201T110000
DTEND;TZID=America/New_York:20221201T160000
DTSTAMP:20260421T114424
CREATED:20220321T140207Z
LAST-MODIFIED:20220321T140207Z
UID:2019-1669892400-1669910400@earthartout.com
SUMMARY:Holiday Open House
DESCRIPTION:Earth is open Thursday\, Friday & Saturday 11-4\, other times by appointment. The tree is up\, earthy decorations abound! This is the perfect opportunity to Shop Small for all of your holiday gifts at Earth Artisan & Outfitter\, we have something for every earthy elf on your list! And don’t forget to start filling out your Earth Wish List while you’re here! Stay tuned for details and updates on our social media pages! Happy Holiday Adventuring!
URL:https://earthartout.com/event/holiday-open-house-2/
LOCATION:Earth Artisan & Outfitter\, 37 W. Chapel Ave.\, Carlisle\, PA\, 17013\, United States
CATEGORIES:In-Store Sale
END:VEVENT
BEGIN:VEVENT
DTSTART;VALUE=DATE:20221125
DTEND;VALUE=DATE:20221128
DTSTAMP:20260421T114424
CREATED:20220321T135842Z
LAST-MODIFIED:20220321T135842Z
UID:2017-1669334400-1669593599@earthartout.com
SUMMARY:Holiday Open House
DESCRIPTION:This is the ultimate time to support small businesses everywhere\, including Earth Artisan & Outfitter. We will have extended hours and specials in the shop to say thank you to our awesome customers for your continual friendship\, support & patronage over the past 8 years! This is also the perfect opportunity to Shop Small for all of your holiday gifts at Earth\, we have something for every earthy elf on your list! And don’t forget to start filling out your Earth Wish List while you’re here! Stay tuned for details and updates on our social media pages!
URL:https://earthartout.com/event/holiday-open-house/
LOCATION:Earth Artisan & Outfitter\, 37 W. Chapel Ave.\, Carlisle\, PA\, 17013\, United States
CATEGORIES:In-Store Sale
END:VEVENT
BEGIN:VEVENT
DTSTART;TZID=America/New_York:20221016T110000
DTEND;TZID=America/New_York:20221016T160000
DTSTAMP:20260421T114424
CREATED:20220321T135304Z
LAST-MODIFIED:20220321T135304Z
UID:2003-1665918000-1665936000@earthartout.com
SUMMARY:Halloweekend & Spooky Saturday
DESCRIPTION:A downtown Carlisle tradition sponsored by Destination Carlisle and Georgie Lou’s Retro Candy\, our town is transformed into a Halloween hub of excitement! Earth Artisan & Outfitter will be part of the Pumpkin Path through our historic downtown and our shop will be open Friday & Saturday 11-4 with a gorgeous fall porch display\, photo ops and treats on the porch during Spooky Saturday. Learn more on the Destination Carlisle website. Follow our social media pages for details & updates.
URL:https://earthartout.com/event/halloweekend-spooky-saturday-2/
LOCATION:Earth Artisan & Outfitter\, 37 W. Chapel Ave.\, Carlisle\, PA\, 17013\, United States
CATEGORIES:In-Store Sale
END:VEVENT
BEGIN:VEVENT
DTSTART;TZID=America/New_York:20221015T110000
DTEND;TZID=America/New_York:20221015T160000
DTSTAMP:20260421T114424
CREATED:20220321T135222Z
LAST-MODIFIED:20220321T135222Z
UID:2001-1665831600-1665849600@earthartout.com
SUMMARY:Halloweekend & Spooky Saturday
DESCRIPTION:A downtown Carlisle tradition sponsored by Destination Carlisle and Georgie Lou’s Retro Candy\, our town is transformed into a Halloween hub of excitement! Earth Artisan & Outfitter will be part of the Pumpkin Path through our historic downtown and our shop will be open Friday & Saturday 11-4 with a gorgeous fall porch display\, photo ops and treats on the porch during Spooky Saturday. Learn more on the Destination Carlisle website. Follow our social media pages for details & updates.
URL:https://earthartout.com/event/halloweekend-spooky-saturday/
LOCATION:Earth Artisan & Outfitter\, 37 W. Chapel Ave.\, Carlisle\, PA\, 17013\, United States
CATEGORIES:In-Store Sale
END:VEVENT
BEGIN:VEVENT
DTSTART;TZID=America/New_York:20220924T110000
DTEND;TZID=America/New_York:20220924T160000
DTSTAMP:20260421T114424
CREATED:20220321T134910Z
LAST-MODIFIED:20220321T134910Z
UID:1995-1664017200-1664035200@earthartout.com
SUMMARY:Harvest Of The Arts
DESCRIPTION:A Downtown Carlisle Association event that takes place on High St in downtown Carlisle. But be sure to Shop Small & Local and Harvest The Arts at Earth Artisan & Outfitter! We will have specials on all of our awesome earth-based fine art\, photography and limited edition prints created while on adventure in the great wide yonder. Stay tuned to our social media pages for details!
URL:https://earthartout.com/event/harvest-of-the-arts/
LOCATION:Earth Artisan & Outfitter\, 37 W. Chapel Ave.\, Carlisle\, PA\, 17013\, United States
CATEGORIES:In-Store Sale
END:VEVENT
BEGIN:VEVENT
DTSTART;TZID=America/New_York:20220917T110000
DTEND;TZID=America/New_York:20220917T160000
DTSTAMP:20260421T114424
CREATED:20220321T134622Z
LAST-MODIFIED:20220321T134622Z
UID:1989-1663412400-1663430400@earthartout.com
SUMMARY:Autumn Harvest Celebration
DESCRIPTION:Gather great deals on our earth based art\, goods & gear during a special sale in the shop to celebrate the season and the bounty of our artistic and adventurous ramblings in the great wide yonder. Stay tuned for details on our social media pages.
URL:https://earthartout.com/event/autumn-harvest-celebration-2/
LOCATION:Earth Artisan & Outfitter\, 37 W. Chapel Ave.\, Carlisle\, PA\, 17013\, United States
CATEGORIES:In-Store Sale
END:VEVENT
BEGIN:VEVENT
DTSTART;TZID=America/New_York:20220916T110000
DTEND;TZID=America/New_York:20220916T160000
DTSTAMP:20260421T114424
CREATED:20220321T134535Z
LAST-MODIFIED:20220321T134535Z
UID:1987-1663326000-1663344000@earthartout.com
SUMMARY:Autumn Harvest Celebration
DESCRIPTION:Gather great deals on our earth based art\, goods & gear during a special sale in the shop to celebrate the season and the bounty of our artistic and adventurous ramblings in the great wide yonder. Stay tuned for details on our social media pages.
URL:https://earthartout.com/event/autumn-harvest-celebration/
LOCATION:Earth Artisan & Outfitter\, 37 W. Chapel Ave.\, Carlisle\, PA\, 17013\, United States
CATEGORIES:In-Store Sale
END:VEVENT
BEGIN:VEVENT
DTSTART;TZID=America/New_York:20220610T110000
DTEND;TZID=America/New_York:20220610T160000
DTSTAMP:20260421T114424
CREATED:20220321T133037Z
LAST-MODIFIED:20220321T133037Z
UID:1965-1654858800-1654876800@earthartout.com
SUMMARY:Dude’s Day & Get Ready for Summer
DESCRIPTION:In honor of Father’s Day celebrate the inspiring fellas in your life with specials in the shop on our earth-based art\, goods & gear! This will also be an excellent time to stock up for summer adventure while you’re here as Earth will be closing for the season June 12\, reopening in September!
URL:https://earthartout.com/event/dudes-day-get-ready-for-summer-2/
LOCATION:Earth Artisan & Outfitter\, 37 W. Chapel Ave.\, Carlisle\, PA\, 17013\, United States
CATEGORIES:In-Store Sale
END:VEVENT
BEGIN:VEVENT
DTSTART;TZID=America/New_York:20220609T110000
DTEND;TZID=America/New_York:20220609T160000
DTSTAMP:20260421T114424
CREATED:20220321T133002Z
LAST-MODIFIED:20220321T133002Z
UID:1963-1654772400-1654790400@earthartout.com
SUMMARY:Dude’s Day & Get Ready for Summer
DESCRIPTION:In honor of Father’s Day celebrate the inspiring fellas in your life with specials in the shop on our earth-based art\, goods & gear! This will also be an excellent time to stock up for summer adventure while you’re here as Earth will be closing for the season June 12\, reopening in September!
URL:https://earthartout.com/event/dudes-day-get-ready-for-summer/
LOCATION:Earth Artisan & Outfitter\, 37 W. Chapel Ave.\, Carlisle\, PA\, 17013\, United States
CATEGORIES:In-Store Sale
END:VEVENT
BEGIN:VEVENT
DTSTART;TZID=America/New_York:20220514T110000
DTEND;TZID=America/New_York:20220514T160000
DTSTAMP:20260421T114424
CREATED:20220321T132143Z
LAST-MODIFIED:20220321T132209Z
UID:1954-1652526000-1652544000@earthartout.com
SUMMARY:Oh The Places You Will Go
DESCRIPTION:Student appreciation days! New adventures are on the horizon\, gather art\, goods & gear at Earth then hit the trail! Show your student id and get 10% off in-store purchases\, some exclusions apply. Best wishes to all!
URL:https://earthartout.com/event/oh-the-places-you-will-go-2/
LOCATION:Earth Artisan & Outfitter\, 37 W. Chapel Ave.\, Carlisle\, PA\, 17013\, United States
CATEGORIES:In-Store Sale
END:VEVENT
BEGIN:VEVENT
DTSTART;TZID=America/New_York:20220513T110000
DTEND;TZID=America/New_York:20220513T160000
DTSTAMP:20260421T114424
CREATED:20220321T132058Z
LAST-MODIFIED:20220321T132058Z
UID:1952-1652439600-1652457600@earthartout.com
SUMMARY:Oh The Places You Will Go
DESCRIPTION:Student appreciation days! New adventures are on the horizon\, gather art\, goods & gear at Earth then hit the trail! Show your student id and get 10% off in-store purchases\, some exclusions apply. Best wishes to all!
URL:https://earthartout.com/event/oh-the-places-you-will-go/
LOCATION:Earth Artisan & Outfitter\, 37 W. Chapel Ave.\, Carlisle\, PA\, 17013\, United States
CATEGORIES:In-Store Sale
END:VEVENT
BEGIN:VEVENT
DTSTART;TZID=America/New_York:20220430T110000
DTEND;TZID=America/New_York:20220430T160000
DTSTAMP:20260421T114424
CREATED:20220321T131109Z
LAST-MODIFIED:20220321T131109Z
UID:1943-1651316400-1651334400@earthartout.com
SUMMARY:Celebrate The Trees
DESCRIPTION:Did you know Pennsylvania’s state tree is the Eastern Hemlock? Go find one and hug it! Say thank you to all the trees for their life sustaining ways: clean air\, shade\, shelter\, habitat\, erosion control and so much more! Learn more about trees and Arbor Day at arborday.org. Have questions about trees? Ask Earth Artisan & Outfitters resident ISA Certified Arborist Kenny Miller. This weekend: gather tree guides\, journals\, and sustainably harvested tree branch colored pencils at Earth to document your new relationship with nature! SALE on all remaining Arbor Day & Tree In A Box planting kits! Stay tuned for details on Earth Artisan & Outfitters Arbor Day Tree Sale on our social media pages!
URL:https://earthartout.com/event/celebrate-the-trees-2/
LOCATION:Earth Artisan & Outfitter\, 37 W. Chapel Ave.\, Carlisle\, PA\, 17013\, United States
CATEGORIES:In-Store Sale
END:VEVENT
BEGIN:VEVENT
DTSTART;TZID=America/New_York:20220429T110000
DTEND;TZID=America/New_York:20220429T160000
DTSTAMP:20260421T114424
CREATED:20220321T131001Z
LAST-MODIFIED:20220321T131001Z
UID:1941-1651230000-1651248000@earthartout.com
SUMMARY:Celebrate The Trees
DESCRIPTION:Did you know Pennsylvania’s state tree is the Eastern Hemlock? Go find one and hug it! Say thank you to all the trees for their life sustaining ways: clean air\, shade\, shelter\, habitat\, erosion control and so much more! Learn more about trees and Arbor Day at arborday.org. Have questions about trees? Ask Earth Artisan & Outfitters resident ISA Certified Arborist Kenny Miller. This weekend: gather tree guides\, journals\, and sustainably harvested tree branch colored pencils at Earth to document your new relationship with nature! SALE on all remaining Arbor Day & Tree In A Box planting kits! Stay tuned for details on Earth Artisan & Outfitters Arbor Day Tree Sale on our social media pages!
URL:https://earthartout.com/event/celebrate-the-trees/
LOCATION:Earth Artisan & Outfitter\, 37 W. Chapel Ave.\, Carlisle\, PA\, 17013\, United States
CATEGORIES:In-Store Sale
END:VEVENT
BEGIN:VEVENT
DTSTART;TZID=America/New_York:20220423T110000
DTEND;TZID=America/New_York:20220423T160000
DTSTAMP:20260421T114424
CREATED:20220321T130334Z
LAST-MODIFIED:20220321T130640Z
UID:1933-1650711600-1650729600@earthartout.com
SUMMARY:Earth Day Celebration
DESCRIPTION:Join us for an adventure as we celebrate Mother Earth & Life Wild & Free! See and share our event details & updates at https://fb.me/e/2iLZ2oco6 \nFrom 11 am – 4 pm at Earth Artisan & Outfitter  \nIn the shop we will have specials on our earth-based art\, goods & gear for earth-inspired living & adventuring at home\, in the garden and on the trail! Enter our Earth Day Raffle to win awesome earthy prizes! \nFrom 1 pm -4 pm at Earth Artisan & Outfitter  \nOutside the shop learn more about mindfully connecting to the planet with inspiration and resources from several of the areas best outdoor educators\, eco-organizations\, biologists\, conservations and more\, all in one place\, right here at Earth! Stay tuned for updates on all the fine earthy folks who will be joining us for the afternoon! \nThis event is free to attend & will be held rain or shine\, so bring your welly boots\, umbrellas and sunglasses so you’re ready for every adventure during this awesome opportunity to learn and grow! \nWhile Earth Artisan & Outfitter will be a hive of activity and the “afternoon main hub for eco learning\,” Earth Day will also be celebrated throughout downtown Carlisle\, spreading the good vibes throughout the community! Learn more from our friends at Destination Carlisle at: \nhttp://destinationcarlisle.org/earth-day-in-downtown\nhttp://www.facebook.com/events/353912746736835 \nThank You for supporting Life Wild & Free and celebrating Earth Day every day\, in every way!
URL:https://earthartout.com/event/earth-day-celebration/
LOCATION:Earth Artisan & Outfitter\, 37 W. Chapel Ave.\, Carlisle\, PA\, 17013\, United States
CATEGORIES:In-Store Sale
ATTACH;FMTTYPE=image/jpeg:https://earthartout.com/wp-content/uploads/2022/03/Celebrate-the-Earth-April-23.jpg
END:VEVENT
BEGIN:VEVENT
DTSTART;TZID=America/New_York:20220319T110000
DTEND;TZID=America/New_York:20220319T160000
DTSTAMP:20260421T114424
CREATED:20220321T124940Z
LAST-MODIFIED:20220321T124940Z
UID:1919-1647687600-1647705600@earthartout.com
SUMMARY:Spring Open House
DESCRIPTION:Celebrate the season\, see what’s new and gather your favorite art\, goods & gear for mindful living and adventuring at home\, in the garden & on the trail!
URL:https://earthartout.com/event/spring-open-house-2/
LOCATION:Earth Artisan & Outfitter\, 37 W. Chapel Ave.\, Carlisle\, PA\, 17013\, United States
CATEGORIES:In-Store Sale
ATTACH;FMTTYPE=image/png:https://earthartout.com/wp-content/uploads/2022/03/Earth-Spring-Open-House-March-18-19.png
END:VEVENT
BEGIN:VEVENT
DTSTART;TZID=America/New_York:20220318T110000
DTEND;TZID=America/New_York:20220318T160000
DTSTAMP:20260421T114424
CREATED:20220321T124839Z
LAST-MODIFIED:20220321T124903Z
UID:1915-1647601200-1647619200@earthartout.com
SUMMARY:Spring Open House
DESCRIPTION:Celebrate the season\, see what’s new and gather your favorite art\, goods & gear for mindful living and adventuring at home\, in the garden & on the trail!
URL:https://earthartout.com/event/spring-open-house/
LOCATION:Earth Artisan & Outfitter\, 37 W. Chapel Ave.\, Carlisle\, PA\, 17013\, United States
CATEGORIES:In-Store Sale
ATTACH;FMTTYPE=image/png:https://earthartout.com/wp-content/uploads/2022/03/Earth-Spring-Open-House-March-18-19.png
END:VEVENT
BEGIN:VEVENT
DTSTART;TZID=America/New_York:20211218T110000
DTEND;TZID=America/New_York:20211218T160000
DTSTAMP:20260421T114424
CREATED:20211122T193914Z
LAST-MODIFIED:20211122T193914Z
UID:1891-1639825200-1639843200@earthartout.com
SUMMARY:Winter Solstice Celebration
DESCRIPTION:Winter Solstice officially sets in on December 21\, we will celebrate the season at Earth on December 18! Warm up by the fire\, share your favorite wintry adventure tales and gather last minute holiday gifts. With every purchase receive a special little gift to keep the dark at bay on the longest night of the year. Sale on all remaining blessing bundles to set beautiful intentions on your solstice bonfire!
URL:https://earthartout.com/event/winter-solstice-celebration/
LOCATION:Earth Artisan & Outfitter\, 37 W. Chapel Ave.\, Carlisle\, PA\, 17013\, United States
CATEGORIES:In-Store Sale
ATTACH;FMTTYPE=image/jpeg:https://earthartout.com/wp-content/uploads/2021/11/20211113_124948_0000.jpg
END:VEVENT
BEGIN:VEVENT
DTSTART;TZID=America/New_York:20211204T110000
DTEND;TZID=America/New_York:20211204T160000
DTSTAMP:20260421T114424
CREATED:20211122T193247Z
LAST-MODIFIED:20211122T193247Z
UID:1883-1638615600-1638633600@earthartout.com
SUMMARY:Sustainably Harvested Fresh Cut Greens at Earth
DESCRIPTION:Starting December 3 & 4 from 11-4 while supplies last. Once a year our ISA Certified Arborist sustainably harvests fresh greenery including a variety of evergreens such as white pine\, spruce\, juniper\, holly\, winter berry and other natural elements then artistically arranges them into beautiful swags for winter decor\, along with mixed bundles and individual branches. We have the best quality and prices around ranging from $2 – $20!
URL:https://earthartout.com/event/sustainably-harvested-fresh-cut-greens-at-earth-2/
LOCATION:Earth Artisan & Outfitter\, 37 W. Chapel Ave.\, Carlisle\, PA\, 17013\, United States
CATEGORIES:In-Store Sale
ATTACH;FMTTYPE=image/jpeg:https://earthartout.com/wp-content/uploads/2021/11/20211111_230913_0000.jpg
END:VEVENT
BEGIN:VEVENT
DTSTART;TZID=America/New_York:20211203T110000
DTEND;TZID=America/New_York:20211203T160000
DTSTAMP:20260421T114424
CREATED:20211122T193156Z
LAST-MODIFIED:20211122T193156Z
UID:1880-1638529200-1638547200@earthartout.com
SUMMARY:Sustainably Harvested Fresh Cut Greens at Earth
DESCRIPTION:Starting December 3 & 4 from 11-4 while supplies last. Once a year our ISA Certified Arborist sustainably harvests fresh greenery including a variety of evergreens such as white pine\, spruce\, juniper\, holly\, winter berry and other natural elements then artistically arranges them into beautiful swags for winter decor\, along with mixed bundles and individual branches. We have the best quality and prices around ranging from $2 – $20!
URL:https://earthartout.com/event/sustainably-harvested-fresh-cut-greens-at-earth/
LOCATION:Earth Artisan & Outfitter\, 37 W. Chapel Ave.\, Carlisle\, PA\, 17013\, United States
CATEGORIES:In-Store Sale
ATTACH;FMTTYPE=image/jpeg:https://earthartout.com/wp-content/uploads/2021/11/20211111_230913_0000.jpg
END:VEVENT
BEGIN:VEVENT
DTSTART;TZID=America/New_York:20211128T120000
DTEND;TZID=America/New_York:20211128T160000
DTSTAMP:20260421T114424
CREATED:20211122T192917Z
LAST-MODIFIED:20211122T192926Z
UID:1878-1638100800-1638115200@earthartout.com
SUMMARY:Small Business Weekend
DESCRIPTION:Shop Small with Earth! In-store specials all weekend long including double Earth Loyalty Card Points on your favorite earth-based items for home\, garden & trail\, small batch earthy holiday decor and much more! Thank you for your patronage\, friendship and support of The Earth\, The Arts and Life Wild & Free! A portion of all sales help support humanitarian and environmental organizations!
URL:https://earthartout.com/event/small-business-weekend-3/
LOCATION:Earth Artisan & Outfitter\, 37 W. Chapel Ave.\, Carlisle\, PA\, 17013\, United States
CATEGORIES:In-Store Sale
ATTACH;FMTTYPE=image/jpeg:https://earthartout.com/wp-content/uploads/2021/11/png_20211117_181831_0000.jpg
END:VEVENT
BEGIN:VEVENT
DTSTART;TZID=America/New_York:20211127T100000
DTEND;TZID=America/New_York:20211127T180000
DTSTAMP:20260421T114424
CREATED:20211122T192151Z
LAST-MODIFIED:20211122T192151Z
UID:1876-1638007200-1638036000@earthartout.com
SUMMARY:Small Business Weekend
DESCRIPTION:Shop Small with Earth! In-store specials all weekend long including double Earth Loyalty Card Points on your favorite earth-based items for home\, garden & trail\, small batch earthy holiday decor and much more! Thank you for your patronage\, friendship and support of The Earth\, The Arts and Life Wild & Free! A portion of all sales help support humanitarian and environmental organizations!
URL:https://earthartout.com/event/small-business-weekend-2/
LOCATION:Earth Artisan & Outfitter\, 37 W. Chapel Ave.\, Carlisle\, PA\, 17013\, United States
CATEGORIES:In-Store Sale
ATTACH;FMTTYPE=image/jpeg:https://earthartout.com/wp-content/uploads/2021/11/png_20211117_181831_0000.jpg
END:VEVENT
BEGIN:VEVENT
DTSTART;TZID=America/New_York:20211126T110000
DTEND;TZID=America/New_York:20211126T160000
DTSTAMP:20260421T114424
CREATED:20211122T191718Z
LAST-MODIFIED:20211122T191836Z
UID:1873-1637924400-1637942400@earthartout.com
SUMMARY:Small Business Weekend
DESCRIPTION:Shop Small with Earth! In-store specials all weekend long including double Earth Loyalty Card Points on your favorite earth-based items for home\, garden & trail\, small batch earthy holiday decor and much more! Thank you for your patronage\, friendship and support of The Earth\, The Arts and Life Wild & Free! A portion of all sales help support humanitarian and environmental organizations!
URL:https://earthartout.com/event/small-business-weekend/
LOCATION:Earth Artisan & Outfitter\, 37 W. Chapel Ave.\, Carlisle\, PA\, 17013\, United States
CATEGORIES:In-Store Sale
ATTACH;FMTTYPE=image/jpeg:https://earthartout.com/wp-content/uploads/2021/11/png_20211117_181831_0000.jpg
END:VEVENT
BEGIN:VEVENT
DTSTART;VALUE=DATE:20210723
DTEND;VALUE=DATE:20210725
DTSTAMP:20260421T114424
CREATED:20210713T180142Z
LAST-MODIFIED:20210713T180544Z
UID:1724-1626998400-1627171199@earthartout.com
SUMMARY:Weekend Sale on Select Items in the Shop
DESCRIPTION:Our summer spotlight SALE series on select earth-based art\, goods & gear continues on July 23 & 24 in our brick & mortar store located in the wilds of historic\, downtown Carlisle\, PA! \nThis weekend we’re highlighting a SALE on all self-care items for natural mind\, body\, spirit connection and our awesome Earth t-shirts! This includes all Earth logo t-shirts & kids shirts; candles\, spritzers\, bath soaks\, honey products (including balms & salves)\, coffee and more! \nWe can’t wait to inspire your journey\, keeping the good vibes flowing while mindfully connecting people to the planet at home\, in the garden & on the trail!
URL:https://earthartout.com/event/weekend-sale-on-select-items-in-the-shop-3/
LOCATION:Earth Artisan & Outfitter\, 37 W. Chapel Ave.\, Carlisle\, PA\, 17013\, United States
CATEGORIES:In-Store Sale
ATTACH;FMTTYPE=image/png:https://earthartout.com/wp-content/uploads/2021/07/20210712_114828_0001.png
END:VEVENT
BEGIN:VEVENT
DTSTART;VALUE=DATE:20210709
DTEND;VALUE=DATE:20210711
DTSTAMP:20260421T114424
CREATED:20210628T172900Z
LAST-MODIFIED:20210629T165154Z
UID:1668-1625788800-1625961599@earthartout.com
SUMMARY:Weekend Sale on Select Items in the Shop
DESCRIPTION:Fun features & weekend sale on select items in our brick & mortar store in the wilds of historic downtown Carlisle\, PA\, highlighting different aspects of our awesome art\, goods & gear. Stay tuned to what will be featured this month!
URL:https://earthartout.com/event/weekend-sale-on-select-items-in-the-shop-2/
LOCATION:Earth Artisan & Outfitter\, 37 W. Chapel Ave.\, Carlisle\, PA\, 17013\, United States
CATEGORIES:In-Store Sale
ATTACH;FMTTYPE=image/png:https://earthartout.com/wp-content/uploads/2021/06/July-9-10-Weekend-Sale-Earth-Artisan-and-Outfitter.png
END:VEVENT
BEGIN:VEVENT
DTSTART;VALUE=DATE:20210625
DTEND;VALUE=DATE:20210627
DTSTAMP:20260421T114424
CREATED:20210628T172208Z
LAST-MODIFIED:20210628T175446Z
UID:1661-1624579200-1624751999@earthartout.com
SUMMARY:Weekend Sale on Select Items in the Shop
DESCRIPTION:Earth Artisan & Outfitter specializes in outfitting people for life. Throughout the summer we will have fun features & weekend sales on select items in our brick & mortar store located in the wilds of historic downtown Carlisle\, PA. Highlighting different aspects of our awesome art\, goods & gear for home to inspire your adventures great and small\, near and far we have what you need to get going! First Up: Friday June 25 & Saturday June 26 from 11-4 Earth’s Weekend Sale will feature 10% OFF Bags\, Bees\, Beans and Earth Logo-Tshirts! That means all canvas tote bags\, backpacks\, goods from Honey Bee Friendly\, Lenca Coffee and our own super soft t-shirts\, while supplies last! Get Out & Get Here and stay tuned for what’s coming up next!
URL:https://earthartout.com/event/weekend-sale-on-select-items-in-the-shop/
LOCATION:Earth Artisan & Outfitter\, 37 W. Chapel Ave.\, Carlisle\, PA\, 17013\, United States
CATEGORIES:In-Store Sale
ATTACH;FMTTYPE=image/png:https://earthartout.com/wp-content/uploads/2021/06/Weekend-Sale-Earth-Artisan-and-Outfitter.png
END:VEVENT
END:VCALENDAR