BEGIN:VCALENDAR
VERSION:2.0
PRODID:-//Earth Artisan &amp; Outfitter - ECPv6.0.11//NONSGML v1.0//EN
CALSCALE:GREGORIAN
METHOD:PUBLISH
X-ORIGINAL-URL:https://earthartout.com
X-WR-CALDESC:Events for Earth Artisan &amp; Outfitter
REFRESH-INTERVAL;VALUE=DURATION:PT1H
X-Robots-Tag:noindex
X-PUBLISHED-TTL:PT1H
BEGIN:VTIMEZONE
TZID:America/New_York
BEGIN:DAYLIGHT
TZOFFSETFROM:-0500
TZOFFSETTO:-0400
TZNAME:EDT
DTSTART:20220313T070000
END:DAYLIGHT
BEGIN:STANDARD
TZOFFSETFROM:-0400
TZOFFSETTO:-0500
TZNAME:EST
DTSTART:20221106T060000
END:STANDARD
BEGIN:DAYLIGHT
TZOFFSETFROM:-0500
TZOFFSETTO:-0400
TZNAME:EDT
DTSTART:20230312T070000
END:DAYLIGHT
BEGIN:STANDARD
TZOFFSETFROM:-0400
TZOFFSETTO:-0500
TZNAME:EST
DTSTART:20231105T060000
END:STANDARD
END:VTIMEZONE
BEGIN:VEVENT
DTSTART;TZID=America/New_York:20230405T130000
DTEND;TZID=America/New_York:20230405T170000
DTSTAMP:20260421T142553
CREATED:20230315T175920Z
LAST-MODIFIED:20230315T175920Z
UID:2294-1680699600-1680714000@earthartout.com
SUMMARY:Special Hours!
DESCRIPTION:Special Hours! Wednesday April 5 from 1-5 & Thursday April 6 from 12-4. Pickup provisions now for the long holiday weekend! Earth will be closed April 7 & 8.
URL:https://earthartout.com/event/special-hours/
LOCATION:Earth Artisan & Outfitter\, 37 W. Chapel Ave.\, Carlisle\, PA\, 17013\, United States
CATEGORIES:Hours Change
END:VEVENT
BEGIN:VEVENT
DTSTART;VALUE=DATE:20230320
DTEND;VALUE=DATE:20230321
DTSTAMP:20260421T142553
CREATED:20230313T150547Z
LAST-MODIFIED:20230323T143358Z
UID:2107-1679270400-1679356799@earthartout.com
SUMMARY:Spring Equinox
DESCRIPTION:This is a time of balance. Connect with nature to inspire daily practices and rituals that encourage health and vitality in your daily living practices. Take a walk on the wild side\, breath in the fresh air\, plant seeds\, bulbs\, trees\, plants\, flowers\, herbs & veggies setting the intention of positive energy. As they grow\, your intentions become reality.
URL:https://earthartout.com/event/spring-equinox-2/
CATEGORIES:Calendar Event
ATTACH;FMTTYPE=image/png:https://earthartout.com/wp-content/uploads/2023/03/Welcome-Spring-1536x1149-1.png
END:VEVENT
BEGIN:VEVENT
DTSTART;TZID=America/New_York:20230318T110000
DTEND;TZID=America/New_York:20230318T160000
DTSTAMP:20260421T142553
CREATED:20230313T150418Z
LAST-MODIFIED:20230323T143342Z
UID:2105-1679137200-1679155200@earthartout.com
SUMMARY:Spring Open House
DESCRIPTION:Celebrate the season\, see what’s new and gather your favorite art\, goods & gear for mindful living and adventuring at home\, in the garden & on the trail!
URL:https://earthartout.com/event/spring-open-house-4/
LOCATION:Earth Artisan & Outfitter\, 37 W. Chapel Ave.\, Carlisle\, PA\, 17013\, United States
CATEGORIES:Earthy Activity
ATTACH;FMTTYPE=image/png:https://earthartout.com/wp-content/uploads/2023/03/Spring-Open-House.png
END:VEVENT
BEGIN:VEVENT
DTSTART;TZID=America/New_York:20230317T110000
DTEND;TZID=America/New_York:20230317T160000
DTSTAMP:20260421T142553
CREATED:20230313T150012Z
LAST-MODIFIED:20230323T143113Z
UID:2102-1679050800-1679068800@earthartout.com
SUMMARY:Spring Open House
DESCRIPTION:Celebrate the season\, see what’s new and gather your favorite art\, goods & gear for mindful living and adventuring at home\, in the garden & on the trail!
URL:https://earthartout.com/event/spring-open-house-3/
LOCATION:Earth Artisan & Outfitter\, 37 W. Chapel Ave.\, Carlisle\, PA\, 17013\, United States
CATEGORIES:Earthy Activity
ATTACH;FMTTYPE=image/png:https://earthartout.com/wp-content/uploads/2023/03/Spring-Open-House.png
END:VEVENT
BEGIN:VEVENT
DTSTART;VALUE=DATE:20230306
DTEND;VALUE=DATE:20230307
DTSTAMP:20260421T142553
CREATED:20230313T151257Z
LAST-MODIFIED:20230323T143105Z
UID:2118-1678060800-1678147199@earthartout.com
SUMMARY:Full Worm Moon
DESCRIPTION:Dance\, howl and celebrate Life outside in the moonlight! The worms are doing the same thing through the freshly thawed soil!
URL:https://earthartout.com/event/full-worm-moon/
CATEGORIES:Calendar Event
ATTACH;FMTTYPE=image/png:https://earthartout.com/wp-content/uploads/2022/03/Full-Moon.png
END:VEVENT
BEGIN:VEVENT
DTSTART;VALUE=DATE:20230304
DTEND;VALUE=DATE:20230305
DTSTAMP:20260421T142553
CREATED:20230313T151140Z
LAST-MODIFIED:20230313T151140Z
UID:2116-1677888000-1677974399@earthartout.com
SUMMARY:Closed for Event
DESCRIPTION:
URL:https://earthartout.com/event/closed-for-event/
CATEGORIES:Hours Change
END:VEVENT
BEGIN:VEVENT
DTSTART;VALUE=DATE:20230214
DTEND;VALUE=DATE:20230215
DTSTAMP:20260421T142553
CREATED:20230313T171415Z
LAST-MODIFIED:20230313T171415Z
UID:2138-1676332800-1676419199@earthartout.com
SUMMARY:Valentine's Day
DESCRIPTION:
URL:https://earthartout.com/event/valentines-day/
CATEGORIES:Calendar Event
END:VEVENT
BEGIN:VEVENT
DTSTART;VALUE=DATE:20230211
DTEND;VALUE=DATE:20230212
DTSTAMP:20260421T142553
CREATED:20230313T150914Z
LAST-MODIFIED:20230313T150914Z
UID:2112-1676073600-1676159999@earthartout.com
SUMMARY:Love the Earth
DESCRIPTION:
URL:https://earthartout.com/event/love-the-earth-2/
CATEGORIES:Earthy Activity
END:VEVENT
BEGIN:VEVENT
DTSTART;VALUE=DATE:20230210
DTEND;VALUE=DATE:20230211
DTSTAMP:20260421T142553
CREATED:20230313T150901Z
LAST-MODIFIED:20230313T150901Z
UID:2110-1675987200-1676073599@earthartout.com
SUMMARY:Love the Earth
DESCRIPTION:
URL:https://earthartout.com/event/love-the-earth/
CATEGORIES:Earthy Activity
END:VEVENT
BEGIN:VEVENT
DTSTART;VALUE=DATE:20230101
DTEND;VALUE=DATE:20230102
DTSTAMP:20260421T142553
CREATED:20220321T142242Z
LAST-MODIFIED:20220321T142242Z
UID:2051-1672531200-1672617599@earthartout.com
SUMMARY:Happy New Year!
DESCRIPTION:We look forward to continually inspiring your adventures in 2023\, see you in February! Stay tuned to our social media pages for updates!
URL:https://earthartout.com/event/happy-new-year/
CATEGORIES:Calendar Event
END:VEVENT
BEGIN:VEVENT
DTSTART;VALUE=DATE:20221225
DTEND;VALUE=DATE:20230202
DTSTAMP:20260421T142553
CREATED:20220321T142208Z
LAST-MODIFIED:20220321T142208Z
UID:2049-1671926400-1675295999@earthartout.com
SUMMARY:Winter Break
DESCRIPTION:Time to Hibernate! During the coldest\, slowest time of the year when everyone is huddled indoors\, Earth closes for the season to spend time with family\, regroup\, recharge and restock. Please reach out to us if you need information\, resources or would like to place an order or shop by appointment only during this time. We will reopen during IceArtFest weekend in downtown Carlisle. Stay tuned for details and updates on our social media pages and check out our Adventure Blog!
URL:https://earthartout.com/event/winter-break-2/
LOCATION:Earth Artisan & Outfitter\, 37 W. Chapel Ave.\, Carlisle\, PA\, 17013\, United States
CATEGORIES:Hours Change
END:VEVENT
BEGIN:VEVENT
DTSTART;VALUE=DATE:20221225
DTEND;VALUE=DATE:20221226
DTSTAMP:20260421T142553
CREATED:20220321T142116Z
LAST-MODIFIED:20220321T142116Z
UID:2047-1671926400-1672012799@earthartout.com
SUMMARY:Christmas
DESCRIPTION:Happy Holidays Everyone! Enjoy the magic of the day! Thank you for your friendship\, support and patronage of The Earth\, The Arts and Life Wild & Free! We look forward to continually inspiring your adventures in 2023!
URL:https://earthartout.com/event/christmas/
CATEGORIES:Calendar Event
END:VEVENT
BEGIN:VEVENT
DTSTART;TZID=America/New_York:20221224T100000
DTEND;TZID=America/New_York:20221224T140000
DTSTAMP:20260421T142553
CREATED:20220321T142034Z
LAST-MODIFIED:20220321T142034Z
UID:2045-1671876000-1671890400@earthartout.com
SUMMARY:Extended Holiday Hours
DESCRIPTION:Earth is open Thursday & Friday 11-4\, and Christmas Eve from 10-2. This is the last chance to Shop Small for all of your holiday gifts at Earth\, we have something for every earthy elf on your list! If you filled out an Earth Wish List for the gift getters in your life\, remind them to Get Out & Get Here! This is also the last chance to stock up on provisions to carry you through the winter\, until we meet again\, as Earth will be closing for the season starting December 25.  Stay tuned for details and updates on our social media pages! Happy Holiday Adventuring! Merry Christmas!
URL:https://earthartout.com/event/extended-holiday-hours-6/
LOCATION:Earth Artisan & Outfitter\, 37 W. Chapel Ave.\, Carlisle\, PA\, 17013\, United States
CATEGORIES:In-Store Sale
END:VEVENT
BEGIN:VEVENT
DTSTART;TZID=America/New_York:20221223T110000
DTEND;TZID=America/New_York:20221223T160000
DTSTAMP:20260421T142553
CREATED:20220321T141953Z
LAST-MODIFIED:20220321T141953Z
UID:2043-1671793200-1671811200@earthartout.com
SUMMARY:Extended Holiday Hours
DESCRIPTION:Earth is open Thursday & Friday 11-4\, and Christmas Eve from 10-2. This is the last chance to Shop Small for all of your holiday gifts at Earth\, we have something for every earthy elf on your list! If you filled out an Earth Wish List for the gift getters in your life\, remind them to Get Out & Get Here! This is also the last chance to stock up on provisions to carry you through the winter\, until we meet again\, as Earth will be closing for the season starting December 25.  Stay tuned for details and updates on our social media pages! Happy Holiday Adventuring! Merry Christmas!
URL:https://earthartout.com/event/extended-holiday-hours-5/
LOCATION:Earth Artisan & Outfitter\, 37 W. Chapel Ave.\, Carlisle\, PA\, 17013\, United States
CATEGORIES:In-Store Sale
END:VEVENT
BEGIN:VEVENT
DTSTART;TZID=America/New_York:20221222T110000
DTEND;TZID=America/New_York:20221222T160000
DTSTAMP:20260421T142553
CREATED:20220321T141918Z
LAST-MODIFIED:20220321T141918Z
UID:2041-1671706800-1671724800@earthartout.com
SUMMARY:Extended Holiday Hours
DESCRIPTION:Earth is open Thursday & Friday 11-4\, and Christmas Eve from 10-2. This is the last chance to Shop Small for all of your holiday gifts at Earth\, we have something for every earthy elf on your list! If you filled out an Earth Wish List for the gift getters in your life\, remind them to Get Out & Get Here! This is also the last chance to stock up on provisions to carry you through the winter\, until we meet again\, as Earth will be closing for the season starting December 25.  Stay tuned for details and updates on our social media pages! Happy Holiday Adventuring! Merry Christmas!
URL:https://earthartout.com/event/extended-holiday-hours-4/
LOCATION:Earth Artisan & Outfitter\, 37 W. Chapel Ave.\, Carlisle\, PA\, 17013\, United States
CATEGORIES:In-Store Sale
END:VEVENT
BEGIN:VEVENT
DTSTART;VALUE=DATE:20221221
DTEND;VALUE=DATE:20221222
DTSTAMP:20260421T142553
CREATED:20220321T141836Z
LAST-MODIFIED:20220321T141836Z
UID:2039-1671580800-1671667199@earthartout.com
SUMMARY:Winter Solstice\, Yule
DESCRIPTION:The shortest day and longest night of the year\, winter officially begins.
URL:https://earthartout.com/event/winter-solstice-yule/
CATEGORIES:Earthy Activity
END:VEVENT
BEGIN:VEVENT
DTSTART;TZID=America/New_York:20221217T110000
DTEND;TZID=America/New_York:20221217T160000
DTSTAMP:20260421T142553
CREATED:20220321T141105Z
LAST-MODIFIED:20220321T141105Z
UID:2037-1671274800-1671292800@earthartout.com
SUMMARY:Winter Solstice Celebration
DESCRIPTION:Earth is open Thursday\, Friday & Saturday 11-4\, other times by appointment. Winter Solstice begins next week on December 21\, celebrate the season with us December 15\, 16 & 17 and receive a small gift with every purchase to bring light during the longest night. This is the perfect opportunity to Shop Small for all of your holiday gifts at Earth\, we have something for every earthy elf on your list! And don’t forget to fill  out your Earth Wish List while you’re here! Stay tuned for details and updates on our social media pages! Happy Holiday Adventuring!
URL:https://earthartout.com/event/winter-solstice-celebration-4/
LOCATION:Earth Artisan & Outfitter\, 37 W. Chapel Ave.\, Carlisle\, PA\, 17013\, United States
CATEGORIES:In-Store Sale
END:VEVENT
BEGIN:VEVENT
DTSTART;TZID=America/New_York:20221216T110000
DTEND;TZID=America/New_York:20221216T160000
DTSTAMP:20260421T142553
CREATED:20220321T141031Z
LAST-MODIFIED:20220321T141031Z
UID:2035-1671188400-1671206400@earthartout.com
SUMMARY:Winter Solstice Celebration
DESCRIPTION:Earth is open Thursday\, Friday & Saturday 11-4\, other times by appointment. Winter Solstice begins next week on December 21\, celebrate the season with us December 15\, 16 & 17 and receive a small gift with every purchase to bring light during the longest night. This is the perfect opportunity to Shop Small for all of your holiday gifts at Earth\, we have something for every earthy elf on your list! And don’t forget to fill  out your Earth Wish List while you’re here! Stay tuned for details and updates on our social media pages! Happy Holiday Adventuring!
URL:https://earthartout.com/event/winter-solstice-celebration-3/
LOCATION:Earth Artisan & Outfitter\, 37 W. Chapel Ave.\, Carlisle\, PA\, 17013\, United States
CATEGORIES:In-Store Sale
END:VEVENT
BEGIN:VEVENT
DTSTART;TZID=America/New_York:20221215T110000
DTEND;TZID=America/New_York:20221215T160000
DTSTAMP:20260421T142553
CREATED:20220321T140959Z
LAST-MODIFIED:20220321T140959Z
UID:2033-1671102000-1671120000@earthartout.com
SUMMARY:Winter Solstice Celebration
DESCRIPTION:Earth is open Thursday\, Friday & Saturday 11-4\, other times by appointment. Winter Solstice begins next week on December 21\, celebrate the season with us December 15\, 16 & 17 and receive a small gift with every purchase to bring light during the longest night. This is the perfect opportunity to Shop Small for all of your holiday gifts at Earth\, we have something for every earthy elf on your list! And don’t forget to fill  out your Earth Wish List while you’re here! Stay tuned for details and updates on our social media pages! Happy Holiday Adventuring!
URL:https://earthartout.com/event/winter-solstice-celebration-2/
LOCATION:Earth Artisan & Outfitter\, 37 W. Chapel Ave.\, Carlisle\, PA\, 17013\, United States
CATEGORIES:In-Store Sale
END:VEVENT
BEGIN:VEVENT
DTSTART;TZID=America/New_York:20221210T110000
DTEND;TZID=America/New_York:20221210T160000
DTSTAMP:20260421T142553
CREATED:20220321T140849Z
LAST-MODIFIED:20220321T140849Z
UID:2031-1670670000-1670688000@earthartout.com
SUMMARY:Extended Holiday Hours
DESCRIPTION:Earth is open Thursday\, Friday & Saturday 11-4\, other times by appointment. This is the perfect opportunity to Shop Small for all of your holiday gifts at Earth\, we have something for every earthy elf on your list! And don’t forget to start filling out your Earth Wish List while you’re here! Stay tuned for details and updates on our social media pages! Happy Holiday Adventuring!
URL:https://earthartout.com/event/extended-holiday-hours-3/
LOCATION:Earth Artisan & Outfitter\, 37 W. Chapel Ave.\, Carlisle\, PA\, 17013\, United States
CATEGORIES:In-Store Sale
END:VEVENT
BEGIN:VEVENT
DTSTART;TZID=America/New_York:20221209T110000
DTEND;TZID=America/New_York:20221209T160000
DTSTAMP:20260421T142553
CREATED:20220321T140659Z
LAST-MODIFIED:20220321T140659Z
UID:2029-1670583600-1670601600@earthartout.com
SUMMARY:Extended Holiday Hours
DESCRIPTION:Earth is open Thursday\, Friday & Saturday 11-4\, other times by appointment. This is the perfect opportunity to Shop Small for all of your holiday gifts at Earth\, we have something for every earthy elf on your list! And don’t forget to start filling out your Earth Wish List while you’re here! Stay tuned for details and updates on our social media pages! Happy Holiday Adventuring!
URL:https://earthartout.com/event/extended-holiday-hours-2/
LOCATION:Earth Artisan & Outfitter\, 37 W. Chapel Ave.\, Carlisle\, PA\, 17013\, United States
CATEGORIES:In-Store Sale
END:VEVENT
BEGIN:VEVENT
DTSTART;TZID=America/New_York:20221208T110000
DTEND;TZID=America/New_York:20221208T160000
DTSTAMP:20260421T142553
CREATED:20220321T140622Z
LAST-MODIFIED:20220321T140756Z
UID:2027-1670497200-1670515200@earthartout.com
SUMMARY:Extended Holiday Hours
DESCRIPTION:Earth is open Thursday\, Friday & Saturday 11-4\, other times by appointment. This is the perfect opportunity to Shop Small for all of your holiday gifts at Earth\, we have something for every earthy elf on your list! And don’t forget to start filling out your Earth Wish List while you’re here! Stay tuned for details and updates on our social media pages! Happy Holiday Adventuring!
URL:https://earthartout.com/event/extended-holiday-hours/
LOCATION:Earth Artisan & Outfitter\, 37 W. Chapel Ave.\, Carlisle\, PA\, 17013\, United States
CATEGORIES:In-Store Sale
END:VEVENT
BEGIN:VEVENT
DTSTART;VALUE=DATE:20221207
DTEND;VALUE=DATE:20221208
DTSTAMP:20260421T142553
CREATED:20220321T140433Z
LAST-MODIFIED:20220321T140433Z
UID:2025-1670371200-1670457599@earthartout.com
SUMMARY:Long Nights Moon
DESCRIPTION:Dance\, howl and celebrate Life outside in the moonlight!
URL:https://earthartout.com/event/long-nights-moon/
CATEGORIES:Earthy Activity
ATTACH;FMTTYPE=image/png:https://earthartout.com/wp-content/uploads/2022/03/Full-Moon.png
END:VEVENT
BEGIN:VEVENT
DTSTART;TZID=America/New_York:20221203T110000
DTEND;TZID=America/New_York:20221203T160000
DTSTAMP:20260421T142553
CREATED:20220321T140348Z
LAST-MODIFIED:20220321T140348Z
UID:2023-1670065200-1670083200@earthartout.com
SUMMARY:Holiday Open House
DESCRIPTION:Earth is open Thursday\, Friday & Saturday 11-4\, other times by appointment. The tree is up\, earthy decorations abound! This is the perfect opportunity to Shop Small for all of your holiday gifts at Earth Artisan & Outfitter\, we have something for every earthy elf on your list! And don’t forget to start filling out your Earth Wish List while you’re here! Stay tuned for details and updates on our social media pages! Happy Holiday Adventuring!
URL:https://earthartout.com/event/holiday-open-house-4/
LOCATION:Earth Artisan & Outfitter\, 37 W. Chapel Ave.\, Carlisle\, PA\, 17013\, United States
CATEGORIES:In-Store Sale
END:VEVENT
BEGIN:VEVENT
DTSTART;TZID=America/New_York:20221202T110000
DTEND;TZID=America/New_York:20221202T160000
DTSTAMP:20260421T142553
CREATED:20220321T140255Z
LAST-MODIFIED:20220321T140255Z
UID:2021-1669978800-1669996800@earthartout.com
SUMMARY:Holiday Open House
DESCRIPTION:Earth is open Thursday\, Friday & Saturday 11-4\, other times by appointment. The tree is up\, earthy decorations abound! This is the perfect opportunity to Shop Small for all of your holiday gifts at Earth Artisan & Outfitter\, we have something for every earthy elf on your list! And don’t forget to start filling out your Earth Wish List while you’re here! Stay tuned for details and updates on our social media pages! Happy Holiday Adventuring!
URL:https://earthartout.com/event/holiday-open-house-3/
LOCATION:Earth Artisan & Outfitter\, 37 W. Chapel Ave.\, Carlisle\, PA\, 17013\, United States
CATEGORIES:In-Store Sale
END:VEVENT
BEGIN:VEVENT
DTSTART;TZID=America/New_York:20221201T110000
DTEND;TZID=America/New_York:20221201T160000
DTSTAMP:20260421T142553
CREATED:20220321T140207Z
LAST-MODIFIED:20220321T140207Z
UID:2019-1669892400-1669910400@earthartout.com
SUMMARY:Holiday Open House
DESCRIPTION:Earth is open Thursday\, Friday & Saturday 11-4\, other times by appointment. The tree is up\, earthy decorations abound! This is the perfect opportunity to Shop Small for all of your holiday gifts at Earth Artisan & Outfitter\, we have something for every earthy elf on your list! And don’t forget to start filling out your Earth Wish List while you’re here! Stay tuned for details and updates on our social media pages! Happy Holiday Adventuring!
URL:https://earthartout.com/event/holiday-open-house-2/
LOCATION:Earth Artisan & Outfitter\, 37 W. Chapel Ave.\, Carlisle\, PA\, 17013\, United States
CATEGORIES:In-Store Sale
END:VEVENT
BEGIN:VEVENT
DTSTART;VALUE=DATE:20221125
DTEND;VALUE=DATE:20221128
DTSTAMP:20260421T142553
CREATED:20220321T135842Z
LAST-MODIFIED:20220321T135842Z
UID:2017-1669334400-1669593599@earthartout.com
SUMMARY:Holiday Open House
DESCRIPTION:This is the ultimate time to support small businesses everywhere\, including Earth Artisan & Outfitter. We will have extended hours and specials in the shop to say thank you to our awesome customers for your continual friendship\, support & patronage over the past 8 years! This is also the perfect opportunity to Shop Small for all of your holiday gifts at Earth\, we have something for every earthy elf on your list! And don’t forget to start filling out your Earth Wish List while you’re here! Stay tuned for details and updates on our social media pages!
URL:https://earthartout.com/event/holiday-open-house/
LOCATION:Earth Artisan & Outfitter\, 37 W. Chapel Ave.\, Carlisle\, PA\, 17013\, United States
CATEGORIES:In-Store Sale
END:VEVENT
BEGIN:VEVENT
DTSTART;VALUE=DATE:20221125
DTEND;VALUE=DATE:20221128
DTSTAMP:20260421T142553
CREATED:20220321T135803Z
LAST-MODIFIED:20220321T135803Z
UID:2015-1669334400-1669593599@earthartout.com
SUMMARY:Small Business Weekend
DESCRIPTION:This is the ultimate time to support small businesses everywhere\, including Earth Artisan & Outfitter. We will have extended hours and specials in the shop to say thank you to our awesome customers for your continual friendship\, support & patronage over the past 8 years! This is also the perfect opportunity to Shop Small for all of your holiday gifts at Earth\, we have something for every earthy elf on your list! And don’t forget to start filling out your Earth Wish List while you’re here! Stay tuned for details and updates on our social media pages!
URL:https://earthartout.com/event/small-business-weekend-4/
CATEGORIES:Calendar Event
END:VEVENT
BEGIN:VEVENT
DTSTART;VALUE=DATE:20221124
DTEND;VALUE=DATE:20221125
DTSTAMP:20260421T142553
CREATED:20220321T135653Z
LAST-MODIFIED:20220321T135653Z
UID:2013-1669248000-1669334399@earthartout.com
SUMMARY:Thanksgiving Day
DESCRIPTION:Give thanks for the bounty of Life! Thank you for your friendship\, support and patronage of The Earth\, The Arts and Life Wild & Free!
URL:https://earthartout.com/event/thanksgiving-day/
CATEGORIES:Calendar Event
END:VEVENT
BEGIN:VEVENT
DTSTART;VALUE=DATE:20221111
DTEND;VALUE=DATE:20221113
DTSTAMP:20260421T142553
CREATED:20220321T135617Z
LAST-MODIFIED:20220321T135617Z
UID:2011-1668124800-1668297599@earthartout.com
SUMMARY:Earth will be closed for a special event
DESCRIPTION:
URL:https://earthartout.com/event/earth-will-be-closed-for-a-special-event/
CATEGORIES:Hours Change
END:VEVENT
END:VCALENDAR