BEGIN:VCALENDAR
VERSION:2.0
PRODID:-//Earth Artisan &amp; Outfitter - ECPv6.0.11//NONSGML v1.0//EN
CALSCALE:GREGORIAN
METHOD:PUBLISH
X-ORIGINAL-URL:https://earthartout.com
X-WR-CALDESC:Events for Earth Artisan &amp; Outfitter
REFRESH-INTERVAL;VALUE=DURATION:PT1H
X-Robots-Tag:noindex
X-PUBLISHED-TTL:PT1H
BEGIN:VTIMEZONE
TZID:America/New_York
BEGIN:DAYLIGHT
TZOFFSETFROM:-0500
TZOFFSETTO:-0400
TZNAME:EDT
DTSTART:20220313T070000
END:DAYLIGHT
BEGIN:STANDARD
TZOFFSETFROM:-0400
TZOFFSETTO:-0500
TZNAME:EST
DTSTART:20221106T060000
END:STANDARD
END:VTIMEZONE
BEGIN:VEVENT
DTSTART;TZID=America/New_York:20221202T110000
DTEND;TZID=America/New_York:20221202T160000
DTSTAMP:20260421T174939
CREATED:20220321T140255Z
LAST-MODIFIED:20220321T140255Z
UID:2021-1669978800-1669996800@earthartout.com
SUMMARY:Holiday Open House
DESCRIPTION:Earth is open Thursday\, Friday & Saturday 11-4\, other times by appointment. The tree is up\, earthy decorations abound! This is the perfect opportunity to Shop Small for all of your holiday gifts at Earth Artisan & Outfitter\, we have something for every earthy elf on your list! And don’t forget to start filling out your Earth Wish List while you’re here! Stay tuned for details and updates on our social media pages! Happy Holiday Adventuring!
URL:https://earthartout.com/event/holiday-open-house-3/
LOCATION:Earth Artisan & Outfitter\, 37 W. Chapel Ave.\, Carlisle\, PA\, 17013\, United States
CATEGORIES:In-Store Sale
END:VEVENT
BEGIN:VEVENT
DTSTART;TZID=America/New_York:20221201T110000
DTEND;TZID=America/New_York:20221201T160000
DTSTAMP:20260421T174939
CREATED:20220321T140207Z
LAST-MODIFIED:20220321T140207Z
UID:2019-1669892400-1669910400@earthartout.com
SUMMARY:Holiday Open House
DESCRIPTION:Earth is open Thursday\, Friday & Saturday 11-4\, other times by appointment. The tree is up\, earthy decorations abound! This is the perfect opportunity to Shop Small for all of your holiday gifts at Earth Artisan & Outfitter\, we have something for every earthy elf on your list! And don’t forget to start filling out your Earth Wish List while you’re here! Stay tuned for details and updates on our social media pages! Happy Holiday Adventuring!
URL:https://earthartout.com/event/holiday-open-house-2/
LOCATION:Earth Artisan & Outfitter\, 37 W. Chapel Ave.\, Carlisle\, PA\, 17013\, United States
CATEGORIES:In-Store Sale
END:VEVENT
BEGIN:VEVENT
DTSTART;VALUE=DATE:20221125
DTEND;VALUE=DATE:20221128
DTSTAMP:20260421T174939
CREATED:20220321T135842Z
LAST-MODIFIED:20220321T135842Z
UID:2017-1669334400-1669593599@earthartout.com
SUMMARY:Holiday Open House
DESCRIPTION:This is the ultimate time to support small businesses everywhere\, including Earth Artisan & Outfitter. We will have extended hours and specials in the shop to say thank you to our awesome customers for your continual friendship\, support & patronage over the past 8 years! This is also the perfect opportunity to Shop Small for all of your holiday gifts at Earth\, we have something for every earthy elf on your list! And don’t forget to start filling out your Earth Wish List while you’re here! Stay tuned for details and updates on our social media pages!
URL:https://earthartout.com/event/holiday-open-house/
LOCATION:Earth Artisan & Outfitter\, 37 W. Chapel Ave.\, Carlisle\, PA\, 17013\, United States
CATEGORIES:In-Store Sale
END:VEVENT
BEGIN:VEVENT
DTSTART;VALUE=DATE:20221125
DTEND;VALUE=DATE:20221128
DTSTAMP:20260421T174939
CREATED:20220321T135803Z
LAST-MODIFIED:20220321T135803Z
UID:2015-1669334400-1669593599@earthartout.com
SUMMARY:Small Business Weekend
DESCRIPTION:This is the ultimate time to support small businesses everywhere\, including Earth Artisan & Outfitter. We will have extended hours and specials in the shop to say thank you to our awesome customers for your continual friendship\, support & patronage over the past 8 years! This is also the perfect opportunity to Shop Small for all of your holiday gifts at Earth\, we have something for every earthy elf on your list! And don’t forget to start filling out your Earth Wish List while you’re here! Stay tuned for details and updates on our social media pages!
URL:https://earthartout.com/event/small-business-weekend-4/
CATEGORIES:Calendar Event
END:VEVENT
BEGIN:VEVENT
DTSTART;VALUE=DATE:20221124
DTEND;VALUE=DATE:20221125
DTSTAMP:20260421T174939
CREATED:20220321T135653Z
LAST-MODIFIED:20220321T135653Z
UID:2013-1669248000-1669334399@earthartout.com
SUMMARY:Thanksgiving Day
DESCRIPTION:Give thanks for the bounty of Life! Thank you for your friendship\, support and patronage of The Earth\, The Arts and Life Wild & Free!
URL:https://earthartout.com/event/thanksgiving-day/
CATEGORIES:Calendar Event
END:VEVENT
BEGIN:VEVENT
DTSTART;VALUE=DATE:20221111
DTEND;VALUE=DATE:20221113
DTSTAMP:20260421T174939
CREATED:20220321T135617Z
LAST-MODIFIED:20220321T135617Z
UID:2011-1668124800-1668297599@earthartout.com
SUMMARY:Earth will be closed for a special event
DESCRIPTION:
URL:https://earthartout.com/event/earth-will-be-closed-for-a-special-event/
CATEGORIES:Hours Change
END:VEVENT
BEGIN:VEVENT
DTSTART;VALUE=DATE:20221111
DTEND;VALUE=DATE:20221112
DTSTAMP:20260421T174939
CREATED:20220321T135523Z
LAST-MODIFIED:20220321T135523Z
UID:2009-1668124800-1668211199@earthartout.com
SUMMARY:Veterans Day
DESCRIPTION:Honoring service men and women\, give thanks.
URL:https://earthartout.com/event/veterans-day/
CATEGORIES:Calendar Event
END:VEVENT
BEGIN:VEVENT
DTSTART;VALUE=DATE:20221108
DTEND;VALUE=DATE:20221109
DTSTAMP:20260421T174939
CREATED:20220321T135430Z
LAST-MODIFIED:20220321T135430Z
UID:2007-1667865600-1667951999@earthartout.com
SUMMARY:Mourning Moon\, aka the Beaver Moon
DESCRIPTION:Dance\, howl and celebrate Life outside in the moonlight! Look to nature and the beavers who are busy building their lodges during this time for inspiration on being creative and productive!
URL:https://earthartout.com/event/mourning-moon-aka-the-beaver-moon/
CATEGORIES:Earthy Activity
ATTACH;FMTTYPE=image/png:https://earthartout.com/wp-content/uploads/2022/03/Full-Moon.png
END:VEVENT
BEGIN:VEVENT
DTSTART;VALUE=DATE:20221106
DTEND;VALUE=DATE:20221107
DTSTAMP:20260421T174939
CREATED:20220321T135339Z
LAST-MODIFIED:20220321T135339Z
UID:2005-1667692800-1667779199@earthartout.com
SUMMARY:Fall Back: Daylight Savings Time
DESCRIPTION:
URL:https://earthartout.com/event/fall-back-daylight-savings-time/
CATEGORIES:Calendar Event
END:VEVENT
BEGIN:VEVENT
DTSTART;TZID=America/New_York:20221016T110000
DTEND;TZID=America/New_York:20221016T160000
DTSTAMP:20260421T174939
CREATED:20220321T135304Z
LAST-MODIFIED:20220321T135304Z
UID:2003-1665918000-1665936000@earthartout.com
SUMMARY:Halloweekend & Spooky Saturday
DESCRIPTION:A downtown Carlisle tradition sponsored by Destination Carlisle and Georgie Lou’s Retro Candy\, our town is transformed into a Halloween hub of excitement! Earth Artisan & Outfitter will be part of the Pumpkin Path through our historic downtown and our shop will be open Friday & Saturday 11-4 with a gorgeous fall porch display\, photo ops and treats on the porch during Spooky Saturday. Learn more on the Destination Carlisle website. Follow our social media pages for details & updates.
URL:https://earthartout.com/event/halloweekend-spooky-saturday-2/
LOCATION:Earth Artisan & Outfitter\, 37 W. Chapel Ave.\, Carlisle\, PA\, 17013\, United States
CATEGORIES:In-Store Sale
END:VEVENT
BEGIN:VEVENT
DTSTART;TZID=America/New_York:20221015T110000
DTEND;TZID=America/New_York:20221015T160000
DTSTAMP:20260421T174939
CREATED:20220321T135222Z
LAST-MODIFIED:20220321T135222Z
UID:2001-1665831600-1665849600@earthartout.com
SUMMARY:Halloweekend & Spooky Saturday
DESCRIPTION:A downtown Carlisle tradition sponsored by Destination Carlisle and Georgie Lou’s Retro Candy\, our town is transformed into a Halloween hub of excitement! Earth Artisan & Outfitter will be part of the Pumpkin Path through our historic downtown and our shop will be open Friday & Saturday 11-4 with a gorgeous fall porch display\, photo ops and treats on the porch during Spooky Saturday. Learn more on the Destination Carlisle website. Follow our social media pages for details & updates.
URL:https://earthartout.com/event/halloweekend-spooky-saturday/
LOCATION:Earth Artisan & Outfitter\, 37 W. Chapel Ave.\, Carlisle\, PA\, 17013\, United States
CATEGORIES:In-Store Sale
END:VEVENT
BEGIN:VEVENT
DTSTART;VALUE=DATE:20221010
DTEND;VALUE=DATE:20221011
DTSTAMP:20260421T174939
CREATED:20220321T135042Z
LAST-MODIFIED:20220321T135042Z
UID:1999-1665360000-1665446399@earthartout.com
SUMMARY:Indigenous People’s Day
DESCRIPTION:Honoring indigenous peoples of the Americas. This is the perfect opportunity to listen\, learn and honor the original inhabitants of this land.
URL:https://earthartout.com/event/indigenous-peoples-day/
CATEGORIES:Calendar Event
END:VEVENT
BEGIN:VEVENT
DTSTART;VALUE=DATE:20221009
DTEND;VALUE=DATE:20221010
DTSTAMP:20260421T174939
CREATED:20220321T135001Z
LAST-MODIFIED:20220321T135001Z
UID:1997-1665273600-1665359999@earthartout.com
SUMMARY:Hunters Moon
DESCRIPTION:Dance\, howl and celebrate Life outside in the moonlight!
URL:https://earthartout.com/event/hunters-moon/
CATEGORIES:Earthy Activity
ATTACH;FMTTYPE=image/png:https://earthartout.com/wp-content/uploads/2022/03/Full-Moon.png
END:VEVENT
BEGIN:VEVENT
DTSTART;TZID=America/New_York:20220924T110000
DTEND;TZID=America/New_York:20220924T160000
DTSTAMP:20260421T174939
CREATED:20220321T134910Z
LAST-MODIFIED:20220321T134910Z
UID:1995-1664017200-1664035200@earthartout.com
SUMMARY:Harvest Of The Arts
DESCRIPTION:A Downtown Carlisle Association event that takes place on High St in downtown Carlisle. But be sure to Shop Small & Local and Harvest The Arts at Earth Artisan & Outfitter! We will have specials on all of our awesome earth-based fine art\, photography and limited edition prints created while on adventure in the great wide yonder. Stay tuned to our social media pages for details!
URL:https://earthartout.com/event/harvest-of-the-arts/
LOCATION:Earth Artisan & Outfitter\, 37 W. Chapel Ave.\, Carlisle\, PA\, 17013\, United States
CATEGORIES:In-Store Sale
END:VEVENT
BEGIN:VEVENT
DTSTART;VALUE=DATE:20220922
DTEND;VALUE=DATE:20220923
DTSTAMP:20260421T174939
CREATED:20220321T134801Z
LAST-MODIFIED:20220321T134801Z
UID:1993-1663804800-1663891199@earthartout.com
SUMMARY:Autumn Equinox
DESCRIPTION:As the sun is heading south\, the air is turning crisp and days will start to get shorter. Celebrate the harvest\, give thanks for the bounty of the season and starting saving reserves for the approaching long winter.
URL:https://earthartout.com/event/autumn-equinox-2/
CATEGORIES:Earthy Activity
END:VEVENT
BEGIN:VEVENT
DTSTART;VALUE=DATE:20220921
DTEND;VALUE=DATE:20220922
DTSTAMP:20260421T174939
CREATED:20220321T134727Z
LAST-MODIFIED:20220321T134727Z
UID:1991-1663718400-1663804799@earthartout.com
SUMMARY:International Day Of Peace
DESCRIPTION:A day for good vibes only\, go hug your neighbors.
URL:https://earthartout.com/event/international-day-of-peace/
CATEGORIES:Calendar Event
END:VEVENT
BEGIN:VEVENT
DTSTART;TZID=America/New_York:20220917T110000
DTEND;TZID=America/New_York:20220917T160000
DTSTAMP:20260421T174939
CREATED:20220321T134622Z
LAST-MODIFIED:20220321T134622Z
UID:1989-1663412400-1663430400@earthartout.com
SUMMARY:Autumn Harvest Celebration
DESCRIPTION:Gather great deals on our earth based art\, goods & gear during a special sale in the shop to celebrate the season and the bounty of our artistic and adventurous ramblings in the great wide yonder. Stay tuned for details on our social media pages.
URL:https://earthartout.com/event/autumn-harvest-celebration-2/
LOCATION:Earth Artisan & Outfitter\, 37 W. Chapel Ave.\, Carlisle\, PA\, 17013\, United States
CATEGORIES:In-Store Sale
END:VEVENT
BEGIN:VEVENT
DTSTART;TZID=America/New_York:20220916T110000
DTEND;TZID=America/New_York:20220916T160000
DTSTAMP:20260421T174939
CREATED:20220321T134535Z
LAST-MODIFIED:20220321T134535Z
UID:1987-1663326000-1663344000@earthartout.com
SUMMARY:Autumn Harvest Celebration
DESCRIPTION:Gather great deals on our earth based art\, goods & gear during a special sale in the shop to celebrate the season and the bounty of our artistic and adventurous ramblings in the great wide yonder. Stay tuned for details on our social media pages.
URL:https://earthartout.com/event/autumn-harvest-celebration/
LOCATION:Earth Artisan & Outfitter\, 37 W. Chapel Ave.\, Carlisle\, PA\, 17013\, United States
CATEGORIES:In-Store Sale
END:VEVENT
BEGIN:VEVENT
DTSTART;TZID=America/New_York:20220910T110000
DTEND;TZID=America/New_York:20220910T160000
DTSTAMP:20260421T174939
CREATED:20220321T134334Z
LAST-MODIFIED:20220321T134334Z
UID:1983-1662807600-1662825600@earthartout.com
SUMMARY:Welcome Back to Earth!
DESCRIPTION:We are reopening for the season and look forward to reconnecting with you\, hearing your adventure tales & providing you with more great guidance\, art\, goods & gear for mindful living at home\, in the garden and on the trail! Get Out & Get Here!
URL:https://earthartout.com/event/welcome-back-to-earth-2/
LOCATION:Earth Artisan & Outfitter\, 37 W. Chapel Ave.\, Carlisle\, PA\, 17013\, United States
CATEGORIES:Hours Change
END:VEVENT
BEGIN:VEVENT
DTSTART;VALUE=DATE:20220910
DTEND;VALUE=DATE:20220911
DTSTAMP:20260421T174939
CREATED:20220321T134429Z
LAST-MODIFIED:20220321T134429Z
UID:1985-1662768000-1662854399@earthartout.com
SUMMARY:Full Harvest Moon\, aka the Corn Moon
DESCRIPTION:Dance\, howl and celebrate Life outside in the moonlight! Count your blessings as you harvest the bounty of the season.
URL:https://earthartout.com/event/full-harvest-moon-aka-the-corn-moon/
CATEGORIES:Earthy Activity
ATTACH;FMTTYPE=image/png:https://earthartout.com/wp-content/uploads/2022/03/Full-Moon.png
END:VEVENT
BEGIN:VEVENT
DTSTART;TZID=America/New_York:20220909T110000
DTEND;TZID=America/New_York:20220909T160000
DTSTAMP:20260421T174939
CREATED:20220321T134255Z
LAST-MODIFIED:20220321T134255Z
UID:1981-1662721200-1662739200@earthartout.com
SUMMARY:Welcome Back to Earth!
DESCRIPTION:We are reopening for the season and look forward to reconnecting with you\, hearing your adventure tales & providing you with more great guidance\, art\, goods & gear for mindful living at home\, in the garden and on the trail! Get Out & Get Here!
URL:https://earthartout.com/event/welcome-back-to-earth/
LOCATION:Earth Artisan & Outfitter\, 37 W. Chapel Ave.\, Carlisle\, PA\, 17013\, United States
CATEGORIES:Hours Change
END:VEVENT
BEGIN:VEVENT
DTSTART;VALUE=DATE:20220905
DTEND;VALUE=DATE:20220906
DTSTAMP:20260421T174939
CREATED:20220321T134149Z
LAST-MODIFIED:20220321T134149Z
UID:1979-1662336000-1662422399@earthartout.com
SUMMARY:Labor Day
DESCRIPTION:You work hard and deserve a break. Breathe\, relax\, enjoy whatever makes your soul sing!
URL:https://earthartout.com/event/labor-day/
CATEGORIES:Calendar Event
END:VEVENT
BEGIN:VEVENT
DTSTART;VALUE=DATE:20220811
DTEND;VALUE=DATE:20220812
DTSTAMP:20260421T174939
CREATED:20220321T134113Z
LAST-MODIFIED:20220321T134113Z
UID:1977-1660176000-1660262399@earthartout.com
SUMMARY:Sturgeon Moon
DESCRIPTION:Dance\, howl and celebrate Life outside in the moonlight! Go fish!
URL:https://earthartout.com/event/sturgeon-moon/
CATEGORIES:Earthy Activity
ATTACH;FMTTYPE=image/png:https://earthartout.com/wp-content/uploads/2022/03/Full-Moon.png
END:VEVENT
BEGIN:VEVENT
DTSTART;VALUE=DATE:20220713
DTEND;VALUE=DATE:20220714
DTSTAMP:20260421T174939
CREATED:20220321T133616Z
LAST-MODIFIED:20220321T133616Z
UID:1975-1657670400-1657756799@earthartout.com
SUMMARY:Full Blessing Moon\, aka the Buck Moon
DESCRIPTION:Life is full of blessings! Dance\, howl and celebrate Life outside in the moonlight! This is when male deer start regrowing their antlers.
URL:https://earthartout.com/event/full-blessing-moon-aka-the-buck-moon/
CATEGORIES:Earthy Activity
ATTACH;FMTTYPE=image/png:https://earthartout.com/wp-content/uploads/2022/03/Full-Moon.png
END:VEVENT
BEGIN:VEVENT
DTSTART;VALUE=DATE:20220704
DTEND;VALUE=DATE:20220705
DTSTAMP:20260421T174939
CREATED:20220321T133504Z
LAST-MODIFIED:20220321T133504Z
UID:1973-1656892800-1656979199@earthartout.com
SUMMARY:Fourth of July
DESCRIPTION:Celebrate Your Independence and Life Wild & Free! Be safe\, be smart\, be kind\, respect the Earth and her children.
URL:https://earthartout.com/event/fourth-of-july/
CATEGORIES:Calendar Event
END:VEVENT
BEGIN:VEVENT
DTSTART;VALUE=DATE:20220621
DTEND;VALUE=DATE:20220622
DTSTAMP:20260421T174939
CREATED:20220321T133418Z
LAST-MODIFIED:20220321T133418Z
UID:1971-1655769600-1655855999@earthartout.com
SUMMARY:Summer Solstice
DESCRIPTION:Celebrate the official first day of summer with time outside enjoying nature! Build a campfire\, sing\, dance\, walk barefoot in the garden or on the beach\, do whatever makes your soul sing to celebrate the season on the longest day of the year!
URL:https://earthartout.com/event/summer-solstice/
CATEGORIES:Earthy Activity
END:VEVENT
BEGIN:VEVENT
DTSTART;VALUE=DATE:20220614
DTEND;VALUE=DATE:20220615
DTSTAMP:20260421T174939
CREATED:20220321T133340Z
LAST-MODIFIED:20220321T133340Z
UID:1969-1655164800-1655251199@earthartout.com
SUMMARY:Strawberry Moon
DESCRIPTION:Dance\, howl and celebrate Life outside in the moonlight! This is when strawberries are ripe & ready to eat. Get to picking!
URL:https://earthartout.com/event/strawberry-moon/
CATEGORIES:Earthy Activity
ATTACH;FMTTYPE=image/png:https://earthartout.com/wp-content/uploads/2022/03/Full-Moon.png
END:VEVENT
BEGIN:VEVENT
DTSTART;VALUE=DATE:20220612
DTEND;VALUE=DATE:20220910
DTSTAMP:20260421T174939
CREATED:20220321T133214Z
LAST-MODIFIED:20220321T133214Z
UID:1967-1654992000-1662767999@earthartout.com
SUMMARY:Summer Break
DESCRIPTION:It’s time for adventure! During the hottest & slowest time of the year we close the shop and head for the hills\, focusing on family & field work. This is how we balance the many different aspects of what we do to keep things fresh & funky at Earth for you: recharging\, restocking\, creating and exploring in the great wide yonder\, and gathering unique goods & gear from other earthy makers we meet along the way that we look forward to sharing with you in the fall.\nOur shop hours are by appointment only (pending availability) during this time. There may be a special occasion when we are back in the area and open for the day. Stay tuned to our social media pages for updates and be sure to follow our Adventure Blog! Wondering where we’re heading? Here’s a few hints: deep forests\, barrier islands\, sharks teeth\, wild horses\, wild rivers\, rugged mountains\, desert canyons and ancient civilizations…..stay tuned to learn more!\n In the interim\, please feel free to reach out to us directly via our contact information if you are in need of our assistance\, or need to pick up provisions such as our awesome earth-based art\, goods\, gear & guides and we will get them to you. Til we meet again\, Happy Adventuring!
URL:https://earthartout.com/event/summer-break/
LOCATION:Earth Artisan & Outfitter\, 37 W. Chapel Ave.\, Carlisle\, PA\, 17013\, United States
CATEGORIES:Hours Change
END:VEVENT
BEGIN:VEVENT
DTSTART;TZID=America/New_York:20220610T110000
DTEND;TZID=America/New_York:20220610T160000
DTSTAMP:20260421T174939
CREATED:20220321T133037Z
LAST-MODIFIED:20220321T133037Z
UID:1965-1654858800-1654876800@earthartout.com
SUMMARY:Dude’s Day & Get Ready for Summer
DESCRIPTION:In honor of Father’s Day celebrate the inspiring fellas in your life with specials in the shop on our earth-based art\, goods & gear! This will also be an excellent time to stock up for summer adventure while you’re here as Earth will be closing for the season June 12\, reopening in September!
URL:https://earthartout.com/event/dudes-day-get-ready-for-summer-2/
LOCATION:Earth Artisan & Outfitter\, 37 W. Chapel Ave.\, Carlisle\, PA\, 17013\, United States
CATEGORIES:In-Store Sale
END:VEVENT
BEGIN:VEVENT
DTSTART;TZID=America/New_York:20220609T110000
DTEND;TZID=America/New_York:20220609T160000
DTSTAMP:20260421T174939
CREATED:20220321T133002Z
LAST-MODIFIED:20220321T133002Z
UID:1963-1654772400-1654790400@earthartout.com
SUMMARY:Dude’s Day & Get Ready for Summer
DESCRIPTION:In honor of Father’s Day celebrate the inspiring fellas in your life with specials in the shop on our earth-based art\, goods & gear! This will also be an excellent time to stock up for summer adventure while you’re here as Earth will be closing for the season June 12\, reopening in September!
URL:https://earthartout.com/event/dudes-day-get-ready-for-summer/
LOCATION:Earth Artisan & Outfitter\, 37 W. Chapel Ave.\, Carlisle\, PA\, 17013\, United States
CATEGORIES:In-Store Sale
END:VEVENT
END:VCALENDAR