BEGIN:VCALENDAR
VERSION:2.0
PRODID:-//Earth Artisan &amp; Outfitter - ECPv6.0.11//NONSGML v1.0//EN
CALSCALE:GREGORIAN
METHOD:PUBLISH
X-WR-CALNAME:Earth Artisan &amp; Outfitter
X-ORIGINAL-URL:https://earthartout.com
X-WR-CALDESC:Events for Earth Artisan &amp; Outfitter
REFRESH-INTERVAL;VALUE=DURATION:PT1H
X-Robots-Tag:noindex
X-PUBLISHED-TTL:PT1H
BEGIN:VTIMEZONE
TZID:America/New_York
BEGIN:DAYLIGHT
TZOFFSETFROM:-0500
TZOFFSETTO:-0400
TZNAME:EDT
DTSTART:20240310T070000
END:DAYLIGHT
BEGIN:STANDARD
TZOFFSETFROM:-0400
TZOFFSETTO:-0500
TZNAME:EST
DTSTART:20241103T060000
END:STANDARD
END:VTIMEZONE
BEGIN:VEVENT
DTSTART;VALUE=DATE:20240906
DTEND;VALUE=DATE:20240907
DTSTAMP:20260420T170417
CREATED:20240417T190648Z
LAST-MODIFIED:20240417T190648Z
UID:2561-1725580800-1725667199@earthartout.com
SUMMARY:Earth is On Adventure
DESCRIPTION:We will be here\, there & everywhere focusing upon our field work and family\, and exploring the great wide yonder. Hours in the shop will be by special event & appointment only during this time. Please contact us in advance to arrange provision pickups. We look forward to continuing the journey with you in Autumn 2024. Til we meet again: Think Big\, Do Good\, Live & Love Wild & Free! \nFollow our adventures and stay tuned for updates by following our social media!
URL:https://earthartout.com/event/earth-is-on-adventure-25/
LOCATION:Earth Artisan & Outfitter\, 37 W. Chapel Ave.\, Carlisle\, PA\, 17013\, United States
CATEGORIES:Hours Change
ATTACH;FMTTYPE=image/png:https://earthartout.com/wp-content/uploads/2024/04/Screenshot_20240416-193923.png
END:VEVENT
BEGIN:VEVENT
DTSTART;VALUE=DATE:20240831
DTEND;VALUE=DATE:20240901
DTSTAMP:20260420T170417
CREATED:20240417T190636Z
LAST-MODIFIED:20240417T190636Z
UID:2559-1725062400-1725148799@earthartout.com
SUMMARY:Earth is On Adventure
DESCRIPTION:We will be here\, there & everywhere focusing upon our field work and family\, and exploring the great wide yonder. Hours in the shop will be by special event & appointment only during this time. Please contact us in advance to arrange provision pickups. We look forward to continuing the journey with you in Autumn 2024. Til we meet again: Think Big\, Do Good\, Live & Love Wild & Free! \nFollow our adventures and stay tuned for updates by following our social media!
URL:https://earthartout.com/event/earth-is-on-adventure-24/
LOCATION:Earth Artisan & Outfitter\, 37 W. Chapel Ave.\, Carlisle\, PA\, 17013\, United States
CATEGORIES:Hours Change
ATTACH;FMTTYPE=image/png:https://earthartout.com/wp-content/uploads/2024/04/Screenshot_20240416-193923.png
END:VEVENT
BEGIN:VEVENT
DTSTART;VALUE=DATE:20240830
DTEND;VALUE=DATE:20240831
DTSTAMP:20260420T170417
CREATED:20240417T190625Z
LAST-MODIFIED:20240417T190625Z
UID:2557-1724976000-1725062399@earthartout.com
SUMMARY:Earth is On Adventure
DESCRIPTION:We will be here\, there & everywhere focusing upon our field work and family\, and exploring the great wide yonder. Hours in the shop will be by special event & appointment only during this time. Please contact us in advance to arrange provision pickups. We look forward to continuing the journey with you in Autumn 2024. Til we meet again: Think Big\, Do Good\, Live & Love Wild & Free! \nFollow our adventures and stay tuned for updates by following our social media!
URL:https://earthartout.com/event/earth-is-on-adventure-23/
LOCATION:Earth Artisan & Outfitter\, 37 W. Chapel Ave.\, Carlisle\, PA\, 17013\, United States
CATEGORIES:Hours Change
ATTACH;FMTTYPE=image/png:https://earthartout.com/wp-content/uploads/2024/04/Screenshot_20240416-193923.png
END:VEVENT
BEGIN:VEVENT
DTSTART;VALUE=DATE:20240824
DTEND;VALUE=DATE:20240825
DTSTAMP:20260420T170417
CREATED:20240417T190614Z
LAST-MODIFIED:20240417T190614Z
UID:2555-1724457600-1724543999@earthartout.com
SUMMARY:Earth is On Adventure
DESCRIPTION:We will be here\, there & everywhere focusing upon our field work and family\, and exploring the great wide yonder. Hours in the shop will be by special event & appointment only during this time. Please contact us in advance to arrange provision pickups. We look forward to continuing the journey with you in Autumn 2024. Til we meet again: Think Big\, Do Good\, Live & Love Wild & Free! \nFollow our adventures and stay tuned for updates by following our social media!
URL:https://earthartout.com/event/earth-is-on-adventure-22/
LOCATION:Earth Artisan & Outfitter\, 37 W. Chapel Ave.\, Carlisle\, PA\, 17013\, United States
CATEGORIES:Hours Change
ATTACH;FMTTYPE=image/png:https://earthartout.com/wp-content/uploads/2024/04/Screenshot_20240416-193923.png
END:VEVENT
BEGIN:VEVENT
DTSTART;VALUE=DATE:20240823
DTEND;VALUE=DATE:20240824
DTSTAMP:20260420T170417
CREATED:20240417T190603Z
LAST-MODIFIED:20240417T190603Z
UID:2553-1724371200-1724457599@earthartout.com
SUMMARY:Earth is On Adventure
DESCRIPTION:We will be here\, there & everywhere focusing upon our field work and family\, and exploring the great wide yonder. Hours in the shop will be by special event & appointment only during this time. Please contact us in advance to arrange provision pickups. We look forward to continuing the journey with you in Autumn 2024. Til we meet again: Think Big\, Do Good\, Live & Love Wild & Free! \nFollow our adventures and stay tuned for updates by following our social media!
URL:https://earthartout.com/event/earth-is-on-adventure-21/
LOCATION:Earth Artisan & Outfitter\, 37 W. Chapel Ave.\, Carlisle\, PA\, 17013\, United States
CATEGORIES:Hours Change
ATTACH;FMTTYPE=image/png:https://earthartout.com/wp-content/uploads/2024/04/Screenshot_20240416-193923.png
END:VEVENT
BEGIN:VEVENT
DTSTART;VALUE=DATE:20240819
DTEND;VALUE=DATE:20240820
DTSTAMP:20260420T170417
CREATED:20240416T162136Z
LAST-MODIFIED:20240416T162136Z
UID:2424-1724025600-1724111999@earthartout.com
SUMMARY:Full Sturgeon Moon
DESCRIPTION:Dance\, howl and celebrate Life outside in the moonlight! Go fish!
URL:https://earthartout.com/event/full-sturgeon-moon-2/
LOCATION:PA
CATEGORIES:Calendar Event
ATTACH;FMTTYPE=image/png:https://earthartout.com/wp-content/uploads/2022/03/Full-Moon.png
END:VEVENT
BEGIN:VEVENT
DTSTART;VALUE=DATE:20240817
DTEND;VALUE=DATE:20240818
DTSTAMP:20260420T170417
CREATED:20240417T190553Z
LAST-MODIFIED:20240417T190553Z
UID:2551-1723852800-1723939199@earthartout.com
SUMMARY:Earth is On Adventure
DESCRIPTION:We will be here\, there & everywhere focusing upon our field work and family\, and exploring the great wide yonder. Hours in the shop will be by special event & appointment only during this time. Please contact us in advance to arrange provision pickups. We look forward to continuing the journey with you in Autumn 2024. Til we meet again: Think Big\, Do Good\, Live & Love Wild & Free! \nFollow our adventures and stay tuned for updates by following our social media!
URL:https://earthartout.com/event/earth-is-on-adventure-20/
LOCATION:Earth Artisan & Outfitter\, 37 W. Chapel Ave.\, Carlisle\, PA\, 17013\, United States
CATEGORIES:Hours Change
ATTACH;FMTTYPE=image/png:https://earthartout.com/wp-content/uploads/2024/04/Screenshot_20240416-193923.png
END:VEVENT
BEGIN:VEVENT
DTSTART;VALUE=DATE:20240816
DTEND;VALUE=DATE:20240817
DTSTAMP:20260420T170417
CREATED:20240417T190541Z
LAST-MODIFIED:20240417T190541Z
UID:2549-1723766400-1723852799@earthartout.com
SUMMARY:Earth is On Adventure
DESCRIPTION:We will be here\, there & everywhere focusing upon our field work and family\, and exploring the great wide yonder. Hours in the shop will be by special event & appointment only during this time. Please contact us in advance to arrange provision pickups. We look forward to continuing the journey with you in Autumn 2024. Til we meet again: Think Big\, Do Good\, Live & Love Wild & Free! \nFollow our adventures and stay tuned for updates by following our social media!
URL:https://earthartout.com/event/earth-is-on-adventure-19/
LOCATION:Earth Artisan & Outfitter\, 37 W. Chapel Ave.\, Carlisle\, PA\, 17013\, United States
CATEGORIES:Hours Change
ATTACH;FMTTYPE=image/png:https://earthartout.com/wp-content/uploads/2024/04/Screenshot_20240416-193923.png
END:VEVENT
BEGIN:VEVENT
DTSTART;VALUE=DATE:20240810
DTEND;VALUE=DATE:20240811
DTSTAMP:20260420T170417
CREATED:20240417T190531Z
LAST-MODIFIED:20240417T190531Z
UID:2547-1723248000-1723334399@earthartout.com
SUMMARY:Earth is On Adventure
DESCRIPTION:We will be here\, there & everywhere focusing upon our field work and family\, and exploring the great wide yonder. Hours in the shop will be by special event & appointment only during this time. Please contact us in advance to arrange provision pickups. We look forward to continuing the journey with you in Autumn 2024. Til we meet again: Think Big\, Do Good\, Live & Love Wild & Free! \nFollow our adventures and stay tuned for updates by following our social media!
URL:https://earthartout.com/event/earth-is-on-adventure-18/
LOCATION:Earth Artisan & Outfitter\, 37 W. Chapel Ave.\, Carlisle\, PA\, 17013\, United States
CATEGORIES:Hours Change
ATTACH;FMTTYPE=image/png:https://earthartout.com/wp-content/uploads/2024/04/Screenshot_20240416-193923.png
END:VEVENT
BEGIN:VEVENT
DTSTART;VALUE=DATE:20240809
DTEND;VALUE=DATE:20240810
DTSTAMP:20260420T170417
CREATED:20240417T190522Z
LAST-MODIFIED:20240417T190522Z
UID:2545-1723161600-1723247999@earthartout.com
SUMMARY:Earth is On Adventure
DESCRIPTION:We will be here\, there & everywhere focusing upon our field work and family\, and exploring the great wide yonder. Hours in the shop will be by special event & appointment only during this time. Please contact us in advance to arrange provision pickups. We look forward to continuing the journey with you in Autumn 2024. Til we meet again: Think Big\, Do Good\, Live & Love Wild & Free! \nFollow our adventures and stay tuned for updates by following our social media!
URL:https://earthartout.com/event/earth-is-on-adventure-17/
LOCATION:Earth Artisan & Outfitter\, 37 W. Chapel Ave.\, Carlisle\, PA\, 17013\, United States
CATEGORIES:Hours Change
ATTACH;FMTTYPE=image/png:https://earthartout.com/wp-content/uploads/2024/04/Screenshot_20240416-193923.png
END:VEVENT
BEGIN:VEVENT
DTSTART;VALUE=DATE:20240803
DTEND;VALUE=DATE:20240804
DTSTAMP:20260420T170417
CREATED:20240417T190513Z
LAST-MODIFIED:20240417T190513Z
UID:2543-1722643200-1722729599@earthartout.com
SUMMARY:Earth is On Adventure
DESCRIPTION:We will be here\, there & everywhere focusing upon our field work and family\, and exploring the great wide yonder. Hours in the shop will be by special event & appointment only during this time. Please contact us in advance to arrange provision pickups. We look forward to continuing the journey with you in Autumn 2024. Til we meet again: Think Big\, Do Good\, Live & Love Wild & Free! \nFollow our adventures and stay tuned for updates by following our social media!
URL:https://earthartout.com/event/earth-is-on-adventure-16/
LOCATION:Earth Artisan & Outfitter\, 37 W. Chapel Ave.\, Carlisle\, PA\, 17013\, United States
CATEGORIES:Hours Change
ATTACH;FMTTYPE=image/png:https://earthartout.com/wp-content/uploads/2024/04/Screenshot_20240416-193923.png
END:VEVENT
BEGIN:VEVENT
DTSTART;VALUE=DATE:20240802
DTEND;VALUE=DATE:20240803
DTSTAMP:20260420T170417
CREATED:20240417T190416Z
LAST-MODIFIED:20240417T190416Z
UID:2541-1722556800-1722643199@earthartout.com
SUMMARY:Earth is On Adventure
DESCRIPTION:We will be here\, there & everywhere focusing upon our field work and family\, and exploring the great wide yonder. Hours in the shop will be by special event & appointment only during this time. Please contact us in advance to arrange provision pickups. We look forward to continuing the journey with you in Autumn 2024. Til we meet again: Think Big\, Do Good\, Live & Love Wild & Free! \nFollow our adventures and stay tuned for updates by following our social media!
URL:https://earthartout.com/event/earth-is-on-adventure-15/
LOCATION:Earth Artisan & Outfitter\, 37 W. Chapel Ave.\, Carlisle\, PA\, 17013\, United States
CATEGORIES:Hours Change
ATTACH;FMTTYPE=image/png:https://earthartout.com/wp-content/uploads/2024/04/Screenshot_20240416-193923.png
END:VEVENT
BEGIN:VEVENT
DTSTART;VALUE=DATE:20240727
DTEND;VALUE=DATE:20240728
DTSTAMP:20260420T170417
CREATED:20240417T190405Z
LAST-MODIFIED:20240417T190405Z
UID:2539-1722038400-1722124799@earthartout.com
SUMMARY:Earth is On Adventure
DESCRIPTION:We will be here\, there & everywhere focusing upon our field work and family\, and exploring the great wide yonder. Hours in the shop will be by special event & appointment only during this time. Please contact us in advance to arrange provision pickups. We look forward to continuing the journey with you in Autumn 2024. Til we meet again: Think Big\, Do Good\, Live & Love Wild & Free! \nFollow our adventures and stay tuned for updates by following our social media!
URL:https://earthartout.com/event/earth-is-on-adventure-14/
LOCATION:Earth Artisan & Outfitter\, 37 W. Chapel Ave.\, Carlisle\, PA\, 17013\, United States
CATEGORIES:Hours Change
ATTACH;FMTTYPE=image/png:https://earthartout.com/wp-content/uploads/2024/04/Screenshot_20240416-193923.png
END:VEVENT
BEGIN:VEVENT
DTSTART;VALUE=DATE:20240726
DTEND;VALUE=DATE:20240727
DTSTAMP:20260420T170417
CREATED:20240417T190354Z
LAST-MODIFIED:20240417T190354Z
UID:2537-1721952000-1722038399@earthartout.com
SUMMARY:Earth is On Adventure
DESCRIPTION:We will be here\, there & everywhere focusing upon our field work and family\, and exploring the great wide yonder. Hours in the shop will be by special event & appointment only during this time. Please contact us in advance to arrange provision pickups. We look forward to continuing the journey with you in Autumn 2024. Til we meet again: Think Big\, Do Good\, Live & Love Wild & Free! \nFollow our adventures and stay tuned for updates by following our social media!
URL:https://earthartout.com/event/earth-is-on-adventure-13/
LOCATION:Earth Artisan & Outfitter\, 37 W. Chapel Ave.\, Carlisle\, PA\, 17013\, United States
CATEGORIES:Hours Change
ATTACH;FMTTYPE=image/png:https://earthartout.com/wp-content/uploads/2024/04/Screenshot_20240416-193923.png
END:VEVENT
BEGIN:VEVENT
DTSTART;VALUE=DATE:20240721
DTEND;VALUE=DATE:20240722
DTSTAMP:20260420T170417
CREATED:20240416T162107Z
LAST-MODIFIED:20240416T162107Z
UID:2422-1721520000-1721606399@earthartout.com
SUMMARY:Full Buck Moon
DESCRIPTION:Life is full of blessings! Dance\, howl and celebrate Life outside in the moonlight! This is when male deer start regrowing their antlers.
URL:https://earthartout.com/event/full-buck-moon-2/
LOCATION:PA
CATEGORIES:Calendar Event
ATTACH;FMTTYPE=image/png:https://earthartout.com/wp-content/uploads/2022/03/Full-Moon.png
END:VEVENT
BEGIN:VEVENT
DTSTART;VALUE=DATE:20240720
DTEND;VALUE=DATE:20240721
DTSTAMP:20260420T170417
CREATED:20240417T190344Z
LAST-MODIFIED:20240417T190344Z
UID:2535-1721433600-1721519999@earthartout.com
SUMMARY:Earth is On Adventure
DESCRIPTION:We will be here\, there & everywhere focusing upon our field work and family\, and exploring the great wide yonder. Hours in the shop will be by special event & appointment only during this time. Please contact us in advance to arrange provision pickups. We look forward to continuing the journey with you in Autumn 2024. Til we meet again: Think Big\, Do Good\, Live & Love Wild & Free! \nFollow our adventures and stay tuned for updates by following our social media!
URL:https://earthartout.com/event/earth-is-on-adventure-12/
LOCATION:Earth Artisan & Outfitter\, 37 W. Chapel Ave.\, Carlisle\, PA\, 17013\, United States
CATEGORIES:Hours Change
ATTACH;FMTTYPE=image/png:https://earthartout.com/wp-content/uploads/2024/04/Screenshot_20240416-193923.png
END:VEVENT
BEGIN:VEVENT
DTSTART;VALUE=DATE:20240720
DTEND;VALUE=DATE:20240721
DTSTAMP:20260420T170417
CREATED:20240416T155506Z
LAST-MODIFIED:20240416T155506Z
UID:2408-1721433600-1721519999@earthartout.com
SUMMARY:Pennsylvania Day
DESCRIPTION:In celebration of the 1st state we call home & the location of Earth Artisan & Outfitter’s Headquarters: Pennsylvania. Also known as The Keystone State\, this is a place strong on foundation. Without it everything crumbles\, right? Pennsylvania was the 2nd state in the union\, founded in 1787 by William Penn as Penns Woods in honor of the great forests that once stood here. You can still give thanks for the many forested mountains & wild places throughout the state\, take a hike & hug a tree! We recommend following a Pennsylvania Parks & Forest Foundation Passport / guide book! We have them in stock\, contact us to order. See ya out there!
URL:https://earthartout.com/event/pennsylvania-day-2/
LOCATION:PA
CATEGORIES:Calendar Event
END:VEVENT
BEGIN:VEVENT
DTSTART;VALUE=DATE:20240719
DTEND;VALUE=DATE:20240720
DTSTAMP:20260420T170417
CREATED:20240417T190333Z
LAST-MODIFIED:20240417T190333Z
UID:2533-1721347200-1721433599@earthartout.com
SUMMARY:Earth is On Adventure
DESCRIPTION:We will be here\, there & everywhere focusing upon our field work and family\, and exploring the great wide yonder. Hours in the shop will be by special event & appointment only during this time. Please contact us in advance to arrange provision pickups. We look forward to continuing the journey with you in Autumn 2024. Til we meet again: Think Big\, Do Good\, Live & Love Wild & Free! \nFollow our adventures and stay tuned for updates by following our social media!
URL:https://earthartout.com/event/earth-is-on-adventure-11/
LOCATION:Earth Artisan & Outfitter\, 37 W. Chapel Ave.\, Carlisle\, PA\, 17013\, United States
CATEGORIES:Hours Change
ATTACH;FMTTYPE=image/png:https://earthartout.com/wp-content/uploads/2024/04/Screenshot_20240416-193923.png
END:VEVENT
BEGIN:VEVENT
DTSTART;VALUE=DATE:20240713
DTEND;VALUE=DATE:20240714
DTSTAMP:20260420T170417
CREATED:20240417T190321Z
LAST-MODIFIED:20240417T190321Z
UID:2531-1720828800-1720915199@earthartout.com
SUMMARY:Earth is On Adventure
DESCRIPTION:We will be here\, there & everywhere focusing upon our field work and family\, and exploring the great wide yonder. Hours in the shop will be by special event & appointment only during this time. Please contact us in advance to arrange provision pickups. We look forward to continuing the journey with you in Autumn 2024. Til we meet again: Think Big\, Do Good\, Live & Love Wild & Free! \nFollow our adventures and stay tuned for updates by following our social media!
URL:https://earthartout.com/event/earth-is-on-adventure-10/
LOCATION:Earth Artisan & Outfitter\, 37 W. Chapel Ave.\, Carlisle\, PA\, 17013\, United States
CATEGORIES:Hours Change
ATTACH;FMTTYPE=image/png:https://earthartout.com/wp-content/uploads/2024/04/Screenshot_20240416-193923.png
END:VEVENT
BEGIN:VEVENT
DTSTART;VALUE=DATE:20240712
DTEND;VALUE=DATE:20240713
DTSTAMP:20260420T170417
CREATED:20240417T190311Z
LAST-MODIFIED:20240417T190311Z
UID:2529-1720742400-1720828799@earthartout.com
SUMMARY:Earth is On Adventure
DESCRIPTION:We will be here\, there & everywhere focusing upon our field work and family\, and exploring the great wide yonder. Hours in the shop will be by special event & appointment only during this time. Please contact us in advance to arrange provision pickups. We look forward to continuing the journey with you in Autumn 2024. Til we meet again: Think Big\, Do Good\, Live & Love Wild & Free! \nFollow our adventures and stay tuned for updates by following our social media!
URL:https://earthartout.com/event/earth-is-on-adventure-9/
LOCATION:Earth Artisan & Outfitter\, 37 W. Chapel Ave.\, Carlisle\, PA\, 17013\, United States
CATEGORIES:Hours Change
ATTACH;FMTTYPE=image/png:https://earthartout.com/wp-content/uploads/2024/04/Screenshot_20240416-193923.png
END:VEVENT
BEGIN:VEVENT
DTSTART;VALUE=DATE:20240706
DTEND;VALUE=DATE:20240707
DTSTAMP:20260420T170417
CREATED:20240417T190300Z
LAST-MODIFIED:20240417T190300Z
UID:2527-1720224000-1720310399@earthartout.com
SUMMARY:Earth is On Adventure
DESCRIPTION:We will be here\, there & everywhere focusing upon our field work and family\, and exploring the great wide yonder. Hours in the shop will be by special event & appointment only during this time. Please contact us in advance to arrange provision pickups. We look forward to continuing the journey with you in Autumn 2024. Til we meet again: Think Big\, Do Good\, Live & Love Wild & Free! \nFollow our adventures and stay tuned for updates by following our social media!
URL:https://earthartout.com/event/earth-is-on-adventure-8/
LOCATION:Earth Artisan & Outfitter\, 37 W. Chapel Ave.\, Carlisle\, PA\, 17013\, United States
CATEGORIES:Hours Change
ATTACH;FMTTYPE=image/png:https://earthartout.com/wp-content/uploads/2024/04/Screenshot_20240416-193923.png
END:VEVENT
BEGIN:VEVENT
DTSTART;VALUE=DATE:20240705
DTEND;VALUE=DATE:20240706
DTSTAMP:20260420T170417
CREATED:20240417T190250Z
LAST-MODIFIED:20240417T190250Z
UID:2525-1720137600-1720223999@earthartout.com
SUMMARY:Earth is On Adventure
DESCRIPTION:We will be here\, there & everywhere focusing upon our field work and family\, and exploring the great wide yonder. Hours in the shop will be by special event & appointment only during this time. Please contact us in advance to arrange provision pickups. We look forward to continuing the journey with you in Autumn 2024. Til we meet again: Think Big\, Do Good\, Live & Love Wild & Free! \nFollow our adventures and stay tuned for updates by following our social media!
URL:https://earthartout.com/event/earth-is-on-adventure-7/
LOCATION:Earth Artisan & Outfitter\, 37 W. Chapel Ave.\, Carlisle\, PA\, 17013\, United States
CATEGORIES:Hours Change
ATTACH;FMTTYPE=image/png:https://earthartout.com/wp-content/uploads/2024/04/Screenshot_20240416-193923.png
END:VEVENT
BEGIN:VEVENT
DTSTART;VALUE=DATE:20240704
DTEND;VALUE=DATE:20240705
DTSTAMP:20260420T170417
CREATED:20240417T191205Z
LAST-MODIFIED:20240417T191205Z
UID:2579-1720051200-1720137599@earthartout.com
SUMMARY:Independence Day
DESCRIPTION:Happy Independence Day Fellow Adventurers! Earth will be celebrating our independence by spending time in nature and we hope you will be doing the same. Enjoy the day being independent\, free-thinking -yet mindful – adventurers everywhere you roam\, Living & Loving Life Wild & Free!
URL:https://earthartout.com/event/independence-day-2/
LOCATION:PA
CATEGORIES:Calendar Event
END:VEVENT
BEGIN:VEVENT
DTSTART;VALUE=DATE:20240629
DTEND;VALUE=DATE:20240630
DTSTAMP:20260420T170417
CREATED:20240417T190239Z
LAST-MODIFIED:20240417T190239Z
UID:2523-1719619200-1719705599@earthartout.com
SUMMARY:Earth is On Adventure
DESCRIPTION:We will be here\, there & everywhere focusing upon our field work and family\, and exploring the great wide yonder. Hours in the shop will be by special event & appointment only during this time. Please contact us in advance to arrange provision pickups. We look forward to continuing the journey with you in Autumn 2024. Til we meet again: Think Big\, Do Good\, Live & Love Wild & Free! \nFollow our adventures and stay tuned for updates by following our social media!
URL:https://earthartout.com/event/earth-is-on-adventure-6/
LOCATION:Earth Artisan & Outfitter\, 37 W. Chapel Ave.\, Carlisle\, PA\, 17013\, United States
CATEGORIES:Hours Change
ATTACH;FMTTYPE=image/png:https://earthartout.com/wp-content/uploads/2024/04/Screenshot_20240416-193923.png
END:VEVENT
BEGIN:VEVENT
DTSTART;VALUE=DATE:20240628
DTEND;VALUE=DATE:20240629
DTSTAMP:20260420T170417
CREATED:20240417T190229Z
LAST-MODIFIED:20240417T190229Z
UID:2521-1719532800-1719619199@earthartout.com
SUMMARY:Earth is On Adventure
DESCRIPTION:We will be here\, there & everywhere focusing upon our field work and family\, and exploring the great wide yonder. Hours in the shop will be by special event & appointment only during this time. Please contact us in advance to arrange provision pickups. We look forward to continuing the journey with you in Autumn 2024. Til we meet again: Think Big\, Do Good\, Live & Love Wild & Free! \nFollow our adventures and stay tuned for updates by following our social media!
URL:https://earthartout.com/event/earth-is-on-adventure-5/
LOCATION:Earth Artisan & Outfitter\, 37 W. Chapel Ave.\, Carlisle\, PA\, 17013\, United States
CATEGORIES:Hours Change
ATTACH;FMTTYPE=image/png:https://earthartout.com/wp-content/uploads/2024/04/Screenshot_20240416-193923.png
END:VEVENT
BEGIN:VEVENT
DTSTART;VALUE=DATE:20240622
DTEND;VALUE=DATE:20240623
DTSTAMP:20260420T170417
CREATED:20240417T190219Z
LAST-MODIFIED:20240417T190219Z
UID:2519-1719014400-1719100799@earthartout.com
SUMMARY:Earth is On Adventure
DESCRIPTION:We will be here\, there & everywhere focusing upon our field work and family\, and exploring the great wide yonder. Hours in the shop will be by special event & appointment only during this time. Please contact us in advance to arrange provision pickups. We look forward to continuing the journey with you in Autumn 2024. Til we meet again: Think Big\, Do Good\, Live & Love Wild & Free! \nFollow our adventures and stay tuned for updates by following our social media!
URL:https://earthartout.com/event/earth-is-on-adventure-4/
LOCATION:Earth Artisan & Outfitter\, 37 W. Chapel Ave.\, Carlisle\, PA\, 17013\, United States
CATEGORIES:Hours Change
ATTACH;FMTTYPE=image/png:https://earthartout.com/wp-content/uploads/2024/04/Screenshot_20240416-193923.png
END:VEVENT
BEGIN:VEVENT
DTSTART;VALUE=DATE:20240621
DTEND;VALUE=DATE:20240622
DTSTAMP:20260420T170417
CREATED:20240417T190210Z
LAST-MODIFIED:20240417T190210Z
UID:2517-1718928000-1719014399@earthartout.com
SUMMARY:Earth is On Adventure
DESCRIPTION:We will be here\, there & everywhere focusing upon our field work and family\, and exploring the great wide yonder. Hours in the shop will be by special event & appointment only during this time. Please contact us in advance to arrange provision pickups. We look forward to continuing the journey with you in Autumn 2024. Til we meet again: Think Big\, Do Good\, Live & Love Wild & Free! \nFollow our adventures and stay tuned for updates by following our social media!
URL:https://earthartout.com/event/earth-is-on-adventure-3/
LOCATION:Earth Artisan & Outfitter\, 37 W. Chapel Ave.\, Carlisle\, PA\, 17013\, United States
CATEGORIES:Hours Change
ATTACH;FMTTYPE=image/png:https://earthartout.com/wp-content/uploads/2024/04/Screenshot_20240416-193923.png
END:VEVENT
BEGIN:VEVENT
DTSTART;VALUE=DATE:20240621
DTEND;VALUE=DATE:20240622
DTSTAMP:20260420T170417
CREATED:20240416T162039Z
LAST-MODIFIED:20240416T162039Z
UID:2420-1718928000-1719014399@earthartout.com
SUMMARY:Full Strawberry Moon
DESCRIPTION:Dance\, howl and celebrate Life outside in the moonlight! This is when strawberries are ripe & ready to eat. Get to picking!
URL:https://earthartout.com/event/full-strawberry-moon-2/
LOCATION:PA
CATEGORIES:Calendar Event
ATTACH;FMTTYPE=image/png:https://earthartout.com/wp-content/uploads/2022/03/Full-Moon.png
END:VEVENT
BEGIN:VEVENT
DTSTART;VALUE=DATE:20240620
DTEND;VALUE=DATE:20240621
DTSTAMP:20260420T170417
CREATED:20240416T155404Z
LAST-MODIFIED:20240416T155404Z
UID:2406-1718841600-1718927999@earthartout.com
SUMMARY:West Virginia Day
DESCRIPTION:In honor of the second state we call home & the location of the Earth Outpost\, we say thank you to the wild & wonderful state of West Virginia! There is outdoor recreation aplenty in this beautiful state and we look forward to seeing you on the trail!
URL:https://earthartout.com/event/west-virginia-day-2/
LOCATION:PA
CATEGORIES:Earthy Activity
END:VEVENT
BEGIN:VEVENT
DTSTART;VALUE=DATE:20240616
DTEND;VALUE=DATE:20240617
DTSTAMP:20260420T170417
CREATED:20240417T191111Z
LAST-MODIFIED:20240417T191111Z
UID:2577-1718496000-1718582399@earthartout.com
SUMMARY:Happy Father's Day!
DESCRIPTION:To all the inspiring fellas\, the dudes and Dads who give a damn\, we salute you!
URL:https://earthartout.com/event/happy-fathers-day/
LOCATION:PA
CATEGORIES:Calendar Event
END:VEVENT
END:VCALENDAR