BEGIN:VCALENDAR
VERSION:2.0
PRODID:-//Earth Artisan &amp; Outfitter - ECPv6.0.11//NONSGML v1.0//EN
CALSCALE:GREGORIAN
METHOD:PUBLISH
X-ORIGINAL-URL:https://earthartout.com
X-WR-CALDESC:Events for Earth Artisan &amp; Outfitter
REFRESH-INTERVAL;VALUE=DURATION:PT1H
X-Robots-Tag:noindex
X-PUBLISHED-TTL:PT1H
BEGIN:VTIMEZONE
TZID:America/New_York
BEGIN:DAYLIGHT
TZOFFSETFROM:-0500
TZOFFSETTO:-0400
TZNAME:EDT
DTSTART:20210314T070000
END:DAYLIGHT
BEGIN:STANDARD
TZOFFSETFROM:-0400
TZOFFSETTO:-0500
TZNAME:EST
DTSTART:20211107T060000
END:STANDARD
BEGIN:DAYLIGHT
TZOFFSETFROM:-0500
TZOFFSETTO:-0400
TZNAME:EDT
DTSTART:20220313T070000
END:DAYLIGHT
BEGIN:STANDARD
TZOFFSETFROM:-0400
TZOFFSETTO:-0500
TZNAME:EST
DTSTART:20221106T060000
END:STANDARD
END:VTIMEZONE
BEGIN:VEVENT
DTSTART;TZID=America/New_York:20220318T110000
DTEND;TZID=America/New_York:20220318T160000
DTSTAMP:20260422T002952
CREATED:20220321T124839Z
LAST-MODIFIED:20220321T124903Z
UID:1915-1647601200-1647619200@earthartout.com
SUMMARY:Spring Open House
DESCRIPTION:Celebrate the season\, see what’s new and gather your favorite art\, goods & gear for mindful living and adventuring at home\, in the garden & on the trail!
URL:https://earthartout.com/event/spring-open-house/
LOCATION:Earth Artisan & Outfitter\, 37 W. Chapel Ave.\, Carlisle\, PA\, 17013\, United States
CATEGORIES:In-Store Sale
ATTACH;FMTTYPE=image/png:https://earthartout.com/wp-content/uploads/2022/03/Earth-Spring-Open-House-March-18-19.png
END:VEVENT
BEGIN:VEVENT
DTSTART;VALUE=DATE:20220318
DTEND;VALUE=DATE:20220319
DTSTAMP:20260422T002952
CREATED:20220321T124531Z
LAST-MODIFIED:20220321T124639Z
UID:1912-1647561600-1647647999@earthartout.com
SUMMARY:Full Storm Moon\, aka Worm
DESCRIPTION:Dance\, howl and celebrate Life outside in the moonlight! The worms are doing the same thing through the freshly thawed soil!
URL:https://earthartout.com/event/full-storm-moon-aka-worm/
CATEGORIES:Earthy Activity
ATTACH;FMTTYPE=image/png:https://earthartout.com/wp-content/uploads/2022/03/Full-Moon.png
END:VEVENT
BEGIN:VEVENT
DTSTART;VALUE=DATE:20220206
DTEND;VALUE=DATE:20220207
DTSTAMP:20260422T002952
CREATED:20211124T160119Z
LAST-MODIFIED:20211124T160119Z
UID:1904-1644105600-1644191999@earthartout.com
SUMMARY:Ice Art Fest
DESCRIPTION:February 4\, 5 & 6\, 2022 in historic downtown Carlisle! Earth will be reopening for the season with extended hours\, specials throughout our warm & cozy shop and an awesome earth-inspired ice sculpture on the porch that celebrates Life Wild & Free! Join us for a frosty adventure!
URL:https://earthartout.com/event/ice-art-fest-3/
LOCATION:Earth Artisan & Outfitter\, 37 W. Chapel Ave.\, Carlisle\, PA\, 17013\, United States
CATEGORIES:Calendar Event
ATTACH;FMTTYPE=image/png:https://earthartout.com/wp-content/uploads/2021/11/Screenshot_20211119-1341272.png
END:VEVENT
BEGIN:VEVENT
DTSTART;VALUE=DATE:20220205
DTEND;VALUE=DATE:20220206
DTSTAMP:20260422T002952
CREATED:20211124T160044Z
LAST-MODIFIED:20211124T160044Z
UID:1902-1644019200-1644105599@earthartout.com
SUMMARY:Ice Art Fest
DESCRIPTION:February 4\, 5 & 6\, 2022 in historic downtown Carlisle! Earth will be reopening for the season with extended hours\, specials throughout our warm & cozy shop and an awesome earth-inspired ice sculpture on the porch that celebrates Life Wild & Free! Join us for a frosty adventure!
URL:https://earthartout.com/event/ice-art-fest-2/
LOCATION:Earth Artisan & Outfitter\, 37 W. Chapel Ave.\, Carlisle\, PA\, 17013\, United States
CATEGORIES:Calendar Event
ATTACH;FMTTYPE=image/png:https://earthartout.com/wp-content/uploads/2021/11/Screenshot_20211119-1341272.png
END:VEVENT
BEGIN:VEVENT
DTSTART;VALUE=DATE:20220204
DTEND;VALUE=DATE:20220205
DTSTAMP:20260422T002952
CREATED:20211122T194240Z
LAST-MODIFIED:20211124T155954Z
UID:1897-1643932800-1644019199@earthartout.com
SUMMARY:Ice Art Fest
DESCRIPTION:February 4\, 5 & 6\, 2022 in historic downtown Carlisle! Earth will be reopening for the season with extended hours\, specials throughout our warm & cozy shop and an awesome earth-inspired ice sculpture on the porch that celebrates Life Wild & Free! Join us for a frosty adventure!
URL:https://earthartout.com/event/ice-art-fest/
LOCATION:Earth Artisan & Outfitter\, 37 W. Chapel Ave.\, Carlisle\, PA\, 17013\, United States
CATEGORIES:Calendar Event
ATTACH;FMTTYPE=image/png:https://earthartout.com/wp-content/uploads/2021/11/Screenshot_20211119-1341272.png
END:VEVENT
BEGIN:VEVENT
DTSTART;VALUE=DATE:20220101
DTEND;VALUE=DATE:20220102
DTSTAMP:20260422T002952
CREATED:20210628T174440Z
LAST-MODIFIED:20210628T175012Z
UID:1693-1640995200-1641081599@earthartout.com
SUMMARY:New Years
DESCRIPTION:It’s a whole new year\, a fresh start\, with opportunity to learn\, grow\, share and care about our home–Earth– and the life that exists here! Happy Adventuring!
URL:https://earthartout.com/event/new-years/
CATEGORIES:Calendar Event
END:VEVENT
BEGIN:VEVENT
DTSTART;VALUE=DATE:20211225
DTEND;VALUE=DATE:20220130
DTSTAMP:20260422T002952
CREATED:20211122T194058Z
LAST-MODIFIED:20211122T194058Z
UID:1894-1640390400-1643500799@earthartout.com
SUMMARY:Winter Break
DESCRIPTION:December 25 – January 29 Earth will be on break. We will have hours by appointment only during this time. Please follow our social media pages for updates. We will officially reopen for the season February 4\, 5 & 6 during IceArtFest & look forward to seeing your smiling happy faces. Til we meet again\, Happy Hibernating!
URL:https://earthartout.com/event/winter-break/
LOCATION:Earth Artisan & Outfitter\, 37 W. Chapel Ave.\, Carlisle\, PA\, 17013\, United States
CATEGORIES:Hours Change
ATTACH;FMTTYPE=image/png:https://earthartout.com/wp-content/uploads/2021/11/Screenshot_20211119-1328582.png
END:VEVENT
BEGIN:VEVENT
DTSTART;TZID=America/New_York:20211223T110000
DTEND;TZID=America/New_York:20211223T160000
DTSTAMP:20260422T002952
CREATED:20211122T193718Z
LAST-MODIFIED:20211122T194454Z
UID:1889-1640257200-1640275200@earthartout.com
SUMMARY:Thursdays In December\, Additional Holiday Hours
DESCRIPTION:Take time for you with less crowds and more Earth! We also offer hours by appointment pending availability in addition to our regular hours Fridays & Saturdays 11-4 up to Friday December 24!
URL:https://earthartout.com/event/thursdays-in-december-additional-holiday-hours-3/
LOCATION:Earth Artisan & Outfitter\, 37 W. Chapel Ave.\, Carlisle\, PA\, 17013\, United States
CATEGORIES:Hours Change
ATTACH;FMTTYPE=image/jpeg:https://earthartout.com/wp-content/uploads/2021/11/20211115_000853_0000.jpg
END:VEVENT
BEGIN:VEVENT
DTSTART;VALUE=DATE:20211221
DTEND;VALUE=DATE:20211222
DTSTAMP:20260422T002952
CREATED:20210628T174318Z
LAST-MODIFIED:20210628T175039Z
UID:1690-1640044800-1640131199@earthartout.com
SUMMARY:Winter Solstice
DESCRIPTION:Tell us what you love most about the winter.
URL:https://earthartout.com/event/winter-solstice/
CATEGORIES:Calendar Event
ATTACH;FMTTYPE=image/png:https://earthartout.com/wp-content/uploads/2021/06/Winter-Solstice-Earth-Artisan-and-Outfitter.png
END:VEVENT
BEGIN:VEVENT
DTSTART;TZID=America/New_York:20211218T110000
DTEND;TZID=America/New_York:20211218T160000
DTSTAMP:20260422T002952
CREATED:20211122T193914Z
LAST-MODIFIED:20211122T193914Z
UID:1891-1639825200-1639843200@earthartout.com
SUMMARY:Winter Solstice Celebration
DESCRIPTION:Winter Solstice officially sets in on December 21\, we will celebrate the season at Earth on December 18! Warm up by the fire\, share your favorite wintry adventure tales and gather last minute holiday gifts. With every purchase receive a special little gift to keep the dark at bay on the longest night of the year. Sale on all remaining blessing bundles to set beautiful intentions on your solstice bonfire!
URL:https://earthartout.com/event/winter-solstice-celebration/
LOCATION:Earth Artisan & Outfitter\, 37 W. Chapel Ave.\, Carlisle\, PA\, 17013\, United States
CATEGORIES:In-Store Sale
ATTACH;FMTTYPE=image/jpeg:https://earthartout.com/wp-content/uploads/2021/11/20211113_124948_0000.jpg
END:VEVENT
BEGIN:VEVENT
DTSTART;VALUE=DATE:20211218
DTEND;VALUE=DATE:20211219
DTSTAMP:20260422T002952
CREATED:20210628T174127Z
LAST-MODIFIED:20210628T175045Z
UID:1688-1639785600-1639871999@earthartout.com
SUMMARY:Full Moon
DESCRIPTION:Dance\, howl and celebrate Life outside in the moonlight!
URL:https://earthartout.com/event/full-moon-6/
CATEGORIES:Calendar Event
ATTACH;FMTTYPE=image/png:https://earthartout.com/wp-content/uploads/2021/06/Full-Moon-Event-Earth-Artisan-and-Outfitter.png
END:VEVENT
BEGIN:VEVENT
DTSTART;TZID=America/New_York:20211216T110000
DTEND;TZID=America/New_York:20211216T160000
DTSTAMP:20260422T002952
CREATED:20211122T193628Z
LAST-MODIFIED:20211124T154920Z
UID:1887-1639652400-1639670400@earthartout.com
SUMMARY:Thursdays In December\, Additional Holiday Hours
DESCRIPTION:Take time for you with less crowds and more Earth! We also offer hours by appointment pending availability in addition to our regular hours Fridays & Saturdays 11-4 up to Friday December 24!
URL:https://earthartout.com/event/thursdays-in-december-additional-holiday-hours-2/
LOCATION:Earth Artisan & Outfitter\, 37 W. Chapel Ave.\, Carlisle\, PA\, 17013\, United States
CATEGORIES:Hours Change
ATTACH;FMTTYPE=image/jpeg:https://earthartout.com/wp-content/uploads/2021/11/20211115_000853_0000.jpg
END:VEVENT
BEGIN:VEVENT
DTSTART;TZID=America/New_York:20211204T110000
DTEND;TZID=America/New_York:20211204T160000
DTSTAMP:20260422T002952
CREATED:20211122T193247Z
LAST-MODIFIED:20211122T193247Z
UID:1883-1638615600-1638633600@earthartout.com
SUMMARY:Sustainably Harvested Fresh Cut Greens at Earth
DESCRIPTION:Starting December 3 & 4 from 11-4 while supplies last. Once a year our ISA Certified Arborist sustainably harvests fresh greenery including a variety of evergreens such as white pine\, spruce\, juniper\, holly\, winter berry and other natural elements then artistically arranges them into beautiful swags for winter decor\, along with mixed bundles and individual branches. We have the best quality and prices around ranging from $2 – $20!
URL:https://earthartout.com/event/sustainably-harvested-fresh-cut-greens-at-earth-2/
LOCATION:Earth Artisan & Outfitter\, 37 W. Chapel Ave.\, Carlisle\, PA\, 17013\, United States
CATEGORIES:In-Store Sale
ATTACH;FMTTYPE=image/jpeg:https://earthartout.com/wp-content/uploads/2021/11/20211111_230913_0000.jpg
END:VEVENT
BEGIN:VEVENT
DTSTART;TZID=America/New_York:20211203T110000
DTEND;TZID=America/New_York:20211203T160000
DTSTAMP:20260422T002952
CREATED:20211122T193156Z
LAST-MODIFIED:20211122T193156Z
UID:1880-1638529200-1638547200@earthartout.com
SUMMARY:Sustainably Harvested Fresh Cut Greens at Earth
DESCRIPTION:Starting December 3 & 4 from 11-4 while supplies last. Once a year our ISA Certified Arborist sustainably harvests fresh greenery including a variety of evergreens such as white pine\, spruce\, juniper\, holly\, winter berry and other natural elements then artistically arranges them into beautiful swags for winter decor\, along with mixed bundles and individual branches. We have the best quality and prices around ranging from $2 – $20!
URL:https://earthartout.com/event/sustainably-harvested-fresh-cut-greens-at-earth/
LOCATION:Earth Artisan & Outfitter\, 37 W. Chapel Ave.\, Carlisle\, PA\, 17013\, United States
CATEGORIES:In-Store Sale
ATTACH;FMTTYPE=image/jpeg:https://earthartout.com/wp-content/uploads/2021/11/20211111_230913_0000.jpg
END:VEVENT
BEGIN:VEVENT
DTSTART;TZID=America/New_York:20211202T110000
DTEND;TZID=America/New_York:20211202T160000
DTSTAMP:20260422T002952
CREATED:20211122T193554Z
LAST-MODIFIED:20211124T154852Z
UID:1885-1638442800-1638460800@earthartout.com
SUMMARY:Thursdays In December\, Additional Holiday Hours
DESCRIPTION:Take time for you with less crowds and more Earth! We also offer hours by appointment pending availability in addition to our regular hours Fridays & Saturdays 11-4 up to Friday December 24!
URL:https://earthartout.com/event/thursdays-in-december-additional-holiday-hours/
LOCATION:Earth Artisan & Outfitter\, 37 W. Chapel Ave.\, Carlisle\, PA\, 17013\, United States
CATEGORIES:Hours Change
ATTACH;FMTTYPE=image/jpeg:https://earthartout.com/wp-content/uploads/2021/11/20211115_000853_0000.jpg
END:VEVENT
BEGIN:VEVENT
DTSTART;TZID=America/New_York:20211128T120000
DTEND;TZID=America/New_York:20211128T160000
DTSTAMP:20260422T002952
CREATED:20211122T192917Z
LAST-MODIFIED:20211122T192926Z
UID:1878-1638100800-1638115200@earthartout.com
SUMMARY:Small Business Weekend
DESCRIPTION:Shop Small with Earth! In-store specials all weekend long including double Earth Loyalty Card Points on your favorite earth-based items for home\, garden & trail\, small batch earthy holiday decor and much more! Thank you for your patronage\, friendship and support of The Earth\, The Arts and Life Wild & Free! A portion of all sales help support humanitarian and environmental organizations!
URL:https://earthartout.com/event/small-business-weekend-3/
LOCATION:Earth Artisan & Outfitter\, 37 W. Chapel Ave.\, Carlisle\, PA\, 17013\, United States
CATEGORIES:In-Store Sale
ATTACH;FMTTYPE=image/jpeg:https://earthartout.com/wp-content/uploads/2021/11/png_20211117_181831_0000.jpg
END:VEVENT
BEGIN:VEVENT
DTSTART;TZID=America/New_York:20211127T100000
DTEND;TZID=America/New_York:20211127T180000
DTSTAMP:20260422T002952
CREATED:20211122T192151Z
LAST-MODIFIED:20211122T192151Z
UID:1876-1638007200-1638036000@earthartout.com
SUMMARY:Small Business Weekend
DESCRIPTION:Shop Small with Earth! In-store specials all weekend long including double Earth Loyalty Card Points on your favorite earth-based items for home\, garden & trail\, small batch earthy holiday decor and much more! Thank you for your patronage\, friendship and support of The Earth\, The Arts and Life Wild & Free! A portion of all sales help support humanitarian and environmental organizations!
URL:https://earthartout.com/event/small-business-weekend-2/
LOCATION:Earth Artisan & Outfitter\, 37 W. Chapel Ave.\, Carlisle\, PA\, 17013\, United States
CATEGORIES:In-Store Sale
ATTACH;FMTTYPE=image/jpeg:https://earthartout.com/wp-content/uploads/2021/11/png_20211117_181831_0000.jpg
END:VEVENT
BEGIN:VEVENT
DTSTART;TZID=America/New_York:20211126T110000
DTEND;TZID=America/New_York:20211126T160000
DTSTAMP:20260422T002952
CREATED:20211122T191718Z
LAST-MODIFIED:20211122T191836Z
UID:1873-1637924400-1637942400@earthartout.com
SUMMARY:Small Business Weekend
DESCRIPTION:Shop Small with Earth! In-store specials all weekend long including double Earth Loyalty Card Points on your favorite earth-based items for home\, garden & trail\, small batch earthy holiday decor and much more! Thank you for your patronage\, friendship and support of The Earth\, The Arts and Life Wild & Free! A portion of all sales help support humanitarian and environmental organizations!
URL:https://earthartout.com/event/small-business-weekend/
LOCATION:Earth Artisan & Outfitter\, 37 W. Chapel Ave.\, Carlisle\, PA\, 17013\, United States
CATEGORIES:In-Store Sale
ATTACH;FMTTYPE=image/jpeg:https://earthartout.com/wp-content/uploads/2021/11/png_20211117_181831_0000.jpg
END:VEVENT
BEGIN:VEVENT
DTSTART;VALUE=DATE:20211119
DTEND;VALUE=DATE:20211120
DTSTAMP:20260422T002952
CREATED:20210628T174043Z
LAST-MODIFIED:20210628T175051Z
UID:1686-1637280000-1637366399@earthartout.com
SUMMARY:Full Moon
DESCRIPTION:Dance\, howl and celebrate Life outside in the moonlight!
URL:https://earthartout.com/event/full-moon-5/
CATEGORIES:Calendar Event
ATTACH;FMTTYPE=image/png:https://earthartout.com/wp-content/uploads/2021/06/Full-Moon-Event-Earth-Artisan-and-Outfitter.png
END:VEVENT
BEGIN:VEVENT
DTSTART;VALUE=DATE:20211117
DTEND;VALUE=DATE:20211118
DTSTAMP:20260422T002952
CREATED:20210628T173827Z
LAST-MODIFIED:20210629T165300Z
UID:1684-1637107200-1637193599@earthartout.com
SUMMARY:National Take a Hike Day
DESCRIPTION:Self explanatory\, go take a hike & celebrate the amazing public lands that we get to enjoy and need to protect!
URL:https://earthartout.com/event/national-take-a-hike-day/
CATEGORIES:Calendar Event
ATTACH;FMTTYPE=image/png:https://earthartout.com/wp-content/uploads/2021/06/National-Take-a-Hike-Day-Earth-Artisan-and-Outfitter.png
END:VEVENT
BEGIN:VEVENT
DTSTART;VALUE=DATE:20211020
DTEND;VALUE=DATE:20211021
DTSTAMP:20260422T002952
CREATED:20210628T173721Z
LAST-MODIFIED:20210628T175128Z
UID:1682-1634688000-1634774399@earthartout.com
SUMMARY:Full Moon
DESCRIPTION:Dance\, howl and celebrate Life outside in the moonlight!
URL:https://earthartout.com/event/full-moon-4/
CATEGORIES:Calendar Event
ATTACH;FMTTYPE=image/png:https://earthartout.com/wp-content/uploads/2021/06/Full-Moon-Event-Earth-Artisan-and-Outfitter.png
END:VEVENT
BEGIN:VEVENT
DTSTART;VALUE=DATE:20210922
DTEND;VALUE=DATE:20210923
DTSTAMP:20260422T002952
CREATED:20210628T173620Z
LAST-MODIFIED:20210628T175134Z
UID:1679-1632268800-1632355199@earthartout.com
SUMMARY:Autumn Equinox
DESCRIPTION:Tell us what you love most about the fall!
URL:https://earthartout.com/event/autumn-equinox/
CATEGORIES:Calendar Event
ATTACH;FMTTYPE=image/png:https://earthartout.com/wp-content/uploads/2021/06/Autumn-Equinox-Earth-Artisan-and-Outfitter.png
END:VEVENT
BEGIN:VEVENT
DTSTART;VALUE=DATE:20210920
DTEND;VALUE=DATE:20210921
DTSTAMP:20260422T002952
CREATED:20210628T173451Z
LAST-MODIFIED:20210628T175142Z
UID:1677-1632096000-1632182399@earthartout.com
SUMMARY:Full Moon
DESCRIPTION:Dance\, howl and celebrate Life outside in the moonlight!
URL:https://earthartout.com/event/full-moon-3/
CATEGORIES:Calendar Event
ATTACH;FMTTYPE=image/png:https://earthartout.com/wp-content/uploads/2021/06/Full-Moon-Event-Earth-Artisan-and-Outfitter.png
END:VEVENT
BEGIN:VEVENT
DTSTART;VALUE=DATE:20210822
DTEND;VALUE=DATE:20210823
DTSTAMP:20260422T002952
CREATED:20210628T173407Z
LAST-MODIFIED:20210628T175147Z
UID:1675-1629590400-1629676799@earthartout.com
SUMMARY:Full Moon
DESCRIPTION:Dance\, howl and celebrate Life outside in the moonlight!
URL:https://earthartout.com/event/full-moon-2/
CATEGORIES:Calendar Event
ATTACH;FMTTYPE=image/png:https://earthartout.com/wp-content/uploads/2021/06/Full-Moon-Event-Earth-Artisan-and-Outfitter.png
END:VEVENT
BEGIN:VEVENT
DTSTART;VALUE=DATE:20210801
DTEND;VALUE=DATE:20211101
DTSTAMP:20260422T002952
CREATED:20210628T173300Z
LAST-MODIFIED:20210629T165533Z
UID:1673-1627776000-1635724799@earthartout.com
SUMMARY:Earth Adventure Photo Share
DESCRIPTION:Earth Artisan & Outfitter outfits people for life. We want to see you in action\, living and using our art\, goods & gear wherever you are\, whatever you’re doing. Stop by the shop to pick up your provisions now\, think about how\, when and where you use them\, what you love about them and start documenting! Our fun little Summer Adventure Photo Share will take place August 1-31\, 2021 on the Earth Artisan & Outfitter FB page\, https://facebook.com/earthartisanoutfitter\, featuring you in action with Earth Artisan & Outfitter’s art\, goods & gear at home\, in the garden & on the trail. Earth Artisan & Outfitter must be tagged in your post & if possible\, shared to our FB page. Not on FB? Email us! With your permission we are happy to share it on the FB page for you. Please be sure to include your name\, where the photo was taken\, what Earth art\, goods\, gear or tools you are using and what you love about your experience. We reserve the right to delete and report any photos/ posts we deem inappropriate. \nRules: Photos/posts can be shared starting at 12 pm noon eastern standard time Sunday August 1\, 2021 through 12 pm noon eastern standard time Tuesday August 31\, 2021. This is not an official contest\, rather a way to mindfully connect people to each other and to the planet\, share ideas and make new friends and memories. All photos must be appropriate and respectful\, within a PG rating. No one and nothing may be harmed or endangered in any way. Have fun!
URL:https://earthartout.com/event/earth-adventure-photo-share/
LOCATION:Earth Artisan & Outfitter\, 37 W. Chapel Ave.\, Carlisle\, PA\, 17013\, United States
CATEGORIES:Earthy Activity
ATTACH;FMTTYPE=image/png:https://earthartout.com/wp-content/uploads/2021/06/Summer-Photo-Share-Earth-Artisan-and-Outfitter.png
END:VEVENT
BEGIN:VEVENT
DTSTART;VALUE=DATE:20210730
DTEND;VALUE=DATE:20210911
DTSTAMP:20260422T002952
CREATED:20210730T223353Z
LAST-MODIFIED:20210730T224936Z
UID:1769-1627603200-1631318399@earthartout.com
SUMMARY:Closed for Adventure & More
DESCRIPTION:Life is big. Time is short. We’re hitting the road for a cross-country trip to regroup\, restock\, restore and explore! Our shop will be closed til September 9. Stay tuned to our social media pages for updates and photos of our journey celebrating Life Wild & Free! And be sure to check out the details & share YOUR photos to the Earth Artisan & Outfitter Facebook page August 1-31\, in our Earth Adventure Photo Share! We will see you back in the shop September 10. Until we meet again\, Happy Trails!
URL:https://earthartout.com/event/closed-for-adventure-and-more/
CATEGORIES:Hours Change
ATTACH;FMTTYPE=image/png:https://earthartout.com/wp-content/uploads/2021/07/6D6DB22A-6F1E-4E46-B1A7-D969F4FABFCD.png
END:VEVENT
BEGIN:VEVENT
DTSTART;VALUE=DATE:20210723
DTEND;VALUE=DATE:20210725
DTSTAMP:20260422T002952
CREATED:20210713T180142Z
LAST-MODIFIED:20210713T180544Z
UID:1724-1626998400-1627171199@earthartout.com
SUMMARY:Weekend Sale on Select Items in the Shop
DESCRIPTION:Our summer spotlight SALE series on select earth-based art\, goods & gear continues on July 23 & 24 in our brick & mortar store located in the wilds of historic\, downtown Carlisle\, PA! \nThis weekend we’re highlighting a SALE on all self-care items for natural mind\, body\, spirit connection and our awesome Earth t-shirts! This includes all Earth logo t-shirts & kids shirts; candles\, spritzers\, bath soaks\, honey products (including balms & salves)\, coffee and more! \nWe can’t wait to inspire your journey\, keeping the good vibes flowing while mindfully connecting people to the planet at home\, in the garden & on the trail!
URL:https://earthartout.com/event/weekend-sale-on-select-items-in-the-shop-3/
LOCATION:Earth Artisan & Outfitter\, 37 W. Chapel Ave.\, Carlisle\, PA\, 17013\, United States
CATEGORIES:In-Store Sale
ATTACH;FMTTYPE=image/png:https://earthartout.com/wp-content/uploads/2021/07/20210712_114828_0001.png
END:VEVENT
BEGIN:VEVENT
DTSTART;VALUE=DATE:20210723
DTEND;VALUE=DATE:20210724
DTSTAMP:20260422T002952
CREATED:20210628T173005Z
LAST-MODIFIED:20210628T175428Z
UID:1670-1626998400-1627084799@earthartout.com
SUMMARY:Full Moon
DESCRIPTION:Dance\, howl and celebrate Life in the moonlight!
URL:https://earthartout.com/event/full-moon/
CATEGORIES:Calendar Event
ATTACH;FMTTYPE=image/png:https://earthartout.com/wp-content/uploads/2021/06/Full-Moon-Event-Earth-Artisan-and-Outfitter.png
END:VEVENT
BEGIN:VEVENT
DTSTART;VALUE=DATE:20210716
DTEND;VALUE=DATE:20210718
DTSTAMP:20260422T002952
CREATED:20210713T181323Z
LAST-MODIFIED:20210713T181323Z
UID:1731-1626393600-1626566399@earthartout.com
SUMMARY:Closed for Event July 16 & 17
DESCRIPTION:Earth will be closed for a special summer event on July 16 & 17. We will be back in the shop for another Summer Spotlight Weekend Sale July 23 & 24. Until we meet again\, Happy Trails-Stay Cool!
URL:https://earthartout.com/event/closed-for-event-july-16-17/
LOCATION:Earth Artisan & Outfitter\, 37 W. Chapel Ave.\, Carlisle\, PA\, 17013\, United States
CATEGORIES:Hours Change
ATTACH;FMTTYPE=image/png:https://earthartout.com/wp-content/uploads/2021/07/20210712_114454_00001.png
END:VEVENT
BEGIN:VEVENT
DTSTART;VALUE=DATE:20210709
DTEND;VALUE=DATE:20210711
DTSTAMP:20260422T002952
CREATED:20210628T172900Z
LAST-MODIFIED:20210629T165154Z
UID:1668-1625788800-1625961599@earthartout.com
SUMMARY:Weekend Sale on Select Items in the Shop
DESCRIPTION:Fun features & weekend sale on select items in our brick & mortar store in the wilds of historic downtown Carlisle\, PA\, highlighting different aspects of our awesome art\, goods & gear. Stay tuned to what will be featured this month!
URL:https://earthartout.com/event/weekend-sale-on-select-items-in-the-shop-2/
LOCATION:Earth Artisan & Outfitter\, 37 W. Chapel Ave.\, Carlisle\, PA\, 17013\, United States
CATEGORIES:In-Store Sale
ATTACH;FMTTYPE=image/png:https://earthartout.com/wp-content/uploads/2021/06/July-9-10-Weekend-Sale-Earth-Artisan-and-Outfitter.png
END:VEVENT
END:VCALENDAR