BEGIN:VCALENDAR
VERSION:2.0
PRODID:-//Earth Artisan &amp; Outfitter - ECPv6.0.11//NONSGML v1.0//EN
CALSCALE:GREGORIAN
METHOD:PUBLISH
X-WR-CALNAME:Earth Artisan &amp; Outfitter
X-ORIGINAL-URL:https://earthartout.com
X-WR-CALDESC:Events for Earth Artisan &amp; Outfitter
REFRESH-INTERVAL;VALUE=DURATION:PT1H
X-Robots-Tag:noindex
X-PUBLISHED-TTL:PT1H
BEGIN:VTIMEZONE
TZID:America/New_York
BEGIN:DAYLIGHT
TZOFFSETFROM:-0500
TZOFFSETTO:-0400
TZNAME:EDT
DTSTART:20240310T070000
END:DAYLIGHT
BEGIN:STANDARD
TZOFFSETFROM:-0400
TZOFFSETTO:-0500
TZNAME:EST
DTSTART:20241103T060000
END:STANDARD
END:VTIMEZONE
BEGIN:VEVENT
DTSTART;TZID=America/New_York:20240605T150000
DTEND;TZID=America/New_York:20240605T190000
DTSTAMP:20260420T222107
CREATED:20240422T183135Z
LAST-MODIFIED:20240422T183135Z
UID:2600-1717599600-1717614000@earthartout.com
SUMMARY:Wild Wednesday Surprise Hours
DESCRIPTION:Enjoy late in the day hours to Shop Small & Local at Earth Artisan & Outfitter for all of your earth-based art\, goods\, gear & guides for mindful living & adventuring during Carlisle’s Farmer’s On The Square farmers market. Our shop will be open from 3-7 pm. Grab your farm fresh produce at the market and meander to Earth for everything else!
URL:https://earthartout.com/event/wild-wednesday-surprise-hours-3/
LOCATION:Earth Artisan & Outfitter\, 37 W. Chapel Ave.\, Carlisle\, PA\, 17013\, United States
CATEGORIES:Hours Change
END:VEVENT
BEGIN:VEVENT
DTSTART;VALUE=DATE:20240601
DTEND;VALUE=DATE:20240602
DTSTAMP:20260420T222107
CREATED:20240417T190846Z
LAST-MODIFIED:20240417T190846Z
UID:2573-1717200000-1717286399@earthartout.com
SUMMARY:Closed for Special Event
DESCRIPTION:Earth will be closed for a special event. Sorry to miss you\, see you next weekend for our end of season sale!
URL:https://earthartout.com/event/closed-for-special-event/
LOCATION:Earth Artisan & Outfitter\, 37 W. Chapel Ave.\, Carlisle\, PA\, 17013\, United States
CATEGORIES:Hours Change
END:VEVENT
BEGIN:VEVENT
DTSTART;TZID=America/New_York:20240531T110000
DTEND;TZID=America/New_York:20240531T160000
DTSTAMP:20260420T222107
CREATED:20240417T185241Z
LAST-MODIFIED:20240417T185241Z
UID:2509-1717153200-1717171200@earthartout.com
SUMMARY:Open Regular Hours
DESCRIPTION:Earth is open regular seasonal hours today from 11-4\, unless otherwise noted. Sometimes life happens\, get the most up to date information by following our social media\, where you can also be the first to find out about special Surprise Hours during the week!
URL:https://earthartout.com/event/open-regular-hours-13/
LOCATION:Earth Artisan & Outfitter\, 37 W. Chapel Ave.\, Carlisle\, PA\, 17013\, United States
CATEGORIES:Hours Change
END:VEVENT
BEGIN:VEVENT
DTSTART;TZID=America/New_York:20240529T150000
DTEND;TZID=America/New_York:20240529T190000
DTSTAMP:20260420T222107
CREATED:20240422T182936Z
LAST-MODIFIED:20240422T182936Z
UID:2598-1716994800-1717009200@earthartout.com
SUMMARY:Wild Wednesday Surprise Hours
DESCRIPTION:Enjoy late in the day hours to Shop Small & Local at Earth Artisan & Outfitter for all of your earth-based art\, goods\, gear & guides for mindful living & adventuring during Carlisle’s Farmer’s On The Square farmers market. Our shop will be open from 3-7 pm. Grab your farm fresh produce at the market and meander to Earth for everything else! \nNote: Regular Hours resume Friday May 31 from 11-4  but we will be closed for a special event on Saturday June 1 so get what you need now!
URL:https://earthartout.com/event/wild-wednesday-surprise-hours-2/
LOCATION:Earth Artisan & Outfitter\, 37 W. Chapel Ave.\, Carlisle\, PA\, 17013\, United States
CATEGORIES:Hours Change
END:VEVENT
BEGIN:VEVENT
DTSTART;VALUE=DATE:20240525
DTEND;VALUE=DATE:20240526
DTSTAMP:20260420T222107
CREATED:20240422T182852Z
LAST-MODIFIED:20240422T182852Z
UID:2596-1716595200-1716681599@earthartout.com
SUMMARY:Closed for a Special Event
DESCRIPTION:Sorry to miss you! Catch us for Wild Wednesday Surprise Hours on May 29!
URL:https://earthartout.com/event/closed-for-a-special-event/
LOCATION:Earth Artisan & Outfitter\, 37 W. Chapel Ave.\, Carlisle\, PA\, 17013\, United States
CATEGORIES:Hours Change
END:VEVENT
BEGIN:VEVENT
DTSTART;TZID=America/New_York:20240524T110000
DTEND;TZID=America/New_York:20240524T160000
DTSTAMP:20260420T222107
CREATED:20240417T185209Z
LAST-MODIFIED:20240417T185209Z
UID:2505-1716548400-1716566400@earthartout.com
SUMMARY:Open Regular Hours
DESCRIPTION:Earth is open regular seasonal hours today from 11-4\, unless otherwise noted. Sometimes life happens\, get the most up to date information by following our social media\, where you can also be the first to find out about special Surprise Hours during the week!
URL:https://earthartout.com/event/open-regular-hours-11/
LOCATION:Earth Artisan & Outfitter\, 37 W. Chapel Ave.\, Carlisle\, PA\, 17013\, United States
CATEGORIES:Hours Change
END:VEVENT
BEGIN:VEVENT
DTSTART;VALUE=DATE:20240523
DTEND;VALUE=DATE:20240524
DTSTAMP:20260420T222107
CREATED:20240416T162009Z
LAST-MODIFIED:20240416T162009Z
UID:2418-1716422400-1716508799@earthartout.com
SUMMARY:Full Flower Moon
DESCRIPTION:Dance\, howl and celebrate Life outside in the moonlight! Enjoy beautiful flowers blooming everywhere!
URL:https://earthartout.com/event/full-flower-moon-3/
LOCATION:PA
CATEGORIES:Calendar Event
ATTACH;FMTTYPE=image/png:https://earthartout.com/wp-content/uploads/2022/03/Full-Moon.png
END:VEVENT
BEGIN:VEVENT
DTSTART;TZID=America/New_York:20240522T150000
DTEND;TZID=America/New_York:20240522T190000
DTSTAMP:20260420T222107
CREATED:20240422T182815Z
LAST-MODIFIED:20240422T182815Z
UID:2594-1716390000-1716404400@earthartout.com
SUMMARY:Wild Wednesday Surprise Hours
DESCRIPTION:Enjoy late in the day hours to Shop Small & Local at Earth Artisan & Outfitter for all of your earth-based art\, goods\, gear & guides for mindful living & adventuring during Carlisle’s Farmer’s On The Square farmers market. Our shop will be open from 3-7 pm. Grab your farm fresh produce at the market and meander to Earth for everything else! \nNote: Regular Hours resume Friday May 24\, but we will be closed for a special event on Saturday May 25.
URL:https://earthartout.com/event/wild-wednesday-surprise-hours/
LOCATION:Earth Artisan & Outfitter\, 37 W. Chapel Ave.\, Carlisle\, PA\, 17013\, United States
CATEGORIES:Hours Change
END:VEVENT
BEGIN:VEVENT
DTSTART;TZID=America/New_York:20240518T110000
DTEND;TZID=America/New_York:20240518T160000
DTSTAMP:20260420T222107
CREATED:20240417T184716Z
LAST-MODIFIED:20240417T184716Z
UID:2503-1716030000-1716048000@earthartout.com
SUMMARY:Open Regular Hours
DESCRIPTION:Earth is open regular seasonal hours today from 11-4\, unless otherwise noted. Sometimes life happens\, get the most up to date information by following our social media\, where you can also be the first to find out about special Surprise Hours during the week!
URL:https://earthartout.com/event/open-regular-hours-10/
LOCATION:Earth Artisan & Outfitter\, 37 W. Chapel Ave.\, Carlisle\, PA\, 17013\, United States
CATEGORIES:Hours Change
END:VEVENT
BEGIN:VEVENT
DTSTART;TZID=America/New_York:20240517T110000
DTEND;TZID=America/New_York:20240517T160000
DTSTAMP:20260420T222107
CREATED:20240417T184704Z
LAST-MODIFIED:20240417T184704Z
UID:2501-1715943600-1715961600@earthartout.com
SUMMARY:Open Regular Hours
DESCRIPTION:Earth is open regular seasonal hours today from 11-4\, unless otherwise noted. Sometimes life happens\, get the most up to date information by following our social media\, where you can also be the first to find out about special Surprise Hours during the week!
URL:https://earthartout.com/event/open-regular-hours-9/
LOCATION:Earth Artisan & Outfitter\, 37 W. Chapel Ave.\, Carlisle\, PA\, 17013\, United States
CATEGORIES:Hours Change
END:VEVENT
BEGIN:VEVENT
DTSTART;VALUE=DATE:20240512
DTEND;VALUE=DATE:20240513
DTSTAMP:20260420T222107
CREATED:20240417T184248Z
LAST-MODIFIED:20240417T184248Z
UID:2483-1715472000-1715558399@earthartout.com
SUMMARY:Mother's Day
DESCRIPTION:To Mother Nature and all the earthy mamas out there\, we salute you!
URL:https://earthartout.com/event/mothers-day-2/
LOCATION:PA
CATEGORIES:Calendar Event
END:VEVENT
BEGIN:VEVENT
DTSTART;TZID=America/New_York:20240511T110000
DTEND;TZID=America/New_York:20240511T160000
DTSTAMP:20260420T222107
CREATED:20240417T184653Z
LAST-MODIFIED:20240417T184653Z
UID:2499-1715425200-1715443200@earthartout.com
SUMMARY:Open Regular Hours
DESCRIPTION:Earth is open regular seasonal hours today from 11-4\, unless otherwise noted. Sometimes life happens\, get the most up to date information by following our social media\, where you can also be the first to find out about special Surprise Hours during the week!
URL:https://earthartout.com/event/open-regular-hours-8/
LOCATION:Earth Artisan & Outfitter\, 37 W. Chapel Ave.\, Carlisle\, PA\, 17013\, United States
CATEGORIES:Hours Change
END:VEVENT
BEGIN:VEVENT
DTSTART;TZID=America/New_York:20240511T110000
DTEND;TZID=America/New_York:20240511T160000
DTSTAMP:20260420T222107
CREATED:20240416T154408Z
LAST-MODIFIED:20240416T154644Z
UID:2390-1715425200-1715443200@earthartout.com
SUMMARY:Love Your Mother
DESCRIPTION:Gotta mother\, know a mother\, love a mother\, are a mother: celebrate earthy mamas and Mother Nature everywhere with specials in the shop on our earth-based art\, goods\, gear & guides! \nSales on select items and special treats for earthy mamas. Stay tuned to our social media for details and updates!
URL:https://earthartout.com/event/love-your-mother-6/
LOCATION:Earth Artisan & Outfitter\, 37 W. Chapel Ave.\, Carlisle\, PA\, 17013\, United States
CATEGORIES:Earthy Activity
ATTACH;FMTTYPE=image/png:https://earthartout.com/wp-content/uploads/2024/04/Love-Your-Mother.png
END:VEVENT
BEGIN:VEVENT
DTSTART;TZID=America/New_York:20240510T110000
DTEND;TZID=America/New_York:20240510T160000
DTSTAMP:20260420T222107
CREATED:20240417T184643Z
LAST-MODIFIED:20240417T184643Z
UID:2497-1715338800-1715356800@earthartout.com
SUMMARY:Open Regular Hours
DESCRIPTION:Earth is open regular seasonal hours today from 11-4\, unless otherwise noted. Sometimes life happens\, get the most up to date information by following our social media\, where you can also be the first to find out about special Surprise Hours during the week!
URL:https://earthartout.com/event/open-regular-hours-7/
LOCATION:Earth Artisan & Outfitter\, 37 W. Chapel Ave.\, Carlisle\, PA\, 17013\, United States
CATEGORIES:Hours Change
END:VEVENT
BEGIN:VEVENT
DTSTART;TZID=America/New_York:20240510T110000
DTEND;TZID=America/New_York:20240510T160000
DTSTAMP:20260420T222107
CREATED:20240416T154351Z
LAST-MODIFIED:20240416T154629Z
UID:2388-1715338800-1715356800@earthartout.com
SUMMARY:Love Your Mother
DESCRIPTION:Gotta mother\, know a mother\, love a mother\, are a mother: celebrate earthy mamas and Mother Nature everywhere with specials in the shop on our earth-based art\, goods\, gear & guides! \nSales on select items and special treats for earthy mamas. Stay tuned to our social media for details and updates!
URL:https://earthartout.com/event/love-your-mother-5/
LOCATION:Earth Artisan & Outfitter\, 37 W. Chapel Ave.\, Carlisle\, PA\, 17013\, United States
CATEGORIES:Earthy Activity
ATTACH;FMTTYPE=image/png:https://earthartout.com/wp-content/uploads/2024/04/Love-Your-Mother.png
END:VEVENT
BEGIN:VEVENT
DTSTART;TZID=America/New_York:20240508T150000
DTEND;TZID=America/New_York:20240508T190000
DTSTAMP:20260420T222107
CREATED:20240417T184141Z
LAST-MODIFIED:20240417T184141Z
UID:2480-1715180400-1715194800@earthartout.com
SUMMARY:FOS Artist Market
DESCRIPTION:Catch us at Farmer’s On The Square\, Spring Artist Market\, pending weather. This is a special opportunity to focus specifically on my earth-based artwork\, with original\, prints\, and note cards for sale.
URL:https://earthartout.com/event/fos-artist-market/
LOCATION:Farmer’s On The Square\, 2A N Hanover St.\, Carlisle\, PA\, 17013\, United States
CATEGORIES:Calendar Event
END:VEVENT
BEGIN:VEVENT
DTSTART;TZID=America/New_York:20240504T110000
DTEND;TZID=America/New_York:20240504T160000
DTSTAMP:20260420T222107
CREATED:20240417T184548Z
LAST-MODIFIED:20240417T184548Z
UID:2493-1714820400-1714838400@earthartout.com
SUMMARY:Open Regular Hours
DESCRIPTION:Earth is open regular seasonal hours today from 11-4\, unless otherwise noted. Sometimes life happens\, get the most up to date information by following our social media\, where you can also be the first to find out about special Surprise Hours during the week!
URL:https://earthartout.com/event/open-regular-hours-5/
LOCATION:Earth Artisan & Outfitter\, 37 W. Chapel Ave.\, Carlisle\, PA\, 17013\, United States
CATEGORIES:Hours Change
END:VEVENT
BEGIN:VEVENT
DTSTART;TZID=America/New_York:20240503T110000
DTEND;TZID=America/New_York:20240503T160000
DTSTAMP:20260420T222107
CREATED:20240417T184633Z
LAST-MODIFIED:20240417T184633Z
UID:2495-1714734000-1714752000@earthartout.com
SUMMARY:Open Regular Hours
DESCRIPTION:Earth is open regular seasonal hours today from 11-4\, unless otherwise noted. Sometimes life happens\, get the most up to date information by following our social media\, where you can also be the first to find out about special Surprise Hours during the week!
URL:https://earthartout.com/event/open-regular-hours-6/
LOCATION:Earth Artisan & Outfitter\, 37 W. Chapel Ave.\, Carlisle\, PA\, 17013\, United States
CATEGORIES:Hours Change
END:VEVENT
BEGIN:VEVENT
DTSTART;TZID=America/New_York:20240427T120000
DTEND;TZID=America/New_York:20240427T160000
DTSTAMP:20260420T222107
CREATED:20240416T154125Z
LAST-MODIFIED:20240417T182239Z
UID:2385-1714219200-1714233600@earthartout.com
SUMMARY:The 4th Annual Earth Day Celebration
DESCRIPTION:Earth Day is every day\, but this year the 4th Annual Earth Day Celebration in downtown Carlisle will be held in coordination with Arbor Day on Saturday April 27 from 12-4 pm. This will be a complete Celebration of The Earth\, The Trees and Life Wild & Free! \nThe event will take place in the Carlisle Borough Parking Lots outside of Earth Artisan & Outfitter\, 37 West Chapel Ave in the wilds of historic downtown Carlisle PA. \nThis is an awesome opportunity to learn\, grow\, share and connect with over twenty different eco-educators and organizations. There will also be live acoustic music\, food\, vendors\, activities and raffles all geared to mindfully connect people to the planet. Our shop will also be open from 11-4 with the area’s best earth-based art\, goods\, gear & guides for mindful living and adventuring home\, garden and trail. \nThe Earth Day Celebration is a free\, family friendly community event that will be held rain or shine. Please come prepared for whatever Mother Nature has in store. Spread the word\, gather your friends\, family & everyone you know\, then Get Out & Get Here! Thank you for doing your part to make this day and every day Earth Day! Think Big\, Do Good\, Live & Love Wild & Free! \nStay tuned to our social media for details and updates! \nThank you to our partners for helping to make this year’s event possible: King’s Gap State Park\, The Borough of Carlisle\, BrightView Landscaping\, Cumberland Valley Tourism\, and all of the amazing people volunteering their time to set up and table this special community environmental event! Let’s keep the good vibes flowing!
URL:https://earthartout.com/event/the-4th-annual-earth-day-celebration/
LOCATION:Earth Artisan & Outfitter\, 37 W. Chapel Ave.\, Carlisle\, PA\, 17013\, United States
CATEGORIES:Earthy Activity
ATTACH;FMTTYPE=image/webp:https://earthartout.com/wp-content/uploads/2024/04/Earth-Day-Celebration_20240410_100204_0000.webp
END:VEVENT
BEGIN:VEVENT
DTSTART;TZID=America/New_York:20240427T110000
DTEND;TZID=America/New_York:20240427T160000
DTSTAMP:20260420T222107
CREATED:20240417T184533Z
LAST-MODIFIED:20240417T184533Z
UID:2491-1714215600-1714233600@earthartout.com
SUMMARY:Open Regular Hours
DESCRIPTION:Earth is open regular seasonal hours today from 11-4\, unless otherwise noted. Sometimes life happens\, get the most up to date information by following our social media\, where you can also be the first to find out about special Surprise Hours during the week!
URL:https://earthartout.com/event/open-regular-hours-4/
LOCATION:Earth Artisan & Outfitter\, 37 W. Chapel Ave.\, Carlisle\, PA\, 17013\, United States
CATEGORIES:Hours Change
END:VEVENT
BEGIN:VEVENT
DTSTART;TZID=America/New_York:20240426T110000
DTEND;TZID=America/New_York:20240426T160000
DTSTAMP:20260420T222107
CREATED:20240417T184522Z
LAST-MODIFIED:20240417T184522Z
UID:2489-1714129200-1714147200@earthartout.com
SUMMARY:Open Regular Hours
DESCRIPTION:Earth is open regular seasonal hours today from 11-4\, unless otherwise noted. Sometimes life happens\, get the most up to date information by following our social media\, where you can also be the first to find out about special Surprise Hours during the week!
URL:https://earthartout.com/event/open-regular-hours-3/
LOCATION:Earth Artisan & Outfitter\, 37 W. Chapel Ave.\, Carlisle\, PA\, 17013\, United States
CATEGORIES:Hours Change
END:VEVENT
BEGIN:VEVENT
DTSTART;VALUE=DATE:20240423
DTEND;VALUE=DATE:20240424
DTSTAMP:20260420T222107
CREATED:20240416T161935Z
LAST-MODIFIED:20240417T183845Z
UID:2416-1713830400-1713916799@earthartout.com
SUMMARY:Full Pink Moon
DESCRIPTION:Swirl\, dance\, and set your howling heart free as petals cascade all around!
URL:https://earthartout.com/event/full-pink-moon-2/
LOCATION:PA
CATEGORIES:Calendar Event
ATTACH;FMTTYPE=image/png:https://earthartout.com/wp-content/uploads/2022/03/Full-Moon.png
END:VEVENT
BEGIN:VEVENT
DTSTART;VALUE=DATE:20240422
DTEND;VALUE=DATE:20240423
DTSTAMP:20260420T222107
CREATED:20240416T153852Z
LAST-MODIFIED:20240417T181940Z
UID:2382-1713744000-1713830399@earthartout.com
SUMMARY:Earth Day
DESCRIPTION:Today is a global acknowledgement and celebration of the planet we all call home. Do you live on Earth? Breathe the air\, drink the water\, and eat foods here? Then you have a stake in the health of our planet! What we do to the earth\, we do to ourselves! \nThis is an opportunity to check in on how you live\, work\, and play: make healthier\, greener choices to respect\, preserve and protect clean air\, clean water\, clean soil and all Life. \nLeave No Trace: When you yonder beyond your home\, don’t litter! Be mindful of where you walk\, the products you use\, and how you can reduce\, reuse and recycle so that all species in all environments can continue to thrive. \nAll Life is Connected. Do Your Part. There is No Planet B. \nJoin us at the 4th Annual Earth Day Celebration in downtown Carlisle on Saturday April 27 to learn\, grow\, and share with 20+ eco-educators and organizations all focused upon ways to mindfully connect people to the planet so all life can thrive!
URL:https://earthartout.com/event/earth-day-3/
LOCATION:Earth Artisan & Outfitter\, 37 W. Chapel Ave.\, Carlisle\, PA\, 17013\, United States
CATEGORIES:Calendar Event
ATTACH;FMTTYPE=image/png:https://earthartout.com/wp-content/uploads/2024/04/Green-and-Blue-Happy-Earth-Day-Instagram-Post_20240416_184655_0000.png
END:VEVENT
BEGIN:VEVENT
DTSTART;TZID=America/New_York:20240420T110000
DTEND;TZID=America/New_York:20240420T160000
DTSTAMP:20260420T222107
CREATED:20240417T184510Z
LAST-MODIFIED:20240417T184510Z
UID:2487-1713610800-1713628800@earthartout.com
SUMMARY:Open Regular Hours
DESCRIPTION:Earth is open regular seasonal hours today from 11-4\, unless otherwise noted. Sometimes life happens\, get the most up to date information by following our social media\, where you can also be the first to find out about special Surprise Hours during the week!
URL:https://earthartout.com/event/open-regular-hours-2/
LOCATION:Earth Artisan & Outfitter\, 37 W. Chapel Ave.\, Carlisle\, PA\, 17013\, United States
CATEGORIES:Hours Change
END:VEVENT
BEGIN:VEVENT
DTSTART;TZID=America/New_York:20240419T110000
DTEND;TZID=America/New_York:20240419T160000
DTSTAMP:20260420T222107
CREATED:20240417T184457Z
LAST-MODIFIED:20240417T184457Z
UID:2485-1713524400-1713542400@earthartout.com
SUMMARY:Open Regular Hours
DESCRIPTION:Earth is open regular seasonal hours today from 11-4\, unless otherwise noted. Sometimes life happens\, get the most up to date information by following our social media\, where you can also be the first to find out about special Surprise Hours during the week!
URL:https://earthartout.com/event/open-regular-hours/
LOCATION:Earth Artisan & Outfitter\, 37 W. Chapel Ave.\, Carlisle\, PA\, 17013\, United States
CATEGORIES:Hours Change
END:VEVENT
BEGIN:VEVENT
DTSTART;VALUE=DATE:20240326
DTEND;VALUE=DATE:20240327
DTSTAMP:20260420T222107
CREATED:20230315T183042Z
LAST-MODIFIED:20230323T143002Z
UID:2370-1711411200-1711497599@earthartout.com
SUMMARY:Full Worm Moon
DESCRIPTION:Wiggle\, dance\, howl and celebrate Life outside in the moonlight! The worms are doing the same thing through the freshly thawed soil!
URL:https://earthartout.com/event/full-worm-moon-2/
LOCATION:PA
CATEGORIES:Calendar Event
ATTACH;FMTTYPE=image/png:https://earthartout.com/wp-content/uploads/2022/03/Full-Moon.png
END:VEVENT
BEGIN:VEVENT
DTSTART;VALUE=DATE:20240319
DTEND;VALUE=DATE:20240320
DTSTAMP:20260420T222107
CREATED:20230315T183003Z
LAST-MODIFIED:20230323T143040Z
UID:2368-1710806400-1710892799@earthartout.com
SUMMARY:Spring Equinox
DESCRIPTION:This is a time of balance. Connect with nature to inspire daily practices and rituals that encourage health and vitality in your daily living practices. Take a walk on the wild side\, breath in the fresh air\, plant seeds\, bulbs\, trees\, plants\, flowers\, herbs & veggies setting the intention of positive energy. As they grow\, your intentions become reality.
URL:https://earthartout.com/event/spring-equinox-3/
LOCATION:PA
CATEGORIES:Calendar Event
END:VEVENT
BEGIN:VEVENT
DTSTART;TZID=America/New_York:20240316T110000
DTEND;TZID=America/New_York:20240316T160000
DTSTAMP:20260420T222107
CREATED:20230315T182926Z
LAST-MODIFIED:20230323T143013Z
UID:2366-1710586800-1710604800@earthartout.com
SUMMARY:Spring Open House
DESCRIPTION:Celebrate the season\, see what’s new and gather your favorite art\, goods & gear for mindful living and adventuring at home\, in the garden & on the trail! Follow our social media for details.
URL:https://earthartout.com/event/spring-open-house-6/
LOCATION:Earth Artisan & Outfitter\, 37 W. Chapel Ave.\, Carlisle\, PA\, 17013\, United States
CATEGORIES:Earthy Activity
END:VEVENT
BEGIN:VEVENT
DTSTART;TZID=America/New_York:20240315T110000
DTEND;TZID=America/New_York:20240315T160000
DTSTAMP:20260420T222107
CREATED:20230315T182912Z
LAST-MODIFIED:20230323T143023Z
UID:2364-1710500400-1710518400@earthartout.com
SUMMARY:Spring Open House
DESCRIPTION:Celebrate the season\, see what’s new and gather your favorite art\, goods & gear for mindful living and adventuring at home\, in the garden & on the trail! Follow our social media for details.
URL:https://earthartout.com/event/spring-open-house-5/
LOCATION:Earth Artisan & Outfitter\, 37 W. Chapel Ave.\, Carlisle\, PA\, 17013\, United States
CATEGORIES:Earthy Activity
END:VEVENT
BEGIN:VEVENT
DTSTART;VALUE=DATE:20240310
DTEND;VALUE=DATE:20240311
DTSTAMP:20260420T222107
CREATED:20230315T182821Z
LAST-MODIFIED:20230315T182821Z
UID:2362-1710028800-1710115199@earthartout.com
SUMMARY:Spring Forward
DESCRIPTION:Daylight Savings Time. Sets clocks ahead 1 hour. Like “fall backwards\,” this is a completely unnecessary tradition that we wish would go away. However\, until this man-ipulated time is abolished\, enjoy an hour less sleep and more time to work until November. In between\, notice Mother Nature has her own rhythms\, and ours are quite in tune with hers in mind\, body & spirit as she changes naturally with the seasons.
URL:https://earthartout.com/event/spring-forward/
LOCATION:PA
CATEGORIES:Calendar Event
END:VEVENT
END:VCALENDAR