BEGIN:VCALENDAR
VERSION:2.0
PRODID:-//Earth Artisan &amp; Outfitter - ECPv6.0.11//NONSGML v1.0//EN
CALSCALE:GREGORIAN
METHOD:PUBLISH
X-WR-CALNAME:Earth Artisan &amp; Outfitter
X-ORIGINAL-URL:https://earthartout.com
X-WR-CALDESC:Events for Earth Artisan &amp; Outfitter
REFRESH-INTERVAL;VALUE=DURATION:PT1H
X-Robots-Tag:noindex
X-PUBLISHED-TTL:PT1H
BEGIN:VTIMEZONE
TZID:America/New_York
BEGIN:DAYLIGHT
TZOFFSETFROM:-0500
TZOFFSETTO:-0400
TZNAME:EDT
DTSTART:20230312T070000
END:DAYLIGHT
BEGIN:STANDARD
TZOFFSETFROM:-0400
TZOFFSETTO:-0500
TZNAME:EST
DTSTART:20231105T060000
END:STANDARD
BEGIN:DAYLIGHT
TZOFFSETFROM:-0500
TZOFFSETTO:-0400
TZNAME:EDT
DTSTART:20240310T070000
END:DAYLIGHT
BEGIN:STANDARD
TZOFFSETFROM:-0400
TZOFFSETTO:-0500
TZNAME:EST
DTSTART:20241103T060000
END:STANDARD
END:VTIMEZONE
BEGIN:VEVENT
DTSTART;TZID=America/New_York:20240419T110000
DTEND;TZID=America/New_York:20240419T160000
DTSTAMP:20260421T015713
CREATED:20240417T184457Z
LAST-MODIFIED:20240417T184457Z
UID:2485-1713524400-1713542400@earthartout.com
SUMMARY:Open Regular Hours
DESCRIPTION:Earth is open regular seasonal hours today from 11-4\, unless otherwise noted. Sometimes life happens\, get the most up to date information by following our social media\, where you can also be the first to find out about special Surprise Hours during the week!
URL:https://earthartout.com/event/open-regular-hours/
LOCATION:Earth Artisan & Outfitter\, 37 W. Chapel Ave.\, Carlisle\, PA\, 17013\, United States
CATEGORIES:Hours Change
END:VEVENT
BEGIN:VEVENT
DTSTART;VALUE=DATE:20240326
DTEND;VALUE=DATE:20240327
DTSTAMP:20260421T015713
CREATED:20230315T183042Z
LAST-MODIFIED:20230323T143002Z
UID:2370-1711411200-1711497599@earthartout.com
SUMMARY:Full Worm Moon
DESCRIPTION:Wiggle\, dance\, howl and celebrate Life outside in the moonlight! The worms are doing the same thing through the freshly thawed soil!
URL:https://earthartout.com/event/full-worm-moon-2/
CATEGORIES:Calendar Event
ATTACH;FMTTYPE=image/png:https://earthartout.com/wp-content/uploads/2022/03/Full-Moon.png
END:VEVENT
BEGIN:VEVENT
DTSTART;VALUE=DATE:20240319
DTEND;VALUE=DATE:20240320
DTSTAMP:20260421T015713
CREATED:20230315T183003Z
LAST-MODIFIED:20230323T143040Z
UID:2368-1710806400-1710892799@earthartout.com
SUMMARY:Spring Equinox
DESCRIPTION:This is a time of balance. Connect with nature to inspire daily practices and rituals that encourage health and vitality in your daily living practices. Take a walk on the wild side\, breath in the fresh air\, plant seeds\, bulbs\, trees\, plants\, flowers\, herbs & veggies setting the intention of positive energy. As they grow\, your intentions become reality.
URL:https://earthartout.com/event/spring-equinox-3/
CATEGORIES:Calendar Event
END:VEVENT
BEGIN:VEVENT
DTSTART;TZID=America/New_York:20240316T110000
DTEND;TZID=America/New_York:20240316T160000
DTSTAMP:20260421T015713
CREATED:20230315T182926Z
LAST-MODIFIED:20230323T143013Z
UID:2366-1710586800-1710604800@earthartout.com
SUMMARY:Spring Open House
DESCRIPTION:Celebrate the season\, see what’s new and gather your favorite art\, goods & gear for mindful living and adventuring at home\, in the garden & on the trail! Follow our social media for details.
URL:https://earthartout.com/event/spring-open-house-6/
LOCATION:Earth Artisan & Outfitter\, 37 W. Chapel Ave.\, Carlisle\, PA\, 17013\, United States
CATEGORIES:Earthy Activity
END:VEVENT
BEGIN:VEVENT
DTSTART;TZID=America/New_York:20240315T110000
DTEND;TZID=America/New_York:20240315T160000
DTSTAMP:20260421T015713
CREATED:20230315T182912Z
LAST-MODIFIED:20230323T143023Z
UID:2364-1710500400-1710518400@earthartout.com
SUMMARY:Spring Open House
DESCRIPTION:Celebrate the season\, see what’s new and gather your favorite art\, goods & gear for mindful living and adventuring at home\, in the garden & on the trail! Follow our social media for details.
URL:https://earthartout.com/event/spring-open-house-5/
LOCATION:Earth Artisan & Outfitter\, 37 W. Chapel Ave.\, Carlisle\, PA\, 17013\, United States
CATEGORIES:Earthy Activity
END:VEVENT
BEGIN:VEVENT
DTSTART;VALUE=DATE:20240310
DTEND;VALUE=DATE:20240311
DTSTAMP:20260421T015713
CREATED:20230315T182821Z
LAST-MODIFIED:20230315T182821Z
UID:2362-1710028800-1710115199@earthartout.com
SUMMARY:Spring Forward
DESCRIPTION:Daylight Savings Time. Sets clocks ahead 1 hour. Like “fall backwards\,” this is a completely unnecessary tradition that we wish would go away. However\, until this man-ipulated time is abolished\, enjoy an hour less sleep and more time to work until November. In between\, notice Mother Nature has her own rhythms\, and ours are quite in tune with hers in mind\, body & spirit as she changes naturally with the seasons.
URL:https://earthartout.com/event/spring-forward/
CATEGORIES:Calendar Event
END:VEVENT
BEGIN:VEVENT
DTSTART;VALUE=DATE:20240224
DTEND;VALUE=DATE:20240225
DTSTAMP:20260421T015713
CREATED:20230315T182749Z
LAST-MODIFIED:20230323T144125Z
UID:2360-1708732800-1708819199@earthartout.com
SUMMARY:Full Snow Moon
DESCRIPTION:Named for the type of cold white weather that used to be standard this time of year in the northeastern US. We recommend running outside to play\, dance and howl under the full moon\, whether it’s snowy or not.
URL:https://earthartout.com/event/full-snow-moon/
CATEGORIES:Calendar Event
ATTACH;FMTTYPE=image/png:https://earthartout.com/wp-content/uploads/2022/03/Full-Moon.png
END:VEVENT
BEGIN:VEVENT
DTSTART;TZID=America/New_York:20240210T110000
DTEND;TZID=America/New_York:20240210T160000
DTSTAMP:20260421T015713
CREATED:20230315T182650Z
LAST-MODIFIED:20230323T144141Z
UID:2358-1707562800-1707580800@earthartout.com
SUMMARY:Love the Earth
DESCRIPTION:Valentine’s Day is coming up\, show your love for the Earth! Follow our social media for details.
URL:https://earthartout.com/event/love-the-earth-4/
LOCATION:Earth Artisan & Outfitter\, 37 W. Chapel Ave.\, Carlisle\, PA\, 17013\, United States
CATEGORIES:Earthy Activity
END:VEVENT
BEGIN:VEVENT
DTSTART;TZID=America/New_York:20240209T110000
DTEND;TZID=America/New_York:20240209T160000
DTSTAMP:20260421T015713
CREATED:20230315T182624Z
LAST-MODIFIED:20230323T144132Z
UID:2356-1707476400-1707494400@earthartout.com
SUMMARY:Love the Earth
DESCRIPTION:Valentine’s Day is coming up\, show your love for the Earth! Follow our social media for details.
URL:https://earthartout.com/event/love-the-earth-3/
LOCATION:Earth Artisan & Outfitter\, 37 W. Chapel Ave.\, Carlisle\, PA\, 17013\, United States
CATEGORIES:Earthy Activity
END:VEVENT
BEGIN:VEVENT
DTSTART;TZID=America/New_York:20240204T110000
DTEND;TZID=America/New_York:20240204T160000
DTSTAMP:20260421T015713
CREATED:20230313T191841Z
LAST-MODIFIED:20230315T182507Z
UID:2292-1707044400-1707062400@earthartout.com
SUMMARY:Seasonal Reopening
DESCRIPTION:We reopen for the season during Downtown Carlisle’s IceArtFest 2024. We will have special hours to view our spectacular nature-inspired ice sculpture on the porch\, specials in the shop on our restocked earth-based art\, goods\, gear & guides in the shop\, and an eco-fundraiser to support Life Wild & Free. Follow our social media pages for updates.
URL:https://earthartout.com/event/season-reopening-3/
LOCATION:Earth Artisan & Outfitter\, 37 W. Chapel Ave.\, Carlisle\, PA\, 17013\, United States
CATEGORIES:Hours Change
END:VEVENT
BEGIN:VEVENT
DTSTART;TZID=America/New_York:20240203T110000
DTEND;TZID=America/New_York:20240203T160000
DTSTAMP:20260421T015713
CREATED:20230313T191819Z
LAST-MODIFIED:20230315T182451Z
UID:2290-1706958000-1706976000@earthartout.com
SUMMARY:Seasonal Reopening
DESCRIPTION:We reopen for the season during Downtown Carlisle’s IceArtFest 2024. We will have special hours to view our spectacular nature-inspired ice sculpture on the porch\, specials in the shop on our restocked earth-based art\, goods\, gear & guides in the shop\, and an eco-fundraiser to support Life Wild & Free. Follow our social media pages for updates.
URL:https://earthartout.com/event/season-reopening-2/
LOCATION:Earth Artisan & Outfitter\, 37 W. Chapel Ave.\, Carlisle\, PA\, 17013\, United States
CATEGORIES:Hours Change
END:VEVENT
BEGIN:VEVENT
DTSTART;TZID=America/New_York:20240202T110000
DTEND;TZID=America/New_York:20240202T160000
DTSTAMP:20260421T015713
CREATED:20230313T191755Z
LAST-MODIFIED:20230315T182435Z
UID:2288-1706871600-1706889600@earthartout.com
SUMMARY:Seasonal Reopening
DESCRIPTION:We reopen for the season during Downtown Carlisle’s IceArtFest 2024. We will have special hours to view our spectacular nature-inspired ice sculpture on the porch\, specials in the shop on our restocked earth-based art\, goods\, gear & guides in the shop\, and an eco-fundraiser to support Life Wild & Free. Follow our social media pages for updates.
URL:https://earthartout.com/event/season-reopening/
LOCATION:Earth Artisan & Outfitter\, 37 W. Chapel Ave.\, Carlisle\, PA\, 17013\, United States
CATEGORIES:Hours Change
END:VEVENT
BEGIN:VEVENT
DTSTART;VALUE=DATE:20240125
DTEND;VALUE=DATE:20240126
DTSTAMP:20260421T015714
CREATED:20230315T182408Z
LAST-MODIFIED:20230323T144112Z
UID:2350-1706140800-1706227199@earthartout.com
SUMMARY:Full Wolf Moon
DESCRIPTION:One of our favorites\, this moon is named for a time when wolves ran wild and free and their howls could be heard on cold winter nights. As supporters of Life Wild & Free and a healthy balanced ecosystem\, we support wolves\, the epitomy of the wild\, whose intelligence\, sense of humor\, bravery\, fierceness\, and strong family structures are quite similar to humans. If our species were as smart as theirs\, we’d understand what balance\, freedom and the wild in wilderness really mean. Tonight of all nights\, run with the wolves in your spirit. Let your hair down\, dance\, laugh\, play\, then throw back your head and let your voice be heard. Hooooowwwl!
URL:https://earthartout.com/event/full-wolf-moon/
CATEGORIES:Calendar Event
ATTACH;FMTTYPE=image/png:https://earthartout.com/wp-content/uploads/2022/03/Full-Moon.png
END:VEVENT
BEGIN:VEVENT
DTSTART;VALUE=DATE:20240101
DTEND;VALUE=DATE:20240102
DTSTAMP:20260421T015714
CREATED:20230313T191448Z
LAST-MODIFIED:20230315T182250Z
UID:2284-1704067200-1704153599@earthartout.com
SUMMARY:New Years
DESCRIPTION:Good bye 2023\, you were a good year that went way too fast! We greatly appreciate our Earth Friends & Family sharing the journey with us through our 10th year of business and a lifetime of adventure. Stay tuned for what’s coming up in 2024!  \nOur Earth Family New Years Tradition: Filling up the bird feeders\, followed by a nice long hike\, a hearty dinner\, then cuddling in front of the fire for a movie marathon. What do you do?
URL:https://earthartout.com/event/new-years-2/
CATEGORIES:Calendar Event
END:VEVENT
BEGIN:VEVENT
DTSTART;VALUE=DATE:20231226
DTEND;VALUE=DATE:20231227
DTSTAMP:20260421T015714
CREATED:20230313T191340Z
LAST-MODIFIED:20230323T144102Z
UID:2282-1703548800-1703635199@earthartout.com
SUMMARY:Full Cold Moon
DESCRIPTION:The first full moon of winter\, so named for the nip in the air. In PA\, that means bundle up and brace for the chill as you dance\, howl and celebrate the season under the glowing full moon.
URL:https://earthartout.com/event/full-cold-moon/
CATEGORIES:Calendar Event
ATTACH;FMTTYPE=image/png:https://earthartout.com/wp-content/uploads/2022/03/Full-Moon.png
END:VEVENT
BEGIN:VEVENT
DTSTART;VALUE=DATE:20231225
DTEND;VALUE=DATE:20231226
DTSTAMP:20260421T015714
CREATED:20230313T191239Z
LAST-MODIFIED:20230313T191239Z
UID:2280-1703462400-1703548799@earthartout.com
SUMMARY:Christmas
DESCRIPTION:Happy Holidays Everyone! Enjoy the magic of the day! Thank you for your friendship\, support and patronage of The Earth\, The Arts and Life Wild & Free! We look forward to continually inspiring your adventures in 2024!
URL:https://earthartout.com/event/christmas-2/
CATEGORIES:Calendar Event
END:VEVENT
BEGIN:VEVENT
DTSTART;VALUE=DATE:20231224
DTEND;VALUE=DATE:20240203
DTSTAMP:20260421T015714
CREATED:20230313T191621Z
LAST-MODIFIED:20230313T191621Z
UID:2286-1703376000-1706918399@earthartout.com
SUMMARY:Closed for Winter Break
DESCRIPTION:Time to Hibernate! During the coldest\, slowest time of the year when everyone is huddled indoors\, Earth closes for the season to spend time with family\, regroup\, recharge and restock. Please reach out to us if you need information\, resources or would like to place an order or shop by appointment only during this time. We will reopen during IceArtFest weekend in downtown Carlisle. Stay tuned for details and updates on our social media pages and check out our Adventure Blog!
URL:https://earthartout.com/event/closed-for-winter-break/
LOCATION:Earth Artisan & Outfitter\, 37 W. Chapel Ave.\, Carlisle\, PA\, 17013\, United States
CATEGORIES:Hours Change
END:VEVENT
BEGIN:VEVENT
DTSTART;VALUE=DATE:20231224
DTEND;VALUE=DATE:20231225
DTSTAMP:20260421T015714
CREATED:20230313T191143Z
LAST-MODIFIED:20230315T182201Z
UID:2278-1703376000-1703462399@earthartout.com
SUMMARY:Christmas Eve
DESCRIPTION:This is the perfect time for peace & gratitude. Thank you for sharing the journey with us.
URL:https://earthartout.com/event/christmas-eve/
CATEGORIES:Calendar Event
END:VEVENT
BEGIN:VEVENT
DTSTART;TZID=America/New_York:20231223T110000
DTEND;TZID=America/New_York:20231223T160000
DTSTAMP:20260421T015714
CREATED:20230313T191042Z
LAST-MODIFIED:20230323T144048Z
UID:2276-1703329200-1703347200@earthartout.com
SUMMARY:Winter Solstice Celebration
DESCRIPTION:In celebration of the season we cordially invite you to enjoy refreshments and specials in the shop today\, our last day of the season\, as we say thank you for another great year of adventures together.  \nOur seasonal hours will draw to a close at the end of the day today as we take a break to celebrate the season with family\, restock\, recharge\, rejuvenate and hibernate. Be sure to Get Out & Get Here to gather last minute gifts & pick up provisions to carry you through til we meet again in February! Please follow our social media for details.
URL:https://earthartout.com/event/winter-solstice-celebration-7/
LOCATION:Earth Artisan & Outfitter\, 37 W. Chapel Ave.\, Carlisle\, PA\, 17013\, United States
CATEGORIES:Earthy Activity
END:VEVENT
BEGIN:VEVENT
DTSTART;TZID=America/New_York:20231223T110000
DTEND;TZID=America/New_York:20231223T160000
DTSTAMP:20260421T015714
CREATED:20230313T190342Z
LAST-MODIFIED:20230315T181846Z
UID:2264-1703329200-1703347200@earthartout.com
SUMMARY:Earth's Special Holiday Hours
DESCRIPTION:Celebrate the Season by Shopping Small with Earth\, every Thursday\, Friday & Saturday up to Christmas Eve.
URL:https://earthartout.com/event/holiday-open-house-hours-12/
LOCATION:Earth Artisan & Outfitter\, 37 W. Chapel Ave.\, Carlisle\, PA\, 17013\, United States
CATEGORIES:Hours Change
END:VEVENT
BEGIN:VEVENT
DTSTART;TZID=America/New_York:20231222T110000
DTEND;TZID=America/New_York:20231222T160000
DTSTAMP:20260421T015714
CREATED:20230313T191028Z
LAST-MODIFIED:20230323T144039Z
UID:2274-1703242800-1703260800@earthartout.com
SUMMARY:Winter Solstice Celebration
DESCRIPTION:In celebration of the season\, we cordially invite you to enjoy refreshments and specials in the shop\, as we say thank you for another great year of adventures together.  \nOur seasonal hours will draw to a close tomorrow afternoon as we take a break to celebrate the season with family\, restock\, recharge\, rejuvenate and hibernate. Stop by the shop this weekend to gather last minute gifts & pick up provisions to carry you through til we meet again in February! Please follow our social media for details & updates.
URL:https://earthartout.com/event/winter-solstice-celebration-6/
LOCATION:Earth Artisan & Outfitter\, 37 W. Chapel Ave.\, Carlisle\, PA\, 17013\, United States
CATEGORIES:Earthy Activity
END:VEVENT
BEGIN:VEVENT
DTSTART;TZID=America/New_York:20231222T110000
DTEND;TZID=America/New_York:20231222T160000
DTSTAMP:20260421T015714
CREATED:20230313T190330Z
LAST-MODIFIED:20230315T181831Z
UID:2262-1703242800-1703260800@earthartout.com
SUMMARY:Earth's Special Holiday Hours
DESCRIPTION:Celebrate the Season by Shopping Small with Earth\, every Thursday\, Friday & Saturday up to Christmas Eve.
URL:https://earthartout.com/event/holiday-open-house-hours-11/
LOCATION:Earth Artisan & Outfitter\, 37 W. Chapel Ave.\, Carlisle\, PA\, 17013\, United States
CATEGORIES:Hours Change
END:VEVENT
BEGIN:VEVENT
DTSTART;TZID=America/New_York:20231221T110000
DTEND;TZID=America/New_York:20231221T160000
DTSTAMP:20260421T015714
CREATED:20230313T191015Z
LAST-MODIFIED:20230323T144029Z
UID:2272-1703156400-1703174400@earthartout.com
SUMMARY:Winter Solstice Celebration
DESCRIPTION:Winter Solstice is the shortest day & longest night of the year and the start of the winter season. Our favorite Winter Solstice tradition is to fill up the bird feeders and leave treats outside for forest friends and the few hearty wild ones in town\, go for a walk in the woods\, and enter into evening by lighting candles and telling stories.\nIn celebration of the season\, we cordially invite you to enjoy refreshments and specials in the shop\, with a little gift of light during the longest night with every purchase today\, as we say thank you for another great year of adventures together.  \nOur seasonal hours will draw to a close Saturday afternoon as we take a break to celebrate the season with family\, restock\, recharge\, rejuvenate and hibernate. Stop by the shop this weekend to gather last minute gifts & pick up provisions to carry you through til we meet again in February! Please follow our social media for details & updates.
URL:https://earthartout.com/event/winter-solstice-celebration-5/
LOCATION:Earth Artisan & Outfitter\, 37 W. Chapel Ave.\, Carlisle\, PA\, 17013\, United States
CATEGORIES:Earthy Activity
END:VEVENT
BEGIN:VEVENT
DTSTART;TZID=America/New_York:20231221T110000
DTEND;TZID=America/New_York:20231221T160000
DTSTAMP:20260421T015714
CREATED:20230313T190319Z
LAST-MODIFIED:20230315T181811Z
UID:2260-1703156400-1703174400@earthartout.com
SUMMARY:Earth's Special Holiday Hours
DESCRIPTION:Celebrate the Season by Shopping Small with Earth\, every Thursday\, Friday & Saturday up to Christmas Eve.
URL:https://earthartout.com/event/holiday-open-house-hours-10/
LOCATION:Earth Artisan & Outfitter\, 37 W. Chapel Ave.\, Carlisle\, PA\, 17013\, United States
CATEGORIES:Hours Change
END:VEVENT
BEGIN:VEVENT
DTSTART;VALUE=DATE:20231221
DTEND;VALUE=DATE:20231222
DTSTAMP:20260421T015714
CREATED:20230313T190812Z
LAST-MODIFIED:20230323T144017Z
UID:2270-1703116800-1703203199@earthartout.com
SUMMARY:Winter Solstice
DESCRIPTION:Winter Solstice is the shortest day & longest night of the year and the start of the winter season. Our favorite Winter Solstice tradition is to fill up the bird feeders and leave treats outside for forest friends and the few hearty wild ones in town\, go for a walk in the woods\, and enter into evening by lighting candles and telling stories.\nIn celebration of the season\, we cordially invite you to enjoy refreshments and specials in the shop\, with a little gift of light during the longest night with every purchase today\, as we say thank you for another great year of adventures together.  \nOur seasonal hours will draw to a close Saturday afternoon as we take a break to celebrate the season with family\, restock\, recharge\, rejuvenate and hibernate. Stop by the shop this weekend to gather last minute gifts & pick up provisions to carry you through til we meet again in February! Please follow our social media for details & updates.
URL:https://earthartout.com/event/winter-solstice-2/
CATEGORIES:Calendar Event
ATTACH;FMTTYPE=image/png:https://earthartout.com/wp-content/uploads/2021/06/Winter-Solstice-Earth-Artisan-and-Outfitter.png
END:VEVENT
BEGIN:VEVENT
DTSTART;TZID=America/New_York:20231216T110000
DTEND;TZID=America/New_York:20231216T160000
DTSTAMP:20260421T015714
CREATED:20230313T190306Z
LAST-MODIFIED:20230315T181753Z
UID:2258-1702724400-1702742400@earthartout.com
SUMMARY:Earth's Special Holiday Hours
DESCRIPTION:Celebrate the Season by Shopping Small with Earth\, every Thursday\, Friday & Saturday up to Christmas Eve.
URL:https://earthartout.com/event/holiday-open-house-hours-9/
LOCATION:Earth Artisan & Outfitter\, 37 W. Chapel Ave.\, Carlisle\, PA\, 17013\, United States
CATEGORIES:Hours Change
END:VEVENT
BEGIN:VEVENT
DTSTART;TZID=America/New_York:20231215T110000
DTEND;TZID=America/New_York:20231215T160000
DTSTAMP:20260421T015714
CREATED:20230313T190253Z
LAST-MODIFIED:20230315T181737Z
UID:2256-1702638000-1702656000@earthartout.com
SUMMARY:Earth's Special Holiday Hours
DESCRIPTION:Celebrate the Season by Shopping Small with Earth\, every Thursday\, Friday & Saturday up to Christmas Eve.
URL:https://earthartout.com/event/holiday-open-house-hours-8/
LOCATION:Earth Artisan & Outfitter\, 37 W. Chapel Ave.\, Carlisle\, PA\, 17013\, United States
CATEGORIES:Hours Change
END:VEVENT
BEGIN:VEVENT
DTSTART;TZID=America/New_York:20231214T110000
DTEND;TZID=America/New_York:20231214T160000
DTSTAMP:20260421T015714
CREATED:20230313T190242Z
LAST-MODIFIED:20230315T181723Z
UID:2254-1702551600-1702569600@earthartout.com
SUMMARY:Earth's Special Holiday Hours
DESCRIPTION:Celebrate the Season by Shopping Small with Earth\, every Thursday\, Friday & Saturday up to Christmas Eve.
URL:https://earthartout.com/event/holiday-open-house-hours-7/
LOCATION:Earth Artisan & Outfitter\, 37 W. Chapel Ave.\, Carlisle\, PA\, 17013\, United States
CATEGORIES:Hours Change
END:VEVENT
BEGIN:VEVENT
DTSTART;TZID=America/New_York:20231209T110000
DTEND;TZID=America/New_York:20231209T160000
DTSTAMP:20260421T015714
CREATED:20230313T190229Z
LAST-MODIFIED:20230315T181708Z
UID:2252-1702119600-1702137600@earthartout.com
SUMMARY:Earth's Special Holiday Hours
DESCRIPTION:Celebrate the Season by Shopping Small with Earth\, every Thursday\, Friday & Saturday up to Christmas Eve.
URL:https://earthartout.com/event/holiday-open-house-hours-6/
LOCATION:Earth Artisan & Outfitter\, 37 W. Chapel Ave.\, Carlisle\, PA\, 17013\, United States
CATEGORIES:Hours Change
END:VEVENT
BEGIN:VEVENT
DTSTART;TZID=America/New_York:20231208T110000
DTEND;TZID=America/New_York:20231208T160000
DTSTAMP:20260421T015714
CREATED:20230313T190217Z
LAST-MODIFIED:20230315T181653Z
UID:2250-1702033200-1702051200@earthartout.com
SUMMARY:Earth's Special Holiday Hours
DESCRIPTION:Celebrate the Season by Shopping Small with Earth\, every Thursday\, Friday & Saturday up to Christmas Eve.
URL:https://earthartout.com/event/holiday-open-house-hours-5/
LOCATION:Earth Artisan & Outfitter\, 37 W. Chapel Ave.\, Carlisle\, PA\, 17013\, United States
CATEGORIES:Hours Change
END:VEVENT
END:VCALENDAR