BEGIN:VCALENDAR
VERSION:2.0
PRODID:-//Earth Artisan &amp; Outfitter - ECPv6.0.11//NONSGML v1.0//EN
CALSCALE:GREGORIAN
METHOD:PUBLISH
X-WR-CALNAME:Earth Artisan &amp; Outfitter
X-ORIGINAL-URL:https://earthartout.com
X-WR-CALDESC:Events for Earth Artisan &amp; Outfitter
REFRESH-INTERVAL;VALUE=DURATION:PT1H
X-Robots-Tag:noindex
X-PUBLISHED-TTL:PT1H
BEGIN:VTIMEZONE
TZID:America/New_York
BEGIN:DAYLIGHT
TZOFFSETFROM:-0500
TZOFFSETTO:-0400
TZNAME:EDT
DTSTART:20230312T070000
END:DAYLIGHT
BEGIN:STANDARD
TZOFFSETFROM:-0400
TZOFFSETTO:-0500
TZNAME:EST
DTSTART:20231105T060000
END:STANDARD
END:VTIMEZONE
BEGIN:VEVENT
DTSTART;VALUE=DATE:20231221
DTEND;VALUE=DATE:20231222
DTSTAMP:20260421T051641
CREATED:20230313T190812Z
LAST-MODIFIED:20230323T144017Z
UID:2270-1703116800-1703203199@earthartout.com
SUMMARY:Winter Solstice
DESCRIPTION:Winter Solstice is the shortest day & longest night of the year and the start of the winter season. Our favorite Winter Solstice tradition is to fill up the bird feeders and leave treats outside for forest friends and the few hearty wild ones in town\, go for a walk in the woods\, and enter into evening by lighting candles and telling stories.\nIn celebration of the season\, we cordially invite you to enjoy refreshments and specials in the shop\, with a little gift of light during the longest night with every purchase today\, as we say thank you for another great year of adventures together.  \nOur seasonal hours will draw to a close Saturday afternoon as we take a break to celebrate the season with family\, restock\, recharge\, rejuvenate and hibernate. Stop by the shop this weekend to gather last minute gifts & pick up provisions to carry you through til we meet again in February! Please follow our social media for details & updates.
URL:https://earthartout.com/event/winter-solstice-2/
LOCATION:PA
CATEGORIES:Calendar Event
ATTACH;FMTTYPE=image/png:https://earthartout.com/wp-content/uploads/2021/06/Winter-Solstice-Earth-Artisan-and-Outfitter.png
END:VEVENT
BEGIN:VEVENT
DTSTART;TZID=America/New_York:20231216T110000
DTEND;TZID=America/New_York:20231216T160000
DTSTAMP:20260421T051642
CREATED:20230313T190306Z
LAST-MODIFIED:20230315T181753Z
UID:2258-1702724400-1702742400@earthartout.com
SUMMARY:Earth's Special Holiday Hours
DESCRIPTION:Celebrate the Season by Shopping Small with Earth\, every Thursday\, Friday & Saturday up to Christmas Eve.
URL:https://earthartout.com/event/holiday-open-house-hours-9/
LOCATION:Earth Artisan & Outfitter\, 37 W. Chapel Ave.\, Carlisle\, PA\, 17013\, United States
CATEGORIES:Hours Change
END:VEVENT
BEGIN:VEVENT
DTSTART;TZID=America/New_York:20231215T110000
DTEND;TZID=America/New_York:20231215T160000
DTSTAMP:20260421T051642
CREATED:20230313T190253Z
LAST-MODIFIED:20230315T181737Z
UID:2256-1702638000-1702656000@earthartout.com
SUMMARY:Earth's Special Holiday Hours
DESCRIPTION:Celebrate the Season by Shopping Small with Earth\, every Thursday\, Friday & Saturday up to Christmas Eve.
URL:https://earthartout.com/event/holiday-open-house-hours-8/
LOCATION:Earth Artisan & Outfitter\, 37 W. Chapel Ave.\, Carlisle\, PA\, 17013\, United States
CATEGORIES:Hours Change
END:VEVENT
BEGIN:VEVENT
DTSTART;TZID=America/New_York:20231214T110000
DTEND;TZID=America/New_York:20231214T160000
DTSTAMP:20260421T051642
CREATED:20230313T190242Z
LAST-MODIFIED:20230315T181723Z
UID:2254-1702551600-1702569600@earthartout.com
SUMMARY:Earth's Special Holiday Hours
DESCRIPTION:Celebrate the Season by Shopping Small with Earth\, every Thursday\, Friday & Saturday up to Christmas Eve.
URL:https://earthartout.com/event/holiday-open-house-hours-7/
LOCATION:Earth Artisan & Outfitter\, 37 W. Chapel Ave.\, Carlisle\, PA\, 17013\, United States
CATEGORIES:Hours Change
END:VEVENT
BEGIN:VEVENT
DTSTART;TZID=America/New_York:20231209T110000
DTEND;TZID=America/New_York:20231209T160000
DTSTAMP:20260421T051642
CREATED:20230313T190229Z
LAST-MODIFIED:20230315T181708Z
UID:2252-1702119600-1702137600@earthartout.com
SUMMARY:Earth's Special Holiday Hours
DESCRIPTION:Celebrate the Season by Shopping Small with Earth\, every Thursday\, Friday & Saturday up to Christmas Eve.
URL:https://earthartout.com/event/holiday-open-house-hours-6/
LOCATION:Earth Artisan & Outfitter\, 37 W. Chapel Ave.\, Carlisle\, PA\, 17013\, United States
CATEGORIES:Hours Change
END:VEVENT
BEGIN:VEVENT
DTSTART;TZID=America/New_York:20231208T110000
DTEND;TZID=America/New_York:20231208T160000
DTSTAMP:20260421T051642
CREATED:20230313T190217Z
LAST-MODIFIED:20230315T181653Z
UID:2250-1702033200-1702051200@earthartout.com
SUMMARY:Earth's Special Holiday Hours
DESCRIPTION:Celebrate the Season by Shopping Small with Earth\, every Thursday\, Friday & Saturday up to Christmas Eve.
URL:https://earthartout.com/event/holiday-open-house-hours-5/
LOCATION:Earth Artisan & Outfitter\, 37 W. Chapel Ave.\, Carlisle\, PA\, 17013\, United States
CATEGORIES:Hours Change
END:VEVENT
BEGIN:VEVENT
DTSTART;TZID=America/New_York:20231207T110000
DTEND;TZID=America/New_York:20231207T160000
DTSTAMP:20260421T051642
CREATED:20230313T190204Z
LAST-MODIFIED:20230315T181638Z
UID:2248-1701946800-1701964800@earthartout.com
SUMMARY:Earth's Special Holiday Hours
DESCRIPTION:Celebrate the Season by Shopping Small with Earth\, every Thursday\, Friday & Saturday up to Christmas Eve.
URL:https://earthartout.com/event/holiday-open-house-hours-4/
LOCATION:Earth Artisan & Outfitter\, 37 W. Chapel Ave.\, Carlisle\, PA\, 17013\, United States
CATEGORIES:Hours Change
END:VEVENT
BEGIN:VEVENT
DTSTART;VALUE=DATE:20231207
DTEND;VALUE=DATE:20231208
DTSTAMP:20260421T051642
CREATED:20230313T190610Z
LAST-MODIFIED:20230313T190610Z
UID:2268-1701907200-1701993599@earthartout.com
SUMMARY:Remembrance Day
DESCRIPTION:
URL:https://earthartout.com/event/remembrance-day/
LOCATION:PA
CATEGORIES:Calendar Event
END:VEVENT
BEGIN:VEVENT
DTSTART;VALUE=DATE:20231207
DTEND;VALUE=DATE:20231208
DTSTAMP:20260421T051642
CREATED:20230313T190528Z
LAST-MODIFIED:20230313T190528Z
UID:2266-1701907200-1701993599@earthartout.com
SUMMARY:Chanukah Begins
DESCRIPTION:
URL:https://earthartout.com/event/chanukah-begins/
LOCATION:PA
CATEGORIES:Calendar Event
END:VEVENT
BEGIN:VEVENT
DTSTART;TZID=America/New_York:20231202T110000
DTEND;TZID=America/New_York:20231202T160000
DTSTAMP:20260421T051642
CREATED:20230313T190138Z
LAST-MODIFIED:20230315T181622Z
UID:2246-1701514800-1701532800@earthartout.com
SUMMARY:Earth's Special Holiday Hours
DESCRIPTION:Celebrate the Season by Shopping Small with Earth\, every Thursday\, Friday & Saturday up to Christmas Eve.
URL:https://earthartout.com/event/holiday-open-house-hours-3/
LOCATION:Earth Artisan & Outfitter\, 37 W. Chapel Ave.\, Carlisle\, PA\, 17013\, United States
CATEGORIES:Hours Change
END:VEVENT
BEGIN:VEVENT
DTSTART;TZID=America/New_York:20231201T110000
DTEND;TZID=America/New_York:20231201T160000
DTSTAMP:20260421T051642
CREATED:20230313T190125Z
LAST-MODIFIED:20230315T181605Z
UID:2244-1701428400-1701446400@earthartout.com
SUMMARY:Earth's Special Holiday Hours
DESCRIPTION:Celebrate the Season by Shopping Small with Earth\, every Thursday\, Friday & Saturday up to Christmas Eve.
URL:https://earthartout.com/event/holiday-open-house-hours-2/
LOCATION:Earth Artisan & Outfitter\, 37 W. Chapel Ave.\, Carlisle\, PA\, 17013\, United States
CATEGORIES:Hours Change
END:VEVENT
BEGIN:VEVENT
DTSTART;TZID=America/New_York:20231130T110000
DTEND;TZID=America/New_York:20231130T160000
DTSTAMP:20260421T051642
CREATED:20230313T190056Z
LAST-MODIFIED:20230315T181546Z
UID:2242-1701342000-1701360000@earthartout.com
SUMMARY:Earth's Special Holiday Hours
DESCRIPTION:Celebrate the Season by Shopping Small with Earth\, every Thursday\, Friday & Saturday up to Christmas Eve.
URL:https://earthartout.com/event/holiday-open-house-hours/
LOCATION:Earth Artisan & Outfitter\, 37 W. Chapel Ave.\, Carlisle\, PA\, 17013\, United States
CATEGORIES:Hours Change
END:VEVENT
BEGIN:VEVENT
DTSTART;VALUE=DATE:20231130
DTEND;VALUE=DATE:20231201
DTSTAMP:20260421T051642
CREATED:20230315T181430Z
LAST-MODIFIED:20230315T181440Z
UID:2325-1701302400-1701388799@earthartout.com
SUMMARY:Holiday Hours Begin Today!
DESCRIPTION:Celebrate the Season by Shopping Small with Earth\, every Thursday\, Friday & Saturday up to Christmas Eve. \nThis is the ultimate time to support small businesses everywhere\, including Earth Artisan & Outfitter. We will have extended hours and specials in the shop to say thank you to our awesome customers for your continual friendship\, support & patronage over the past 8 years! This is also the perfect opportunity to Shop Small for all of your holiday gifts at Earth\, we have something for every earthy elf on your list! And don’t forget to start filling out your Earth Wish List while you’re here! Stay tuned for details and updates on our social media pages!
URL:https://earthartout.com/event/holiday-hours-begin-today/
LOCATION:Earth Artisan & Outfitter\, 37 W. Chapel Ave.\, Carlisle\, PA\, 17013\, United States
CATEGORIES:Hours Change
END:VEVENT
BEGIN:VEVENT
DTSTART;VALUE=DATE:20231127
DTEND;VALUE=DATE:20231128
DTSTAMP:20260421T051642
CREATED:20230313T185457Z
LAST-MODIFIED:20230323T143900Z
UID:2240-1701043200-1701129599@earthartout.com
SUMMARY:Full Beaver Moon
DESCRIPTION:Dance\, howl and celebrate Life outside in the moonlight! Look to nature and the beavers who are busy building their lodges during this time for inspiration on being creative and productive!
URL:https://earthartout.com/event/full-beaver-moon/
LOCATION:PA
CATEGORIES:Calendar Event
ATTACH;FMTTYPE=image/png:https://earthartout.com/wp-content/uploads/2022/03/Full-Moon.png
END:VEVENT
BEGIN:VEVENT
DTSTART;TZID=America/New_York:20231126T120000
DTEND;TZID=America/New_York:20231126T160000
DTSTAMP:20260421T051642
CREATED:20230313T185353Z
LAST-MODIFIED:20230323T144000Z
UID:2238-1701000000-1701014400@earthartout.com
SUMMARY:Small Business Weekend
DESCRIPTION:There’s only 2 Sundays a year we’re open and today is one of them. Don’t miss it\, Get Out & Get Here!
URL:https://earthartout.com/event/small-business-weekend-7/
LOCATION:Earth Artisan & Outfitter\, 37 W. Chapel Ave.\, Carlisle\, PA\, 17013\, United States
CATEGORIES:Earthy Activity
END:VEVENT
BEGIN:VEVENT
DTSTART;TZID=America/New_York:20231125T110000
DTEND;TZID=America/New_York:20231125T160000
DTSTAMP:20260421T051642
CREATED:20230313T185338Z
LAST-MODIFIED:20230323T143955Z
UID:2236-1700910000-1700928000@earthartout.com
SUMMARY:Small Business Weekend
DESCRIPTION:Saturday Special Extended Hours & Specials In The Shop from 10 am – 6 pm in celebration and thanks for you\, our Earth Friends\, family & patrons over the past decade!
URL:https://earthartout.com/event/small-business-weekend-6/
LOCATION:Earth Artisan & Outfitter\, 37 W. Chapel Ave.\, Carlisle\, PA\, 17013\, United States
CATEGORIES:Earthy Activity
END:VEVENT
BEGIN:VEVENT
DTSTART;TZID=America/New_York:20231124T110000
DTEND;TZID=America/New_York:20231124T160000
DTSTAMP:20260421T051642
CREATED:20230313T185315Z
LAST-MODIFIED:20230323T143950Z
UID:2234-1700823600-1700841600@earthartout.com
SUMMARY:Small Business Weekend
DESCRIPTION:This is the ultimate time to support small businesses everywhere\, including Earth Artisan & Outfitter. We will have extended hours and specials in the shop to say thank you to our awesome customers for your continual friendship\, support & patronage over the past 8 years! This is also the perfect opportunity to Shop Small for all of your holiday gifts at Earth\, we have something for every earthy elf on your list! And don’t forget to start filling out your Earth Wish List while you’re here! Stay tuned for details and updates on our social media pages!
URL:https://earthartout.com/event/small-business-weekend-5/
LOCATION:Earth Artisan & Outfitter\, 37 W. Chapel Ave.\, Carlisle\, PA\, 17013\, United States
CATEGORIES:Calendar Event
END:VEVENT
BEGIN:VEVENT
DTSTART;VALUE=DATE:20231123
DTEND;VALUE=DATE:20231124
DTSTAMP:20260421T051642
CREATED:20230313T183509Z
LAST-MODIFIED:20230313T183509Z
UID:2232-1700697600-1700783999@earthartout.com
SUMMARY:Thanksgiving
DESCRIPTION:Give thanks for the bounty of Life! Thank you for your friendship\, support and patronage of The Earth\, The Arts and Life Wild & Free!
URL:https://earthartout.com/event/thanksgiving/
LOCATION:PA
CATEGORIES:Calendar Event
END:VEVENT
BEGIN:VEVENT
DTSTART;VALUE=DATE:20231120
DTEND;VALUE=DATE:20231121
DTSTAMP:20260421T051642
CREATED:20230313T182642Z
LAST-MODIFIED:20230315T181128Z
UID:2229-1700438400-1700524799@earthartout.com
SUMMARY:Child's Day
DESCRIPTION:Today we acknowledge the little ones\, from babes to teenagers\, assuring their rights and that their voices are heard.
URL:https://earthartout.com/event/national-child-day/
LOCATION:PA
CATEGORIES:Calendar Event
END:VEVENT
BEGIN:VEVENT
DTSTART;VALUE=DATE:20231105
DTEND;VALUE=DATE:20231106
DTSTAMP:20260421T051642
CREATED:20230313T182551Z
LAST-MODIFIED:20230315T181110Z
UID:2227-1699142400-1699228799@earthartout.com
SUMMARY:Fall Back: Daylight Savings Time
DESCRIPTION:Like “springing forward\,” this is a completely unnecessary tradition that we wish would go away. However\, until this man-ipulated time is abolished\, enjoy an extra hour of sleep\, til Spring. In between\, notice Mother Nature has her own rhythms\, and ours are quite in tune with hers in mind\, body & spirit as she changes naturally with the seasons.
URL:https://earthartout.com/event/fall-back-daylight-savings-time-2/
LOCATION:PA
CATEGORIES:Calendar Event
END:VEVENT
BEGIN:VEVENT
DTSTART;VALUE=DATE:20231031
DTEND;VALUE=DATE:20231101
DTSTAMP:20260421T051642
CREATED:20230313T182451Z
LAST-MODIFIED:20230315T181037Z
UID:2225-1698710400-1698796799@earthartout.com
SUMMARY:Halloween
DESCRIPTION:A tradition that goes back thousands of years to the ancient Celts\, we wish you all a safe and spooky\, as you light jack-o-lanterns and dance between the world’s of living & spirit.
URL:https://earthartout.com/event/halloween/
LOCATION:PA
CATEGORIES:Calendar Event
END:VEVENT
BEGIN:VEVENT
DTSTART;VALUE=DATE:20231028
DTEND;VALUE=DATE:20231029
DTSTAMP:20260421T051642
CREATED:20230313T182358Z
LAST-MODIFIED:20230323T143850Z
UID:2223-1698451200-1698537599@earthartout.com
SUMMARY:Partial Lunar Eclipse
DESCRIPTION:
URL:https://earthartout.com/event/partial-lunar-eclipse/
LOCATION:PA
CATEGORIES:Calendar Event
END:VEVENT
BEGIN:VEVENT
DTSTART;VALUE=DATE:20231028
DTEND;VALUE=DATE:20231029
DTSTAMP:20260421T051642
CREATED:20230313T182301Z
LAST-MODIFIED:20230323T143843Z
UID:2221-1698451200-1698537599@earthartout.com
SUMMARY:Full Hunter's Moon
DESCRIPTION:Dance\, howl and celebrate Life outside in the moonlight!
URL:https://earthartout.com/event/full-hunters-moon/
LOCATION:PA
CATEGORIES:Calendar Event
ATTACH;FMTTYPE=image/png:https://earthartout.com/wp-content/uploads/2022/03/Full-Moon.png
END:VEVENT
BEGIN:VEVENT
DTSTART;VALUE=DATE:20231024
DTEND;VALUE=DATE:20231025
DTSTAMP:20260421T051642
CREATED:20230313T182141Z
LAST-MODIFIED:20230315T181016Z
UID:2219-1698105600-1698191999@earthartout.com
SUMMARY:United Nations Day
DESCRIPTION:Started in 1947\, a day to celebrate diversity and unity.
URL:https://earthartout.com/event/united-nations-day/
LOCATION:PA
CATEGORIES:Calendar Event
END:VEVENT
BEGIN:VEVENT
DTSTART;VALUE=DATE:20231014
DTEND;VALUE=DATE:20231015
DTSTAMP:20260421T051642
CREATED:20230313T182046Z
LAST-MODIFIED:20230323T143835Z
UID:2217-1697241600-1697327999@earthartout.com
SUMMARY:Solar Eclipse
DESCRIPTION:
URL:https://earthartout.com/event/solar-eclipse/
LOCATION:PA
CATEGORIES:Calendar Event
END:VEVENT
BEGIN:VEVENT
DTSTART;VALUE=DATE:20231012
DTEND;VALUE=DATE:20231013
DTSTAMP:20260421T051642
CREATED:20230313T181959Z
LAST-MODIFIED:20230315T180951Z
UID:2215-1697068800-1697155199@earthartout.com
SUMMARY:National Farmer's Day
DESCRIPTION:We honor and celebrate all who grow their own\, and those who grow for all to share. Thank you for upholding diversity\, sustainable\, clean\, safe\, healthy & humane practices that are respectful to all aspects of life on our planet.
URL:https://earthartout.com/event/national-farmers-day/
LOCATION:PA
CATEGORIES:Calendar Event
END:VEVENT
BEGIN:VEVENT
DTSTART;VALUE=DATE:20231009
DTEND;VALUE=DATE:20231010
DTSTAMP:20260421T051642
CREATED:20230313T181903Z
LAST-MODIFIED:20230313T181903Z
UID:2213-1696809600-1696895999@earthartout.com
SUMMARY:Indigenous People’s Day
DESCRIPTION:Honoring indigenous peoples of the Americas. This is the perfect opportunity to listen\, learn and honor the original inhabitants of this land.
URL:https://earthartout.com/event/indigenous-peoples-day-2/
LOCATION:PA
CATEGORIES:Calendar Event
END:VEVENT
BEGIN:VEVENT
DTSTART;VALUE=DATE:20230929
DTEND;VALUE=DATE:20230930
DTSTAMP:20260421T051642
CREATED:20230313T181726Z
LAST-MODIFIED:20230323T143819Z
UID:2211-1695945600-1696031999@earthartout.com
SUMMARY:Full Harvest Moon
DESCRIPTION:Dance\, howl and celebrate Life outside in the moonlight! Count your blessings as you harvest the bounty of the season.
URL:https://earthartout.com/event/full-harvest-moon/
LOCATION:PA
CATEGORIES:Calendar Event
ATTACH;FMTTYPE=image/png:https://earthartout.com/wp-content/uploads/2022/03/Full-Moon.png
END:VEVENT
BEGIN:VEVENT
DTSTART;TZID=America/New_York:20230923T110000
DTEND;TZID=America/New_York:20230923T160000
DTSTAMP:20260421T051642
CREATED:20230313T181620Z
LAST-MODIFIED:20230323T143808Z
UID:2209-1695466800-1695484800@earthartout.com
SUMMARY:Harvest of the Arts
DESCRIPTION:A Downtown Carlisle Association event that takes place on High St in downtown Carlisle. But be sure to Shop Small & Local and Harvest The Arts at Earth Artisan & Outfitter! We will have specials on all of our awesome earth-based fine art\, photography and limited edition prints created while on adventure in the great wide yonder. Stay tuned to our social media pages for details!
URL:https://earthartout.com/event/harvest-of-the-arts-2/
LOCATION:Earth Artisan & Outfitter\, 37 W. Chapel Ave.\, Carlisle\, PA\, 17013\, United States
CATEGORIES:Earthy Activity
END:VEVENT
BEGIN:VEVENT
DTSTART;VALUE=DATE:20230923
DTEND;VALUE=DATE:20230924
DTSTAMP:20260421T051642
CREATED:20230313T181523Z
LAST-MODIFIED:20230313T181523Z
UID:2207-1695427200-1695513599@earthartout.com
SUMMARY:Autumn Equinox
DESCRIPTION:As the sun is heading south\, the air is turning crisp and days will start to get shorter. Celebrate the harvest\, give thanks for the bounty of the season and starting saving reserves for the approaching long winter.
URL:https://earthartout.com/event/autumn-equinox-3/
LOCATION:PA
CATEGORIES:Calendar Event
END:VEVENT
END:VCALENDAR