BEGIN:VCALENDAR
VERSION:2.0
PRODID:-//Earth Artisan &amp; Outfitter - ECPv6.0.11//NONSGML v1.0//EN
CALSCALE:GREGORIAN
METHOD:PUBLISH
X-WR-CALNAME:Earth Artisan &amp; Outfitter
X-ORIGINAL-URL:https://earthartout.com
X-WR-CALDESC:Events for Earth Artisan &amp; Outfitter
REFRESH-INTERVAL;VALUE=DURATION:PT1H
X-Robots-Tag:noindex
X-PUBLISHED-TTL:PT1H
BEGIN:VTIMEZONE
TZID:America/New_York
BEGIN:DAYLIGHT
TZOFFSETFROM:-0500
TZOFFSETTO:-0400
TZNAME:EDT
DTSTART:20230312T070000
END:DAYLIGHT
BEGIN:STANDARD
TZOFFSETFROM:-0400
TZOFFSETTO:-0500
TZNAME:EST
DTSTART:20231105T060000
END:STANDARD
END:VTIMEZONE
BEGIN:VEVENT
DTSTART;TZID=America/New_York:20230405T130000
DTEND;TZID=America/New_York:20230405T170000
DTSTAMP:20260420T103644
CREATED:20230315T175920Z
LAST-MODIFIED:20230315T175920Z
UID:2294-1680699600-1680714000@earthartout.com
SUMMARY:Special Hours!
DESCRIPTION:Special Hours! Wednesday April 5 from 1-5 & Thursday April 6 from 12-4. Pickup provisions now for the long holiday weekend! Earth will be closed April 7 & 8.
URL:https://earthartout.com/event/special-hours/
LOCATION:Earth Artisan & Outfitter\, 37 W. Chapel Ave.\, Carlisle\, PA\, 17013\, United States
CATEGORIES:Hours Change
END:VEVENT
BEGIN:VEVENT
DTSTART;VALUE=DATE:20230406
DTEND;VALUE=DATE:20230407
DTSTAMP:20260420T103644
CREATED:20230313T164648Z
LAST-MODIFIED:20230323T143414Z
UID:2120-1680739200-1680825599@earthartout.com
SUMMARY:Full Pink Moon
DESCRIPTION:The first full moon of Spring\, this is a time to dance in the moonlight under the pink blossoms of the cherry trees. Swirl\, dance\, and set your howling heart free as petals cascade all around!
URL:https://earthartout.com/event/full-pink-moon/
LOCATION:PA
CATEGORIES:Calendar Event
ATTACH;FMTTYPE=image/png:https://earthartout.com/wp-content/uploads/2022/03/Full-Moon.png
END:VEVENT
BEGIN:VEVENT
DTSTART;TZID=America/New_York:20230406T120000
DTEND;TZID=America/New_York:20230406T160000
DTSTAMP:20260420T103644
CREATED:20230315T175948Z
LAST-MODIFIED:20230315T175948Z
UID:2296-1680782400-1680796800@earthartout.com
SUMMARY:Special Hours!
DESCRIPTION:Special Hours! Wednesday April 5 from 1-5 & Thursday April 6 from 12-4. Pickup provisions now for the long holiday weekend! Earth will be closed April 7 & 8.
URL:https://earthartout.com/event/special-hours-2/
LOCATION:Earth Artisan & Outfitter\, 37 W. Chapel Ave.\, Carlisle\, PA\, 17013\, United States
CATEGORIES:Hours Change
END:VEVENT
BEGIN:VEVENT
DTSTART;VALUE=DATE:20230407
DTEND;VALUE=DATE:20230408
DTSTAMP:20260420T103644
CREATED:20230313T164838Z
LAST-MODIFIED:20230313T164953Z
UID:2124-1680825600-1680911999@earthartout.com
SUMMARY:Closed for Easter Holiday
DESCRIPTION:
URL:https://earthartout.com/event/closed-for-easter-holiday/
LOCATION:Earth Artisan & Outfitter\, 37 W. Chapel Ave.\, Carlisle\, PA\, 17013\, United States
CATEGORIES:Hours Change
END:VEVENT
BEGIN:VEVENT
DTSTART;VALUE=DATE:20230408
DTEND;VALUE=DATE:20230409
DTSTAMP:20260420T103644
CREATED:20230313T164905Z
LAST-MODIFIED:20230313T164934Z
UID:2126-1680912000-1680998399@earthartout.com
SUMMARY:Closed for Easter Holiday
DESCRIPTION:
URL:https://earthartout.com/event/closed-for-easter-holiday-2/
LOCATION:Earth Artisan & Outfitter\, 37 W. Chapel Ave.\, Carlisle\, PA\, 17013\, United States
CATEGORIES:Hours Change
END:VEVENT
BEGIN:VEVENT
DTSTART;VALUE=DATE:20230409
DTEND;VALUE=DATE:20230410
DTSTAMP:20260420T103644
CREATED:20230313T164748Z
LAST-MODIFIED:20230313T164748Z
UID:2122-1680998400-1681084799@earthartout.com
SUMMARY:Easter
DESCRIPTION:
URL:https://earthartout.com/event/easter/
LOCATION:PA
CATEGORIES:Calendar Event
END:VEVENT
BEGIN:VEVENT
DTSTART;VALUE=DATE:20230422
DTEND;VALUE=DATE:20230423
DTSTAMP:20260420T103644
CREATED:20230313T165137Z
LAST-MODIFIED:20230313T171453Z
UID:2128-1682121600-1682207999@earthartout.com
SUMMARY:Earth Day
DESCRIPTION:A global event to honor Mother Earth and her natural resources. There are many amazing things happening globally & locally to celebrate the planet we call home. Stay tuned to our social media pages for more info and check out world wide event listings and resources at earthday.org.
URL:https://earthartout.com/event/earth-day-2/
LOCATION:PA
CATEGORIES:Calendar Event
ATTACH;FMTTYPE=image/png:https://earthartout.com/wp-content/uploads/2023/03/Earth-Day-Small.png
END:VEVENT
BEGIN:VEVENT
DTSTART;TZID=America/New_York:20230422T130000
DTEND;TZID=America/New_York:20230422T160000
DTSTAMP:20260420T103644
CREATED:20230313T165233Z
LAST-MODIFIED:20230323T143450Z
UID:2130-1682168400-1682179200@earthartout.com
SUMMARY:Earth Day Celebration
DESCRIPTION:Join us for an adventure as we Celebrate The Earth\, The Arts and Life Wild & Free on Earth Day at Earth Artisan & Outfitter! Enjoy an afternoon outside with eco-educators & earth-based organizations\, learning\, growing & sharing together\, discovering ways to live & adventure mindfully connected to the planet at home\, on the water\, in the garden & on the trail. \nSaturday April 22 from 1-4 pm\, rain or shine. In the borough parking lots outside of a Earth Artisan & Outfitter\, located at West 37 Chapel Ave in the wilds of historic downtown Carlisle\, PA. This even is free & family friendly. All are welcome! \nThe shop will also be open from 11-4\, with specials on our earth-based art\, goods\, gear & guides\, as well as giveaways and raffles. \nStay tuned for details on Facebook\, @earthartisanourfitter and earthartout.com. \nThank you for celebrating & supporting life on our planet today & every day!
URL:https://earthartout.com/event/earth-day-celebration-2/
LOCATION:Earth Artisan & Outfitter\, 37 W. Chapel Ave.\, Carlisle\, PA\, 17013\, United States
CATEGORIES:Earthy Activity
ATTACH;FMTTYPE=image/png:https://earthartout.com/wp-content/uploads/2023/03/Earth-Day-Large.png
END:VEVENT
BEGIN:VEVENT
DTSTART;VALUE=DATE:20230428
DTEND;VALUE=DATE:20230429
DTSTAMP:20260420T103644
CREATED:20230313T170811Z
LAST-MODIFIED:20230313T172501Z
UID:2132-1682640000-1682726399@earthartout.com
SUMMARY:Arbor Day
DESCRIPTION:Did you know Pennsylvania’s state tree is the Eastern Hemlock? Go find one and hug it! Say thank you to all the trees for their life sustaining ways: clean air\, shade\, shelter\, habitat\, erosion control and so much more! Learn more about trees and Arbor Day at arborday.org. Have questions about trees? Ask Earth Artisan & Outfitters resident ISA Certified Arborist Kenny Miller. This weekend: gather tree guides\, journals\, and sustainably harvested tree branch colored pencils at Earth to document your new relationship with nature! SALE on all remaining Arbor Day & Tree In A Box planting kits! Stay tuned for details on Earth Artisan & Outfitters Arbor Day Tree Sale on our social media pages!
URL:https://earthartout.com/event/arbor-day-2/
LOCATION:PA
CATEGORIES:Calendar Event
END:VEVENT
BEGIN:VEVENT
DTSTART;TZID=America/New_York:20230428T110000
DTEND;TZID=America/New_York:20230428T160000
DTSTAMP:20260420T103644
CREATED:20230313T172633Z
LAST-MODIFIED:20230323T143508Z
UID:2143-1682679600-1682697600@earthartout.com
SUMMARY:Arbor Day Celebration
DESCRIPTION:Arbor Day is a nationally recognized day to celebrate the trees. Did you know Pennsylvania’s state tree is the Eastern Hemlock? Go find one and hug it! Say thank you to all the trees for their life sustaining ways: clean air\, shade\, shelter\, habitat\, erosion control and so much more! Learn more about trees and Arbor Day at arborday.org. This weekend: gather tree guides\, journals\, and sustainably harvested tree branch pencils at Earth to document your new relationship with nature!
URL:https://earthartout.com/event/celebrate-the-trees-3/
LOCATION:Earth Artisan & Outfitter\, 37 W. Chapel Ave.\, Carlisle\, PA\, 17013\, United States
CATEGORIES:Earthy Activity
END:VEVENT
BEGIN:VEVENT
DTSTART;TZID=America/New_York:20230429T110000
DTEND;TZID=America/New_York:20230429T160000
DTSTAMP:20260420T103644
CREATED:20230315T180319Z
LAST-MODIFIED:20230323T143513Z
UID:2300-1682766000-1682784000@earthartout.com
SUMMARY:Arbor Day Celebration
DESCRIPTION:Calling all tree huggers! Celebrate the trees today\, and let Earth lead the way! Say thank you to all the trees for their life sustaining ways: clean air\, shade\, shelter\, habitat\, erosion control and so much more! Learn more about trees and Arbor Day at arborday.org. Gather tree guides\, journals\, and sustainably harvested tree branch pencils at Earth to document your new relationship with nature! Have questions about trees? Ask Earth Artisan & Outfitters resident ISA Certified Arborist Kenny Miller.
URL:https://earthartout.com/event/arbor-day-celebration/
LOCATION:Earth Artisan & Outfitter\, 37 W. Chapel Ave.\, Carlisle\, PA\, 17013\, United States
CATEGORIES:Earthy Activity
END:VEVENT
END:VCALENDAR